BEGIN:VCALENDAR
VERSION:2.0
PRODID:-//TJ Sokol Újezd u Brna90654//NONSGML kigkonsult.se iCalcreator 2.41.80//
CALSCALE:GREGORIAN
UID:33396230-3933-4630-b433-633965326235
BEGIN:VEVENT
UID:38386337-3363-4936-b335-363731363833
DTSTAMP:20260422T033942Z
DESCRIPTION:3/14 Újezd u Brna - VS Vydry Drásov 1:3 (15\,-14\,-22\,-11)
DTSTART;TZID=Europe/Berlin:20251011T090000
DTEND;TZID=Europe/Berlin:20251011T110000
LOCATION:Multifunkční sportovní hala\, Sportovní 1128 Újezd u Brna
SUMMARY:JM-Z-1: Újezd u Brna-VS Vydry Drásov
END:VEVENT
BEGIN:VEVENT
UID:31313866-6264-4661-a665-393834353963
DTSTAMP:20260422T033942Z
DESCRIPTION:4/19 Újezd u Brna - VS Vydry Drásov 3:0 (16\,12\,12)
DTSTART;TZID=Europe/Berlin:20251011T120000
DTEND;TZID=Europe/Berlin:20251011T140000
LOCATION:Multifunkční sportovní hala\, Sportovní 1128 Újezd u Brna
SUMMARY:JM-Z-1: Újezd u Brna-VS Vydry Drásov
END:VEVENT
BEGIN:VEVENT
UID:31303334-3632-4563-a333-383337373033
DTSTAMP:20260422T033942Z
DESCRIPTION:7/33 Újezd u Brna - VK Znojmo - Přímětice 3:0 (20\,11\,9)
DTSTART;TZID=Europe/Berlin:20251101T090000
DTEND;TZID=Europe/Berlin:20251101T110000
LOCATION:Hala ZŠ Újezd u Brna\, Školní 284 Újezd u Brna
SUMMARY:JM-Z-1: Újezd u Brna-VK Znojmo - Přímětice
END:VEVENT
BEGIN:VEVENT
UID:38383534-3239-4635-a666-626335323337
DTSTAMP:20260422T033942Z
DESCRIPTION:8/38 Újezd u Brna - VK Znojmo - Přímětice 3:0 (23\,20\,16)
DTSTART;TZID=Europe/Berlin:20251101T120000
DTEND;TZID=Europe/Berlin:20251101T140000
LOCATION:Hala ZŠ Újezd u Brna\, Školní 284 Újezd u Brna
SUMMARY:JM-Z-1: Újezd u Brna-VK Znojmo - Přímětice
END:VEVENT
BEGIN:VEVENT
UID:63363566-3132-4865-b161-616662326563
DTSTAMP:20260422T033942Z
DESCRIPTION:11/52 Újezd u Brna - Tělocvičná jednota Sokol Šlapanice u Brna 
 3:1 (20\,-19\,23\,19)
DTSTART;TZID=Europe/Berlin:20251122T090000
DTEND;TZID=Europe/Berlin:20251122T110000
LOCATION:Hala ZŠ Újezd u Brna\, Školní 284 Újezd u Brna
SUMMARY:JM-Z-1: Újezd u Brna-Tělocvičná jednota Sokol Šlapanice u Brna
END:VEVENT
BEGIN:VEVENT
UID:31663861-6564-4266-b432-363730383031
DTSTAMP:20260422T033942Z
DESCRIPTION:12/57 Újezd u Brna - Tělocvičná jednota Sokol Šlapanice u Brna 
 3:1 (22\,21\,-11\,13)
DTSTART;TZID=Europe/Berlin:20251122T120000
DTEND;TZID=Europe/Berlin:20251122T140000
LOCATION:Hala ZŠ Újezd u Brna\, Školní 284 Újezd u Brna
SUMMARY:JM-Z-1: Újezd u Brna-Tělocvičná jednota Sokol Šlapanice u Brna
END:VEVENT
BEGIN:VEVENT
UID:35333836-3866-4561-b131-386433386461
DTSTAMP:20260422T033942Z
DESCRIPTION:17/85 Újezd u Brna - TJ Minerva Boskovice 3:0 (19\,20\,16)
DTSTART;TZID=Europe/Berlin:20251213T090000
DTEND;TZID=Europe/Berlin:20251213T110000
LOCATION:Multifunkční sportovní hala\, Sportovní 1128 Újezd u Brna
SUMMARY:JM-Z-1: Újezd u Brna-TJ Minerva Boskovice
END:VEVENT
BEGIN:VEVENT
UID:39626637-6365-4739-a561-303265653362
DTSTAMP:20260422T033942Z
DESCRIPTION:18/90 Újezd u Brna - TJ Minerva Boskovice 3:2 (-24\,11\,-23\,25
 \,13)
DTSTART;TZID=Europe/Berlin:20251213T120000
DTEND;TZID=Europe/Berlin:20251213T140000
LOCATION:Multifunkční sportovní hala\, Sportovní 1128 Újezd u Brna
SUMMARY:JM-Z-1: Újezd u Brna-TJ Minerva Boskovice
END:VEVENT
BEGIN:VEVENT
UID:31326161-3734-4532-b533-363735343866
DTSTAMP:20260422T033942Z
DESCRIPTION:19/92 Újezd u Brna - TJ Sokol Jehnice 3:1 (19\,24\,-20\,17)
DTSTART;TZID=Europe/Berlin:20260103T090000
DTEND;TZID=Europe/Berlin:20260103T110000
LOCATION:Multifunkční sportovní hala\, Sportovní 1128 Újezd u Brna
SUMMARY:JM-Z-1: Újezd u Brna-TJ Sokol Jehnice
END:VEVENT
BEGIN:VEVENT
UID:33396539-3466-4336-b637-386665323264
DTSTAMP:20260422T033942Z
DESCRIPTION:20/97 Újezd u Brna - TJ Sokol Jehnice 3:0 (13\,26\,13)
DTSTART;TZID=Europe/Berlin:20260103T120000
DTEND;TZID=Europe/Berlin:20260103T140000
LOCATION:Multifunkční sportovní hala\, Sportovní 1128 Újezd u Brna
SUMMARY:JM-Z-1: Újezd u Brna-TJ Sokol Jehnice
END:VEVENT
BEGIN:VEVENT
UID:37633032-3361-4338-b662-323364643435
DTSTAMP:20260422T033942Z
DESCRIPTION:23/113 Újezd u Brna - ŠSK při Gymnáziu Šlapanice 3:0 (14\,16\,1
 9)
DTSTART;TZID=Europe/Berlin:20260117T090000
DTEND;TZID=Europe/Berlin:20260117T110000
LOCATION:Hala ZŠ Újezd u Brna\, Školní 284 Újezd u Brna
SUMMARY:JM-Z-1: Újezd u Brna-ŠSK při Gymnáziu Šlapanice
END:VEVENT
BEGIN:VEVENT
UID:62353663-3639-4563-a138-363732333765
DTSTAMP:20260422T033942Z
DESCRIPTION:24/118 Újezd u Brna - ŠSK při Gymnáziu Šlapanice 3:1 (-22\,24\,
 11\,20)
DTSTART;TZID=Europe/Berlin:20260117T120000
DTEND;TZID=Europe/Berlin:20260117T140000
LOCATION:Hala ZŠ Újezd u Brna\, Školní 284 Újezd u Brna
SUMMARY:JM-Z-1: Újezd u Brna-ŠSK při Gymnáziu Šlapanice
END:VEVENT
BEGIN:VEVENT
UID:36636535-3636-4066-a633-303838623731
DTSTAMP:20260422T033942Z
DESCRIPTION:31/155 Újezd u Brna - VK Lužánky - SVČ 3:0 (5\,17\,22)
DTSTART;TZID=Europe/Berlin:20260307T090000
DTEND;TZID=Europe/Berlin:20260307T110000
LOCATION:Multifunkční sportovní hala\, Sportovní 1128 Újezd u Brna
SUMMARY:JM-Z-1: Újezd u Brna-VK Lužánky - SVČ
END:VEVENT
BEGIN:VEVENT
UID:64373639-3735-4165-a665-643837663238
DTSTAMP:20260422T033943Z
DESCRIPTION:32/160 Újezd u Brna - VK Lužánky - SVČ 3:0 (16\,18\,11)
DTSTART;TZID=Europe/Berlin:20260307T120000
DTEND;TZID=Europe/Berlin:20260307T140000
LOCATION:Multifunkční sportovní hala\, Sportovní 1128 Újezd u Brna
SUMMARY:JM-Z-1: Újezd u Brna-VK Lužánky - SVČ
END:VEVENT
BEGIN:VEVENT
UID:38333263-6234-4334-b935-353631326632
DTSTAMP:20260422T033943Z
DESCRIPTION:33/161 Újezd u Brna - TJ Sokol Hodonín 3:0 (14\,7\,22)
DTSTART;TZID=Europe/Berlin:20260314T090000
DTEND;TZID=Europe/Berlin:20260314T110000
LOCATION:Multifunkční sportovní hala\, Sportovní 1128 Újezd u Brna
SUMMARY:JM-Z-1: Újezd u Brna-TJ Sokol Hodonín
END:VEVENT
BEGIN:VEVENT
UID:32383132-3265-4231-a239-633535336233
DTSTAMP:20260422T033943Z
DESCRIPTION:34/166 Újezd u Brna - TJ Sokol Hodonín 3:0 (19\,15\,15)
DTSTART;TZID=Europe/Berlin:20260314T120000
DTEND;TZID=Europe/Berlin:20260314T140000
LOCATION:Multifunkční sportovní hala\, Sportovní 1128 Újezd u Brna
SUMMARY:JM-Z-1: Újezd u Brna-TJ Sokol Hodonín
END:VEVENT
BEGIN:VEVENT
UID:62636539-6536-4964-b730-353732383461
DTSTAMP:20260422T033943Z
DESCRIPTION:1/2 TJ Sokol Jehnice - Újezd u Brna 1:3 (17\,-16\,-16\,-13)
DTSTART;TZID=Europe/Berlin:20251004T100000
DTEND;TZID=Europe/Berlin:20251004T120000
LOCATION:TJ Sokol Jehnice\, Blanenská 1 Brno - Jehnice
SUMMARY:JM-Z-1: TJ Sokol Jehnice-Újezd u Brna
END:VEVENT
BEGIN:VEVENT
UID:66383131-6331-4237-b630-333231303230
DTSTAMP:20260422T033943Z
DESCRIPTION:2/7 TJ Sokol Jehnice - Újezd u Brna 3:2 (14\,16\,-24\,-26\,9)
DTSTART;TZID=Europe/Berlin:20251004T130000
DTEND;TZID=Europe/Berlin:20251004T150000
LOCATION:TJ Sokol Jehnice\, Blanenská 1 Brno - Jehnice
SUMMARY:JM-Z-1: TJ Sokol Jehnice-Újezd u Brna
END:VEVENT
BEGIN:VEVENT
UID:30393437-3565-4539-b661-623630386662
DTSTAMP:20260422T033943Z
DESCRIPTION:5/23 ŠSK při Gymnáziu Šlapanice - Újezd u Brna 0:3 (-14\,-19\,-
 19)
DTSTART;TZID=Europe/Berlin:20251018T100000
DTEND;TZID=Europe/Berlin:20251018T120000
LOCATION:Sportovní a společenská hala Nebovidy\,  Nebovidy250
SUMMARY:JM-Z-1: ŠSK při Gymnáziu Šlapanice-Újezd u Brna
END:VEVENT
BEGIN:VEVENT
UID:39616663-3439-4331-b333-353366393430
DTSTAMP:20260422T033943Z
DESCRIPTION:6/28 ŠSK při Gymnáziu Šlapanice - Újezd u Brna 0:3 (-17\,-21\,-
 15)
DTSTART;TZID=Europe/Berlin:20251018T130000
DTEND;TZID=Europe/Berlin:20251018T150000
LOCATION:Sportovní a společenská hala Nebovidy\,  Nebovidy250
SUMMARY:JM-Z-1: ŠSK při Gymnáziu Šlapanice-Újezd u Brna
END:VEVENT
BEGIN:VEVENT
UID:38653563-3764-4265-b037-613031333062
DTSTAMP:20260422T033943Z
DESCRIPTION:13/65 VK Lužánky - SVČ - Újezd u Brna 0:3 (-13\,-16\,-17)
DTSTART;TZID=Europe/Berlin:20251129T100000
DTEND;TZID=Europe/Berlin:20251129T120000
LOCATION:ZŠ Masarova\, Masarova 2360 Brno - Líšeň
SUMMARY:JM-Z-1: VK Lužánky - SVČ-Újezd u Brna
END:VEVENT
BEGIN:VEVENT
UID:63393630-3534-4833-b938-623163626430
DTSTAMP:20260422T033943Z
DESCRIPTION:14/70 VK Lužánky - SVČ - Újezd u Brna 0:3 (-17\,-15\,-8)
DTSTART;TZID=Europe/Berlin:20251129T130000
DTEND;TZID=Europe/Berlin:20251129T150000
LOCATION:ZŠ Masarova\, Masarova 2360 Brno - Líšeň
SUMMARY:JM-Z-1: VK Lužánky - SVČ-Újezd u Brna
END:VEVENT
BEGIN:VEVENT
UID:64316637-3564-4037-b162-656632346635
DTSTAMP:20260422T033943Z
DESCRIPTION:15/71 TJ Sokol Hodonín - Újezd u Brna 1:3 (25\,-11\,-15\,-8)
DTSTART;TZID=Europe/Berlin:20251206T100000
DTEND;TZID=Europe/Berlin:20251206T120000
LOCATION:Sokolovna\, Velkomoravská 2202 Hodonín
SUMMARY:JM-Z-1: TJ Sokol Hodonín-Újezd u Brna
END:VEVENT
BEGIN:VEVENT
UID:62383233-6564-4364-a661-383436386464
DTSTAMP:20260422T033943Z
DESCRIPTION:16/76 TJ Sokol Hodonín - Újezd u Brna 0:3 (-12\,-11\,-20)
DTSTART;TZID=Europe/Berlin:20251206T130000
DTEND;TZID=Europe/Berlin:20251206T150000
LOCATION:Sokolovna\, Velkomoravská 2202 Hodonín
SUMMARY:JM-Z-1: TJ Sokol Hodonín-Újezd u Brna
END:VEVENT
BEGIN:VEVENT
UID:39643263-3934-4634-a566-323939373462
DTSTAMP:20260422T033943Z
DESCRIPTION:21/104 VS Vydry Drásov - Újezd u Brna 1:3 (24\,-22\,-23\,-15)
DTSTART;TZID=Europe/Berlin:20260110T100000
DTEND;TZID=Europe/Berlin:20260110T120000
LOCATION:Základní škola\,  Dolní Loučky207
SUMMARY:JM-Z-1: VS Vydry Drásov-Újezd u Brna
END:VEVENT
BEGIN:VEVENT
UID:36393434-3763-4265-b963-343433346431
DTSTAMP:20260422T033943Z
DESCRIPTION:22/109 VS Vydry Drásov - Újezd u Brna 0:3 (-21\,-17\,-18)
DTSTART;TZID=Europe/Berlin:20260110T130000
DTEND;TZID=Europe/Berlin:20260110T150000
LOCATION:Základní škola\,  Dolní Loučky207
SUMMARY:JM-Z-1: VS Vydry Drásov-Újezd u Brna
END:VEVENT
BEGIN:VEVENT
UID:64613361-3330-4130-b832-663430663735
DTSTAMP:20260422T033943Z
DESCRIPTION:25/123 VK Znojmo - Přímětice - Újezd u Brna 2:3 (-19\,20\,18\,-
 14\,-6)
DTSTART;TZID=Europe/Berlin:20260124T100000
DTEND;TZID=Europe/Berlin:20260124T120000
LOCATION:Tělocvična PSK Znojmo\, Pražská 2486 Znojmo
SUMMARY:JM-Z-1: VK Znojmo - Přímětice-Újezd u Brna
END:VEVENT
BEGIN:VEVENT
UID:30346561-3835-4362-a231-633030313534
DTSTAMP:20260422T033943Z
DESCRIPTION:26/128 VK Znojmo - Přímětice - Újezd u Brna 0:3 (-18\,-23\,-32)
DTSTART;TZID=Europe/Berlin:20260124T130000
DTEND;TZID=Europe/Berlin:20260124T150000
LOCATION:Tělocvična PSK Znojmo\, Pražská 2486 Znojmo
SUMMARY:JM-Z-1: VK Znojmo - Přímětice-Újezd u Brna
END:VEVENT
BEGIN:VEVENT
UID:35633538-3465-4438-a331-643361306139
DTSTAMP:20260422T033943Z
DESCRIPTION:29/142 Tělocvičná jednota Sokol Šlapanice u Brna - Újezd u Brna
  2:3 (22\,-20\,-15\,19\,-10)
DTSTART;TZID=Europe/Berlin:20260207T110000
DTEND;TZID=Europe/Berlin:20260207T130000
LOCATION:Tělocvična ZŠ Šlapanice\, Masarykovo náměstí 1594 Šlapanice
SUMMARY:JM-Z-1: Tělocvičná jednota Sokol Šlapanice u Brna-Újezd u Brna
END:VEVENT
BEGIN:VEVENT
UID:32363439-3733-4638-b031-383565346638
DTSTAMP:20260422T033943Z
DESCRIPTION:30/147 Tělocvičná jednota Sokol Šlapanice u Brna - Újezd u Brna
  0:3 (-18\,-14\,-23)
DTSTART;TZID=Europe/Berlin:20260207T150000
DTEND;TZID=Europe/Berlin:20260207T170000
LOCATION:Tělocvična ZŠ Šlapanice\, Masarykovo náměstí 1594 Šlapanice
SUMMARY:JM-Z-1: Tělocvičná jednota Sokol Šlapanice u Brna-Újezd u Brna
END:VEVENT
BEGIN:VEVENT
UID:39343261-3235-4331-b637-343039376164
DTSTAMP:20260422T033943Z
DESCRIPTION:35/175 TJ Minerva Boskovice - Újezd u Brna 0:3 (-15\,-16\,-22)
DTSTART;TZID=Europe/Berlin:20260321T100000
DTEND;TZID=Europe/Berlin:20260321T120000
LOCATION:Tělocvična ZŠ\, Slovákova 2006 Boskovice
SUMMARY:JM-Z-1: TJ Minerva Boskovice-Újezd u Brna
END:VEVENT
BEGIN:VEVENT
UID:61653935-3266-4037-b836-383730633138
DTSTAMP:20260422T033943Z
DESCRIPTION:36/180 TJ Minerva Boskovice - Újezd u Brna 0:3 (-20\,-23\,-17)
DTSTART;TZID=Europe/Berlin:20260321T130000
DTEND;TZID=Europe/Berlin:20260321T150000
LOCATION:Tělocvična ZŠ\, Slovákova 2006 Boskovice
SUMMARY:JM-Z-1: TJ Minerva Boskovice-Újezd u Brna
END:VEVENT
BEGIN:VEVENT
UID:32393132-6630-4934-b065-636563386364
DTSTAMP:20260422T033943Z
DESCRIPTION:1/2 Újezd u Brna - Uh.Hradiště 0:3 (-20\,-22\,-21)
DTSTART;TZID=Europe/Berlin:20260418T120000
DTEND;TZID=Europe/Berlin:20260418T140000
LOCATION:VOŠ a SPŠE Olomouc\, Božetěchova 755 Olomouc - Hodolany
SUMMARY:2-Z-KC: Újezd u Brna-Uh.Hradiště
END:VEVENT
BEGIN:VEVENT
UID:30306261-6434-4363-a265-353535333664
DTSTAMP:20260422T033943Z
DESCRIPTION:1/9 Újezd u Brna - VK Polanka 3:2 (-23\,23\,-19\,26\,13)
DTSTART;TZID=Europe/Berlin:20260419T150000
DTEND;TZID=Europe/Berlin:20260419T170000
LOCATION:VOŠ a SPŠE Olomouc\, Božetěchova 755 Olomouc - Hodolany
SUMMARY:2-Z-KC: Újezd u Brna-VK Polanka
END:VEVENT
BEGIN:VEVENT
UID:64646662-3835-4832-b832-323361343735
DTSTAMP:20260422T033943Z
DESCRIPTION:1/4 VAM Olomouc - Újezd u Brna 3:2 (-19\,20\,-16\,22\,14)
DTSTART;TZID=Europe/Berlin:20260418T160000
DTEND;TZID=Europe/Berlin:20260418T180000
LOCATION:VOŠ a SPŠE Olomouc\, Božetěchova 755 Olomouc - Hodolany
SUMMARY:2-Z-KC: VAM Olomouc-Újezd u Brna
END:VEVENT
BEGIN:VEVENT
UID:63306365-3737-4637-b737-316635396538
DTSTAMP:20260422T033943Z
DESCRIPTION:1/6 TJ Svitavy - Újezd u Brna 3:1 (-12\,18\,19\,24)
DTSTART;TZID=Europe/Berlin:20260419T090000
DTEND;TZID=Europe/Berlin:20260419T110000
LOCATION:VOŠ a SPŠE Olomouc\, Božetěchova 755 Olomouc - Hodolany
SUMMARY:2-Z-KC: TJ Svitavy-Újezd u Brna
END:VEVENT
END:VCALENDAR
