BEGIN:VCALENDAR
VERSION:2.0
PRODID:-//TJ Sokol Újezd u Brna90656//NONSGML kigkonsult.se iCalcreator 2.41.80//
CALSCALE:GREGORIAN
UID:31336331-6138-4135-b666-316237313164
BEGIN:VEVENT
UID:31396530-3735-4331-b163-643730663061
DTSTAMP:20260422T203342Z
DESCRIPTION:3/3 TJ Sokol Újezd u Brna - Znojmo 0:2 (-6\,-7)
DTSTART;TZID=Europe/Berlin:20250920T114500
DTEND;TZID=Europe/Berlin:20250920T134500
LOCATION:TJ Lokomotiva Břeclav\, Veslařská 2753 Břeclav
SUMMARY:JM-U16Z-KVE: TJ Sokol Újezd u Brna-Znojmo
END:VEVENT
BEGIN:VEVENT
UID:63366239-3633-4566-b438-343564353063
DTSTAMP:20260422T203342Z
DESCRIPTION:2/2 Sportovní klub SKUNK Unkovice\, z. s. - TJ Sokol Újezd u Br
 na 0:2 (-15\,-18)
DTSTART;TZID=Europe/Berlin:20250920T103000
DTEND;TZID=Europe/Berlin:20250920T123000
LOCATION:TJ Lokomotiva Břeclav\, Veslařská 2753 Břeclav
SUMMARY:JM-U16Z-KVE: Sportovní klub SKUNK Unkovice\, z. s.-TJ Sokol Újezd u
  Brna
END:VEVENT
BEGIN:VEVENT
UID:34306365-6365-4234-b533-626139306561
DTSTAMP:20260422T203342Z
DESCRIPTION:2/2 TJ Sokol Újezd u Brna - VK Znojmo - Přímětice 0:2 (-17\,-22
 )\nE2 vs F2
DTSTART;TZID=Europe/Berlin:20250920T141500
DTEND;TZID=Europe/Berlin:20250920T161500
LOCATION:TJ Lokomotiva Břeclav\, Veslařská 2753 Břeclav
SUMMARY:JM-U16Z-KVDEFII: TJ Sokol Újezd u Brna-VK Znojmo - Přímětice
END:VEVENT
BEGIN:VEVENT
UID:66653565-3834-4132-a436-376263353532
DTSTAMP:20260422T203343Z
DESCRIPTION:1/1 VK Znojmo - Přímětice - TJ Sokol Újezd u Brna 2:0 (18\,9)\n
 D2 vs E2
DTSTART;TZID=Europe/Berlin:20250920T130000
DTEND;TZID=Europe/Berlin:20250920T150000
LOCATION:TJ Lokomotiva Břeclav\, Veslařská 2753 Břeclav
SUMMARY:JM-U16Z-KVDEFII: VK Znojmo - Přímětice-TJ Sokol Újezd u Brna
END:VEVENT
BEGIN:VEVENT
UID:30613564-6536-4562-b663-386662396638
DTSTAMP:20260422T203343Z
DESCRIPTION:1/1 TJ Sokol Újezd u Brna - KP Brno D 2:0 (16\,11)
DTSTART;TZID=Europe/Berlin:20251011T090000
DTEND;TZID=Europe/Berlin:20251011T110000
LOCATION:Multifunkční sportovní hala\, Sportovní 1128 Újezd u Brna
SUMMARY:JM-U16Z-IF: TJ Sokol Újezd u Brna-KP Brno D
END:VEVENT
BEGIN:VEVENT
UID:39666339-6433-4162-b766-376638353331
DTSTAMP:20260422T203343Z
DESCRIPTION:2/4 TJ Sokol Újezd u Brna - TJ Sokol Jehnice 2:1 (-21\,24\,10)
DTSTART;TZID=Europe/Berlin:20251011T103000
DTEND;TZID=Europe/Berlin:20251011T123000
LOCATION:Multifunkční sportovní hala\, Sportovní 1128 Újezd u Brna
SUMMARY:JM-U16Z-IF: TJ Sokol Újezd u Brna-TJ Sokol Jehnice
END:VEVENT
BEGIN:VEVENT
UID:35383865-3739-4564-a131-323734343631
DTSTAMP:20260422T203343Z
DESCRIPTION:3/6 Sokol Šlapanice B - TJ Sokol Újezd u Brna 0:2 (-10\,-10)
DTSTART;TZID=Europe/Berlin:20251011T114500
DTEND;TZID=Europe/Berlin:20251011T134500
LOCATION:Multifunkční sportovní hala\, Sportovní 1128 Újezd u Brna
SUMMARY:JM-U16Z-IF: Sokol Šlapanice B-TJ Sokol Újezd u Brna
END:VEVENT
BEGIN:VEVENT
UID:32356536-3730-4932-b238-303863666134
DTSTAMP:20260422T203343Z
DESCRIPTION:1/1 TJ Sokol Újezd u Brna - Sokol Šlapanice A 2:0 (20\,21)
DTSTART;TZID=Europe/Berlin:20251025T090000
DTEND;TZID=Europe/Berlin:20251025T110000
LOCATION:Multifunkční sportovní hala\, Sportovní 1128 Újezd u Brna
SUMMARY:JM-U16Z-IIE: TJ Sokol Újezd u Brna-Sokol Šlapanice A
END:VEVENT
BEGIN:VEVENT
UID:31666261-3433-4466-b338-316131313038
DTSTAMP:20260422T203343Z
DESCRIPTION:2/4 TJ Sokol Újezd u Brna - KP Milénova Brno B 0:2 (-12\,-16)
DTSTART;TZID=Europe/Berlin:20251025T103000
DTEND;TZID=Europe/Berlin:20251025T123000
LOCATION:Multifunkční sportovní hala\, Sportovní 1128 Újezd u Brna
SUMMARY:JM-U16Z-IIE: TJ Sokol Újezd u Brna-KP Milénova Brno B
END:VEVENT
BEGIN:VEVENT
UID:30303730-3136-4364-a536-353764326336
DTSTAMP:20260422T203343Z
DESCRIPTION:3/6 VK Znojmo - Přímětice - TJ Sokol Újezd u Brna 2:1 (-16\,18\
 ,16)
DTSTART;TZID=Europe/Berlin:20251025T114500
DTEND;TZID=Europe/Berlin:20251025T134500
LOCATION:Multifunkční sportovní hala\, Sportovní 1128 Újezd u Brna
SUMMARY:JM-U16Z-IIE: VK Znojmo - Přímětice-TJ Sokol Újezd u Brna
END:VEVENT
BEGIN:VEVENT
UID:33313762-6466-4361-b432-633630383939
DTSTAMP:20260422T203343Z
DESCRIPTION:6/6 TJ Sokol Újezd u Brna - VK Znojmo - Přímětice 0:2 (-14\,-10
 )
DTSTART;TZID=Europe/Berlin:20251108T153000
DTEND;TZID=Europe/Berlin:20251108T173000
LOCATION:Tělocvična ZŠ Prokopa Diviše a MŠ\, Ke Škole 569 Znojmo - Přímětic
 e
SUMMARY:JM-U16Z-IIIE: TJ Sokol Újezd u Brna-VK Znojmo - Přímětice
END:VEVENT
BEGIN:VEVENT
UID:35663530-3934-4366-b364-653537396535
DTSTAMP:20260422T203343Z
DESCRIPTION:2/2 VOLEJBAL VYŠKOV A - TJ Sokol Újezd u Brna 2:0 (13\,11)
DTSTART;TZID=Europe/Berlin:20251108T103000
DTEND;TZID=Europe/Berlin:20251108T123000
LOCATION:Tělocvična ZŠ Prokopa Diviše a MŠ\, Ke Škole 569 Znojmo - Přímětic
 e
SUMMARY:JM-U16Z-IIIE: VOLEJBAL VYŠKOV A-TJ Sokol Újezd u Brna
END:VEVENT
BEGIN:VEVENT
UID:32386165-3764-4734-b831-623435306163
DTSTAMP:20260422T203343Z
DESCRIPTION:3/3 VK Brno A - TJ Sokol Újezd u Brna 2:0 (21\,15)
DTSTART;TZID=Europe/Berlin:20251108T114500
DTEND;TZID=Europe/Berlin:20251108T134500
LOCATION:Tělocvična ZŠ Prokopa Diviše a MŠ\, Ke Škole 569 Znojmo - Přímětic
 e
SUMMARY:JM-U16Z-IIIE: VK Brno A-TJ Sokol Újezd u Brna
END:VEVENT
BEGIN:VEVENT
UID:33306463-3863-4538-a235-323032663932
DTSTAMP:20260422T203343Z
DESCRIPTION:6/6 TJ Sokol Újezd u Brna - VS Drásov 'A' 0:2 (-11\,-9)
DTSTART;TZID=Europe/Berlin:20251122T153000
DTEND;TZID=Europe/Berlin:20251122T173000
LOCATION:Základní škola\,  Dolní Loučky207
SUMMARY:JM-U16Z-IVF: TJ Sokol Újezd u Brna-VS Drásov 'A'
END:VEVENT
BEGIN:VEVENT
UID:61386232-6534-4839-b430-656166633936
DTSTAMP:20260422T203343Z
DESCRIPTION:2/2 VOLEJBAL VYŠKOV B - TJ Sokol Újezd u Brna 2:0 (19\,12)
DTSTART;TZID=Europe/Berlin:20251122T103000
DTEND;TZID=Europe/Berlin:20251122T123000
LOCATION:Základní škola\,  Dolní Loučky207
SUMMARY:JM-U16Z-IVF: VOLEJBAL VYŠKOV B-TJ Sokol Újezd u Brna
END:VEVENT
BEGIN:VEVENT
UID:63333361-3431-4966-b064-393135633833
DTSTAMP:20260422T203343Z
DESCRIPTION:3/3 TJ Agrotec Hustopeče - TJ Sokol Újezd u Brna 2:0 (12\,14)
DTSTART;TZID=Europe/Berlin:20251122T114500
DTEND;TZID=Europe/Berlin:20251122T134500
LOCATION:Základní škola\,  Dolní Loučky207
SUMMARY:JM-U16Z-IVF: TJ Agrotec Hustopeče-TJ Sokol Újezd u Brna
END:VEVENT
BEGIN:VEVENT
UID:62616665-6363-4130-a239-393333356436
DTSTAMP:20260422T203343Z
DESCRIPTION:3/6 TJ Sokol Újezd u Brna - TJ JUNIOR Brno 2:0 (14\,21)
DTSTART;TZID=Europe/Berlin:20251213T114500
DTEND;TZID=Europe/Berlin:20251213T134500
LOCATION:tělocvičny ZŠ Novolíšeňská\, Brno\, Novolíšeňská 2411 Brno - Líšeň
SUMMARY:JM-U16Z-VG: TJ Sokol Újezd u Brna-TJ JUNIOR Brno
END:VEVENT
BEGIN:VEVENT
UID:37643335-3833-4031-b837-346232396363
DTSTAMP:20260422T203343Z
DESCRIPTION:1/2 VK Brno\, B - TJ Sokol Újezd u Brna 0:2 (-18\,-21)
DTSTART;TZID=Europe/Berlin:20251213T090000
DTEND;TZID=Europe/Berlin:20251213T110000
LOCATION:tělocvičny ZŠ Novolíšeňská\, Brno\, Novolíšeňská 2411 Brno - Líšeň
SUMMARY:JM-U16Z-VG: VK Brno\, B-TJ Sokol Újezd u Brna
END:VEVENT
BEGIN:VEVENT
UID:35666265-3839-4463-b433-633332316565
DTSTAMP:20260422T203343Z
DESCRIPTION:2/3 TJ Sokol Hrušovany u Brna - TJ Sokol Újezd u Brna 2:1 (-10\
 ,16\,5)
DTSTART;TZID=Europe/Berlin:20251213T103000
DTEND;TZID=Europe/Berlin:20251213T123000
LOCATION:tělocvičny ZŠ Novolíšeňská\, Brno\, Novolíšeňská 2411 Brno - Líšeň
SUMMARY:JM-U16Z-VG: TJ Sokol Hrušovany u Brna-TJ Sokol Újezd u Brna
END:VEVENT
BEGIN:VEVENT
UID:62306532-6439-4035-b935-626432663764
DTSTAMP:20260422T203343Z
DESCRIPTION:2/3 TJ Sokol Újezd u Brna - TJ Slovan Ivančice\, z.s. 1:2 (19\,
 -14\,-11)
DTSTART;TZID=Europe/Berlin:20260110T103000
DTEND;TZID=Europe/Berlin:20260110T123000
LOCATION:tělocvičny ZŠ Novolíšeňská\, Brno\, Novolíšeňská 2411 Brno - Líšeň
SUMMARY:JM-U16Z-VIG: TJ Sokol Újezd u Brna-TJ Slovan Ivančice\, z.s.
END:VEVENT
BEGIN:VEVENT
UID:64333235-3662-4231-b230-323936336134
DTSTAMP:20260422T203343Z
DESCRIPTION:1/1 TJ JUNIOR Brno - TJ Sokol Újezd u Brna 1:2 (18\,-24\,-8)
DTSTART;TZID=Europe/Berlin:20260110T090000
DTEND;TZID=Europe/Berlin:20260110T110000
LOCATION:tělocvičny ZŠ Novolíšeňská\, Brno\, Novolíšeňská 2411 Brno - Líšeň
SUMMARY:JM-U16Z-VIG: TJ JUNIOR Brno-TJ Sokol Újezd u Brna
END:VEVENT
BEGIN:VEVENT
UID:37663931-6263-4464-b830-306639653366
DTSTAMP:20260422T203343Z
DESCRIPTION:3/5 VK Lužánky - TJ Sokol Újezd u Brna 2:1 (20\,-23\,13)
DTSTART;TZID=Europe/Berlin:20260110T114500
DTEND;TZID=Europe/Berlin:20260110T134500
LOCATION:tělocvičny ZŠ Novolíšeňská\, Brno\, Novolíšeňská 2411 Brno - Líšeň
SUMMARY:JM-U16Z-VIG: VK Lužánky-TJ Sokol Újezd u Brna
END:VEVENT
BEGIN:VEVENT
UID:39313036-6439-4362-a530-613864366436
DTSTAMP:20260422T203343Z
DESCRIPTION:1/1 TJ Sokol Újezd u Brna - VK Brno\, B 2:0 (18\,24)
DTSTART;TZID=Europe/Berlin:20260131T090000
DTEND;TZID=Europe/Berlin:20260131T110000
LOCATION:Multifunkční sportovní hala\, Sportovní 1128 Újezd u Brna
SUMMARY:JM-U16Z-VIIG: TJ Sokol Újezd u Brna-VK Brno\, B
END:VEVENT
BEGIN:VEVENT
UID:39376436-6338-4562-b062-643639656232
DTSTAMP:20260422T203343Z
DESCRIPTION:2/4 TJ Sokol Újezd u Brna - VOLEJBAL VYŠKOV A 2:1 (16\,-23\,12)
DTSTART;TZID=Europe/Berlin:20260131T103000
DTEND;TZID=Europe/Berlin:20260131T123000
LOCATION:Multifunkční sportovní hala\, Sportovní 1128 Újezd u Brna
SUMMARY:JM-U16Z-VIIG: TJ Sokol Újezd u Brna-VOLEJBAL VYŠKOV A
END:VEVENT
BEGIN:VEVENT
UID:34346564-3466-4538-b762-643162333232
DTSTAMP:20260422T203343Z
DESCRIPTION:3/6 TJ Slovan Ivančice\, z.s. - TJ Sokol Újezd u Brna 1:2 (-17\
 ,23\,-5)
DTSTART;TZID=Europe/Berlin:20260131T114500
DTEND;TZID=Europe/Berlin:20260131T134500
LOCATION:Multifunkční sportovní hala\, Sportovní 1128 Újezd u Brna
SUMMARY:JM-U16Z-VIIG: TJ Slovan Ivančice\, z.s.-TJ Sokol Újezd u Brna
END:VEVENT
BEGIN:VEVENT
UID:32323031-6332-4866-b235-333639326564
DTSTAMP:20260422T203343Z
DESCRIPTION:2/2 TJ Sokol Újezd u Brna - TJ Sokol Hrušovany u Brna 2:0 (23\,
 21)
DTSTART;TZID=Europe/Berlin:20260307T103000
DTEND;TZID=Europe/Berlin:20260307T123000
LOCATION:Tělocvična ZŠ Prokopa Diviše a MŠ\, Ke Škole 569 Znojmo - Přímětic
 e
SUMMARY:JM-U16Z-VIIIF: TJ Sokol Újezd u Brna-TJ Sokol Hrušovany u Brna
END:VEVENT
BEGIN:VEVENT
UID:32396439-3961-4334-b939-323932346239
DTSTAMP:20260422T203343Z
DESCRIPTION:5/5 TJ Sokol Újezd u Brna - VK Znojmo - Přímětice 1:2 (21\,-15\
 ,-6)
DTSTART;TZID=Europe/Berlin:20260307T141500
DTEND;TZID=Europe/Berlin:20260307T161500
LOCATION:Tělocvična ZŠ Prokopa Diviše a MŠ\, Ke Škole 569 Znojmo - Přímětic
 e
SUMMARY:JM-U16Z-VIIIF: TJ Sokol Újezd u Brna-VK Znojmo - Přímětice
END:VEVENT
BEGIN:VEVENT
UID:33646331-6133-4562-b566-373161646465
DTSTAMP:20260422T203343Z
DESCRIPTION:4/4 VK Znojmo - Přímětice - TJ Sokol Újezd u Brna 2:0 (17\,12)
DTSTART;TZID=Europe/Berlin:20260307T130000
DTEND;TZID=Europe/Berlin:20260307T150000
LOCATION:Tělocvična ZŠ Prokopa Diviše a MŠ\, Ke Škole 569 Znojmo - Přímětic
 e
SUMMARY:JM-U16Z-VIIIF: VK Znojmo - Přímětice-TJ Sokol Újezd u Brna
END:VEVENT
END:VCALENDAR
