BEGIN:VCALENDAR
VERSION:2.0
PRODID:-//FOSFA Lokomotiva Břeclav B90662//NONSGML kigkonsult.se iCalcreator 2.41.80//
CALSCALE:GREGORIAN
UID:38333563-3137-4233-a163-626434656261
BEGIN:VEVENT
UID:34323536-3936-4937-b434-643336623266
DTSTAMP:20260421T201608Z
DESCRIPTION:2/2 FOSFA Lokomotiva Břeclav B - VOLEJBAL VYŠKOV 2:0 (17\,13)
DTSTART;TZID=Europe/Berlin:20250913T103000
DTEND;TZID=Europe/Berlin:20250913T123000
LOCATION:TJ Lokomotiva Břeclav\, Veslařská 2753 Břeclav
SUMMARY:JM-U18Z-KVF: FOSFA Lokomotiva Břeclav B-VOLEJBAL VYŠKOV
END:VEVENT
BEGIN:VEVENT
UID:30646561-6339-4330-b233-353163383232
DTSTAMP:20260421T201608Z
DESCRIPTION:1/1 TJ Sokol Hrušovany u Brna - FOSFA Lokomotiva Břeclav B 0:2 
 (-12\,-13)
DTSTART;TZID=Europe/Berlin:20250913T090000
DTEND;TZID=Europe/Berlin:20250913T110000
LOCATION:TJ Lokomotiva Břeclav\, Veslařská 2753 Břeclav
SUMMARY:JM-U18Z-KVF: TJ Sokol Hrušovany u Brna-FOSFA Lokomotiva Břeclav B
END:VEVENT
BEGIN:VEVENT
UID:61303262-3733-4636-a536-396230396538
DTSTAMP:20260421T201608Z
DESCRIPTION:3/3 VK Brno\, z.s. - FOSFA Lokomotiva Břeclav B 0:2 (-0\,-0)\nK
 VE 1 vs KVF 1
DTSTART;TZID=Europe/Berlin:20250913T141500
DTEND;TZID=Europe/Berlin:20250913T161500
LOCATION:TJ Lokomotiva Břeclav\, Veslařská 2753 Břeclav
SUMMARY:JM-U18Z-KVEF: VK Brno\, z.s.-FOSFA Lokomotiva Břeclav B
END:VEVENT
BEGIN:VEVENT
UID:66333631-6130-4464-a535-393232306362
DTSTAMP:20260421T201608Z
DESCRIPTION:2/2 FOSFA Lokomotiva Břeclav B - Tělocvičná jednota Sokol Předk
 lášteří 2:1 (-14\,13\,13)
DTSTART;TZID=Europe/Berlin:20251004T103000
DTEND;TZID=Europe/Berlin:20251004T123000
LOCATION:ZŠ Bučovice 710\, Školní 710 Bučovice
SUMMARY:JM-U18Z-IA: FOSFA Lokomotiva Břeclav B-Tělocvičná jednota Sokol Pře
 dklášteří
END:VEVENT
BEGIN:VEVENT
UID:66386234-3763-4361-a362-396566626436
DTSTAMP:20260421T201608Z
DESCRIPTION:5/5 FOSFA Lokomotiva Břeclav B - KP Milénova Brno 2:0 (18\,23)
DTSTART;TZID=Europe/Berlin:20251004T141500
DTEND;TZID=Europe/Berlin:20251004T161500
LOCATION:ZŠ Bučovice 710\, Školní 710 Bučovice
SUMMARY:JM-U18Z-IA: FOSFA Lokomotiva Břeclav B-KP Milénova Brno
END:VEVENT
BEGIN:VEVENT
UID:35653162-6530-4135-a561-353265336463
DTSTAMP:20260421T201608Z
DESCRIPTION:4/4 Tělocvičná jednota Sokol Bučovice - FOSFA Lokomotiva Břecla
 v B 2:1 (16\,-11\,9)
DTSTART;TZID=Europe/Berlin:20251004T130000
DTEND;TZID=Europe/Berlin:20251004T150000
LOCATION:ZŠ Bučovice 710\, Školní 710 Bučovice
SUMMARY:JM-U18Z-IA: Tělocvičná jednota Sokol Bučovice-FOSFA Lokomotiva Břec
 lav B
END:VEVENT
BEGIN:VEVENT
UID:34646337-3832-4231-b435-366137616439
DTSTAMP:20260421T201608Z
DESCRIPTION:1/1 FOSFA Lokomotiva Břeclav B - K. Pole B 2:1 (-17\,16\,8)
DTSTART;TZID=Europe/Berlin:20251018T090000
DTEND;TZID=Europe/Berlin:20251018T110000
LOCATION:TJ Lokomotiva Břeclav\, Veslařská 2753 Břeclav
SUMMARY:JM-U18Z-IIA: FOSFA Lokomotiva Břeclav B-K. Pole B
END:VEVENT
BEGIN:VEVENT
UID:31326163-6137-4532-b830-386239323261
DTSTAMP:20260421T201608Z
DESCRIPTION:2/4 FOSFA Lokomotiva Břeclav B - Tělocvičná jednota Sokol Bučov
 ice 2:0 (22\,21)
DTSTART;TZID=Europe/Berlin:20251018T103000
DTEND;TZID=Europe/Berlin:20251018T123000
LOCATION:TJ Lokomotiva Břeclav\, Veslařská 2753 Břeclav
SUMMARY:JM-U18Z-IIA: FOSFA Lokomotiva Břeclav B-Tělocvičná jednota Sokol Bu
 čovice
END:VEVENT
BEGIN:VEVENT
UID:38343335-3865-4634-b632-646539343563
DTSTAMP:20260421T201608Z
DESCRIPTION:3/6 Tělocvičná jednota Sokol Předklášteří - FOSFA Lokomotiva Bř
 eclav B 1:2 (-19\,17\,-10)
DTSTART;TZID=Europe/Berlin:20251018T114500
DTEND;TZID=Europe/Berlin:20251018T134500
LOCATION:TJ Lokomotiva Břeclav\, Veslařská 2753 Břeclav
SUMMARY:JM-U18Z-IIA: Tělocvičná jednota Sokol Předklášteří-FOSFA Lokomotiva
  Břeclav B
END:VEVENT
BEGIN:VEVENT
UID:66333336-3065-4435-b130-633236666432
DTSTAMP:20260421T201608Z
DESCRIPTION:2/2 FOSFA Lokomotiva Břeclav B - Tělocvičná jednota Sokol Bučov
 ice 1:2 (18\,-21\,-12)
DTSTART;TZID=Europe/Berlin:20251101T103000
DTEND;TZID=Europe/Berlin:20251101T123000
LOCATION:ZŠ Milénova 14\, Milénova 808 Brno - Lesná
SUMMARY:JM-U18Z-IIIA: FOSFA Lokomotiva Břeclav B-Tělocvičná jednota Sokol B
 učovice
END:VEVENT
BEGIN:VEVENT
UID:33376631-3631-4563-b030-346336303332
DTSTAMP:20260421T201608Z
DESCRIPTION:5/5 FOSFA Lokomotiva Břeclav B - KP Milénova Brno 0:2 (-17\,-23
 )
DTSTART;TZID=Europe/Berlin:20251101T141500
DTEND;TZID=Europe/Berlin:20251101T161500
LOCATION:ZŠ Milénova 14\, Milénova 808 Brno - Lesná
SUMMARY:JM-U18Z-IIIA: FOSFA Lokomotiva Břeclav B-KP Milénova Brno
END:VEVENT
BEGIN:VEVENT
UID:66373962-6164-4134-b734-303433616237
DTSTAMP:20260421T201608Z
DESCRIPTION:4/4 K. Pole B - FOSFA Lokomotiva Břeclav B 2:1 (-20\,18\,13)
DTSTART;TZID=Europe/Berlin:20251101T130000
DTEND;TZID=Europe/Berlin:20251101T150000
LOCATION:ZŠ Milénova 14\, Milénova 808 Brno - Lesná
SUMMARY:JM-U18Z-IIIA: K. Pole B-FOSFA Lokomotiva Břeclav B
END:VEVENT
BEGIN:VEVENT
UID:62373439-3332-4338-b763-343533346165
DTSTAMP:20260421T201608Z
DESCRIPTION:2/3 FOSFA Lokomotiva Břeclav B - VK Brno\, z.s. 0:2 (-19\,-22)
DTSTART;TZID=Europe/Berlin:20251206T103000
DTEND;TZID=Europe/Berlin:20251206T123000
LOCATION:Sportovní hala Křenovice \, Bratří Mrázků 635 Křenovice
SUMMARY:JM-U18Z-IVB: FOSFA Lokomotiva Břeclav B-VK Brno\, z.s.
END:VEVENT
BEGIN:VEVENT
UID:38323937-3065-4234-a132-633237346439
DTSTAMP:20260421T201608Z
DESCRIPTION:1/1 Orel Křenovice - FOSFA Lokomotiva Břeclav B 2:0 (15\,12)
DTSTART;TZID=Europe/Berlin:20251206T090000
DTEND;TZID=Europe/Berlin:20251206T110000
LOCATION:Sportovní hala Křenovice \, Bratří Mrázků 635 Křenovice
SUMMARY:JM-U18Z-IVB: Orel Křenovice-FOSFA Lokomotiva Břeclav B
END:VEVENT
BEGIN:VEVENT
UID:65303430-3332-4463-b438-333131343231
DTSTAMP:20260421T201608Z
DESCRIPTION:3/5 TJ Sokol Újezd u Brna - FOSFA Lokomotiva Břeclav B 2:0 (17\
 ,17)
DTSTART;TZID=Europe/Berlin:20251206T114500
DTEND;TZID=Europe/Berlin:20251206T134500
LOCATION:Sportovní hala Křenovice \, Bratří Mrázků 635 Křenovice
SUMMARY:JM-U18Z-IVB: TJ Sokol Újezd u Brna-FOSFA Lokomotiva Břeclav B
END:VEVENT
BEGIN:VEVENT
UID:38306631-3831-4839-b066-313930313762
DTSTAMP:20260421T201608Z
DESCRIPTION:1/2 FOSFA Lokomotiva Břeclav B - VOLEJBAL VYŠKOV 2:0 (15\,9)
DTSTART;TZID=Europe/Berlin:20251220T090000
DTEND;TZID=Europe/Berlin:20251220T110000
LOCATION:Sportovní hala Údolní\, Údolní 1826 Blansko
SUMMARY:JM-U18Z-VC: FOSFA Lokomotiva Břeclav B-VOLEJBAL VYŠKOV
END:VEVENT
BEGIN:VEVENT
UID:64366135-6165-4530-b631-323364653163
DTSTAMP:20260421T201608Z
DESCRIPTION:3/5 FOSFA Lokomotiva Břeclav B - TJ Agrotec Hustopeče z.s. 'A' 
 2:0 (18\,18)
DTSTART;TZID=Europe/Berlin:20251220T114500
DTEND;TZID=Europe/Berlin:20251220T134500
LOCATION:Sportovní hala Údolní\, Údolní 1826 Blansko
SUMMARY:JM-U18Z-VC: FOSFA Lokomotiva Břeclav B-TJ Agrotec Hustopeče z.s. 'A
 '
END:VEVENT
BEGIN:VEVENT
UID:32303731-6637-4435-b464-363730396361
DTSTAMP:20260421T201608Z
DESCRIPTION:2/4 TJ ASK Blansko - FOSFA Lokomotiva Břeclav B 0:2 (-10\,-15)
DTSTART;TZID=Europe/Berlin:20251220T103000
DTEND;TZID=Europe/Berlin:20251220T123000
LOCATION:Sportovní hala Údolní\, Údolní 1826 Blansko
SUMMARY:JM-U18Z-VC: TJ ASK Blansko-FOSFA Lokomotiva Břeclav B
END:VEVENT
BEGIN:VEVENT
UID:35626666-6135-4638-a437-383466356165
DTSTAMP:20260421T201608Z
DESCRIPTION:1/1 FOSFA Lokomotiva Břeclav B - K. Pole B 2:0 (13\,12)
DTSTART;TZID=Europe/Berlin:20260117T090000
DTEND;TZID=Europe/Berlin:20260117T110000
LOCATION:TJ Lokomotiva Břeclav\, Veslařská 2753 Břeclav
SUMMARY:JM-U18Z-VIB: FOSFA Lokomotiva Břeclav B-K. Pole B
END:VEVENT
BEGIN:VEVENT
UID:61646663-3232-4437-b561-386330383030
DTSTAMP:20260421T201608Z
DESCRIPTION:2/4 FOSFA Lokomotiva Břeclav B - TJ SOKOL LETOVICE\, z.s. 2:0 (
 14\,14)
DTSTART;TZID=Europe/Berlin:20260117T103000
DTEND;TZID=Europe/Berlin:20260117T123000
LOCATION:TJ Lokomotiva Břeclav\, Veslařská 2753 Břeclav
SUMMARY:JM-U18Z-VIB: FOSFA Lokomotiva Břeclav B-TJ SOKOL LETOVICE\, z.s.
END:VEVENT
BEGIN:VEVENT
UID:31383863-3562-4631-a666-386532316437
DTSTAMP:20260421T201608Z
DESCRIPTION:3/6 Tělocvičná jednota Sokol Bučovice - FOSFA Lokomotiva Břecla
 v B 0:2 (-13\,-20)
DTSTART;TZID=Europe/Berlin:20260117T114500
DTEND;TZID=Europe/Berlin:20260117T134500
LOCATION:TJ Lokomotiva Břeclav\, Veslařská 2753 Břeclav
SUMMARY:JM-U18Z-VIB: Tělocvičná jednota Sokol Bučovice-FOSFA Lokomotiva Bře
 clav B
END:VEVENT
BEGIN:VEVENT
UID:33316631-3234-4762-b763-373861656364
DTSTAMP:20260421T201608Z
DESCRIPTION:2/2 FOSFA Lokomotiva Břeclav B - VK Brno\, z.s. 2:0 (21\,13)
DTSTART;TZID=Europe/Berlin:20260207T103000
DTEND;TZID=Europe/Berlin:20260207T123000
LOCATION:ZŠ Předklášteří\, Komenského 1097 Předklášteří
SUMMARY:JM-U18Z-VIIA: FOSFA Lokomotiva Břeclav B-VK Brno\, z.s.
END:VEVENT
BEGIN:VEVENT
UID:33613130-3634-4639-b165-313731383263
DTSTAMP:20260421T201608Z
DESCRIPTION:5/5 FOSFA Lokomotiva Břeclav B - KP Milénova Brno 2:1 (19\,-22\
 ,12)
DTSTART;TZID=Europe/Berlin:20260207T141500
DTEND;TZID=Europe/Berlin:20260207T161500
LOCATION:ZŠ Předklášteří\, Komenského 1097 Předklášteří
SUMMARY:JM-U18Z-VIIA: FOSFA Lokomotiva Břeclav B-KP Milénova Brno
END:VEVENT
BEGIN:VEVENT
UID:62313961-3534-4331-b736-376431326535
DTSTAMP:20260421T201608Z
DESCRIPTION:4/4 Tělocvičná jednota Sokol Předklášteří - FOSFA Lokomotiva Bř
 eclav B 1:2 (22\,-16\,-3)
DTSTART;TZID=Europe/Berlin:20260207T130000
DTEND;TZID=Europe/Berlin:20260207T150000
LOCATION:ZŠ Předklášteří\, Komenského 1097 Předklášteří
SUMMARY:JM-U18Z-VIIA: Tělocvičná jednota Sokol Předklášteří-FOSFA Lokomotiv
 a Břeclav B
END:VEVENT
BEGIN:VEVENT
UID:34636466-3534-4162-b162-346166616533
DTSTAMP:20260421T201608Z
DESCRIPTION:2/2 FOSFA Lokomotiva Břeclav B - Tělocvičná jednota Sokol Bučov
 ice 0:2 (-22\,-15)
DTSTART;TZID=Europe/Berlin:20260314T103000
DTEND;TZID=Europe/Berlin:20260314T123000
LOCATION:ZŠ Předklášteří\, Komenského 1097 Předklášteří
SUMMARY:JM-U18Z-VIIIA: FOSFA Lokomotiva Břeclav B-Tělocvičná jednota Sokol 
 Bučovice
END:VEVENT
BEGIN:VEVENT
UID:34656631-6533-4133-b564-343561383765
DTSTAMP:20260421T201608Z
DESCRIPTION:5/5 FOSFA Lokomotiva Břeclav B - KP Milénova Brno 0:2 (-16\,-6)
DTSTART;TZID=Europe/Berlin:20260314T141500
DTEND;TZID=Europe/Berlin:20260314T161500
LOCATION:ZŠ Předklášteří\, Komenského 1097 Předklášteří
SUMMARY:JM-U18Z-VIIIA: FOSFA Lokomotiva Břeclav B-KP Milénova Brno
END:VEVENT
BEGIN:VEVENT
UID:38633863-3534-4630-b966-643832356131
DTSTAMP:20260421T201608Z
DESCRIPTION:4/4 Tělocvičná jednota Sokol Předklášteří - FOSFA Lokomotiva Bř
 eclav B 0:2 (-18\,-16)
DTSTART;TZID=Europe/Berlin:20260314T130000
DTEND;TZID=Europe/Berlin:20260314T150000
LOCATION:ZŠ Předklášteří\, Komenského 1097 Předklášteří
SUMMARY:JM-U18Z-VIIIA: Tělocvičná jednota Sokol Předklášteří-FOSFA Lokomoti
 va Břeclav B
END:VEVENT
BEGIN:VEVENT
UID:32326634-6166-4339-b666-323434643931
DTSTAMP:20260421T201608Z
DESCRIPTION:2/4 FOSFA Lokomotiva Břeclav B - K. Pole B 2:0 (16\,16)\n4. vs 
 5. Kurt 2
DTSTART;TZID=Europe/Berlin:20260328T103000
DTEND;TZID=Europe/Berlin:20260328T123000
LOCATION:TJ Lokomotiva Břeclav\, Veslařská 2753 Břeclav
SUMMARY:JM-U18Z-F: FOSFA Lokomotiva Břeclav B-K. Pole B
END:VEVENT
BEGIN:VEVENT
UID:37633564-3731-4530-b537-333831376666
DTSTAMP:20260421T201608Z
DESCRIPTION:6/12 FOSFA Lokomotiva Břeclav B - Tělocvičná jednota Sokol Před
 klášteří 2:0 (14\,18)\nW7 vs W8 Kurt 1
DTSTART;TZID=Europe/Berlin:20260328T153000
DTEND;TZID=Europe/Berlin:20260328T173000
LOCATION:TJ Lokomotiva Břeclav\, Veslařská 2753 Břeclav
SUMMARY:JM-U18Z-F: FOSFA Lokomotiva Břeclav B-Tělocvičná jednota Sokol Před
 klášteří
END:VEVENT
BEGIN:VEVENT
UID:66663638-3839-4430-b866-386166373862
DTSTAMP:20260421T201608Z
DESCRIPTION:4/7 KP Milénova Brno - FOSFA Lokomotiva Břeclav B 0:2 (-24\,-22
 )\nW1 vs W4 Kurt 1
DTSTART;TZID=Europe/Berlin:20260328T130000
DTEND;TZID=Europe/Berlin:20260328T150000
LOCATION:ZŠ Milénova 14\, Milénova 808 Brno - Lesná
SUMMARY:JM-U18Z-F: KP Milénova Brno-FOSFA Lokomotiva Břeclav B
END:VEVENT
END:VCALENDAR
