BEGIN:VCALENDAR
VERSION:2.0
PRODID:-//TJ Sokol Šlapanice90679//NONSGML kigkonsult.se iCalcreator 2.41.80//
CALSCALE:GREGORIAN
UID:35663265-6232-4934-b864-323835353234
BEGIN:VEVENT
UID:38616663-3031-4265-b034-316662386637
DTSTAMP:20260422T144945Z
DESCRIPTION:9/9 Šlapanice - TJ SOKOL LETOVICE\, z.s. U20 2:0 (16\,11)
DTSTART;TZID=Europe/Berlin:20250914T141500
DTEND;TZID=Europe/Berlin:20250914T161500
LOCATION:sokolovna Ivančice\, Rybářská 1052 Ivančice
SUMMARY:JM-U22M-KVB: Šlapanice-TJ SOKOL LETOVICE\, z.s. U20
END:VEVENT
BEGIN:VEVENT
UID:66303762-3261-4862-a338-396664386561
DTSTAMP:20260422T144945Z
DESCRIPTION:1/1 TJ Slovan Ivančice\, z.s. U18 - Šlapanice 0:2 (-9\,-8)
DTSTART;TZID=Europe/Berlin:20250914T090000
DTEND;TZID=Europe/Berlin:20250914T110000
LOCATION:sokolovna Ivančice\, Rybářská 1052 Ivančice
SUMMARY:JM-U22M-KVB: TJ Slovan Ivančice\, z.s. U18-Šlapanice
END:VEVENT
BEGIN:VEVENT
UID:34376263-3164-4864-a330-383063343135
DTSTAMP:20260422T144945Z
DESCRIPTION:5/5 TJ Sokol Hrušovany u Brna U22 - Šlapanice 0:2 (-12\,-18)
DTSTART;TZID=Europe/Berlin:20250914T114500
DTEND;TZID=Europe/Berlin:20250914T134500
LOCATION:sokolovna Ivančice\, Rybářská 1052 Ivančice
SUMMARY:JM-U22M-KVB: TJ Sokol Hrušovany u Brna U22-Šlapanice
END:VEVENT
BEGIN:VEVENT
UID:35643862-3231-4630-b366-613830623961
DTSTAMP:20260422T144945Z
DESCRIPTION:8/8 VK Brno\, z.s. U20 - Šlapanice 0:2 (-11\,-18)
DTSTART;TZID=Europe/Berlin:20250914T130000
DTEND;TZID=Europe/Berlin:20250914T150000
LOCATION:sokolovna Ivančice\, Rybářská 1052 Ivančice
SUMMARY:JM-U22M-KVB: VK Brno\, z.s. U20-Šlapanice
END:VEVENT
BEGIN:VEVENT
UID:32623063-3639-4663-a563-633237306435
DTSTAMP:20260422T144945Z
DESCRIPTION:2/2 Šlapanice - B6 Brno U20 2:3 (18\,-21\,-18\,24\,-12)
DTSTART;TZID=Europe/Berlin:20251012T110000
DTEND;TZID=Europe/Berlin:20251012T130000
LOCATION:Sportovní hala Letovice\, V zahradách 831 Letovice
SUMMARY:JM-U22M-IA: Šlapanice-B6 Brno U20
END:VEVENT
BEGIN:VEVENT
UID:62643237-6466-4334-a535-346135333730
DTSTAMP:20260422T144945Z
DESCRIPTION:1/1 TJ TESLA BRNO z.s. U20 - Šlapanice 0:3 (-15\,-25\,-19)
DTSTART;TZID=Europe/Berlin:20251012T090000
DTEND;TZID=Europe/Berlin:20251012T110000
LOCATION:Sportovní hala Letovice\, V zahradách 831 Letovice
SUMMARY:JM-U22M-IA: TJ TESLA BRNO z.s. U20-Šlapanice
END:VEVENT
BEGIN:VEVENT
UID:37626334-6435-4466-a636-353037356561
DTSTAMP:20260422T144945Z
DESCRIPTION:1/1 Šlapanice - B6 Brno U20 3:0 (16\,21\,24)
DTSTART;TZID=Europe/Berlin:20251109T090000
DTEND;TZID=Europe/Berlin:20251109T110000
LOCATION:Tělocvična ZŠ Šlapanice\, Masarykovo náměstí 1594 Šlapanice
SUMMARY:JM-U22M-IIA: Šlapanice-B6 Brno U20
END:VEVENT
BEGIN:VEVENT
UID:33333566-3461-4539-b362-646635393063
DTSTAMP:20260422T144945Z
DESCRIPTION:3/3 VK Brno\, z.s. U20 - Šlapanice 2:3 (23\,25\,-24\,-23\,-8)
DTSTART;TZID=Europe/Berlin:20251109T130000
DTEND;TZID=Europe/Berlin:20251109T150000
LOCATION:Tělocvična ZŠ Šlapanice\, Masarykovo náměstí 1594 Šlapanice
SUMMARY:JM-U22M-IIA: VK Brno\, z.s. U20-Šlapanice
END:VEVENT
BEGIN:VEVENT
UID:32343866-6139-4636-a366-666563306537
DTSTAMP:20260422T144945Z
DESCRIPTION:3/3 Šlapanice - VS Drásov U20 3:0 (17\,22\,10)
DTSTART;TZID=Europe/Berlin:20251207T130000
DTEND;TZID=Europe/Berlin:20251207T150000
LOCATION:Hala u ZŠ TGM Drásov\, Školní 167 Drásov
SUMMARY:JM-U22M-IIIA: Šlapanice-VS Drásov U20
END:VEVENT
BEGIN:VEVENT
UID:64353435-3863-4135-a261-666266313864
DTSTAMP:20260422T144945Z
DESCRIPTION:2/2 B6 Brno U20 - Šlapanice 3:1 (18\,20\,-17\,20)
DTSTART;TZID=Europe/Berlin:20251207T110000
DTEND;TZID=Europe/Berlin:20251207T130000
LOCATION:Hala u ZŠ TGM Drásov\, Školní 167 Drásov
SUMMARY:JM-U22M-IIIA: B6 Brno U20-Šlapanice
END:VEVENT
BEGIN:VEVENT
UID:31623139-3866-4334-a233-623263396366
DTSTAMP:20260422T144945Z
DESCRIPTION:1/1 Šlapanice - B6 Brno U20 3:0 (17\,23\,17)
DTSTART;TZID=Europe/Berlin:20260111T090000
DTEND;TZID=Europe/Berlin:20260111T110000
LOCATION:Tělocvična ZŠ Šlapanice\, Masarykovo náměstí 1594 Šlapanice
SUMMARY:JM-U22M-IVA: Šlapanice-B6 Brno U20
END:VEVENT
BEGIN:VEVENT
UID:64616361-6663-4938-b938-643637616232
DTSTAMP:20260422T144945Z
DESCRIPTION:3/3 VK Brno\, z.s. U20 - Šlapanice 0:3 (-18\,-22\,-18)
DTSTART;TZID=Europe/Berlin:20260111T130000
DTEND;TZID=Europe/Berlin:20260111T150000
LOCATION:Tělocvična ZŠ Šlapanice\, Masarykovo náměstí 1594 Šlapanice
SUMMARY:JM-U22M-IVA: VK Brno\, z.s. U20-Šlapanice
END:VEVENT
BEGIN:VEVENT
UID:34333534-3135-4835-a431-626263333564
DTSTAMP:20260422T144945Z
DESCRIPTION:1/1 B6 Brno U20 - Šlapanice 3:0 (17\,20\,19)\nVeterina
DTSTART;TZID=Europe/Berlin:20260206T162000
DTEND;TZID=Europe/Berlin:20260206T182000
LOCATION:Základní škola Brno\, Sirotkova 36\, Sirotkova 371 Brno - Žabovřes
 ky
SUMMARY:JM-U22M-VA: B6 Brno U20-Šlapanice
END:VEVENT
BEGIN:VEVENT
UID:33333365-3633-4764-b633-323036616263
DTSTAMP:20260422T144945Z
DESCRIPTION:2/2 VK Znojmo - Přímětice U20 - Šlapanice 1:3 (17\,-18\,-13\,-1
 9)\nPřímětice
DTSTART;TZID=Europe/Berlin:20260125T100000
DTEND;TZID=Europe/Berlin:20260125T120000
LOCATION:Gymnázium Dr. Karla Polesného\, náměstí Komenského 945 Znojmo
SUMMARY:JM-U22M-VA: VK Znojmo - Přímětice U20-Šlapanice
END:VEVENT
BEGIN:VEVENT
UID:63363839-3561-4230-b762-323932373864
DTSTAMP:20260422T144945Z
DESCRIPTION:3/3 Šlapanice - VK Brno\, z.s. U20 3:1 (22\,19\,-22\,11)
DTSTART;TZID=Europe/Berlin:20260308T130000
DTEND;TZID=Europe/Berlin:20260308T150000
LOCATION:ZŠ Vejrostova\, Vejrostova 1066 Brno - Bystrc
SUMMARY:JM-U22M-VIA: Šlapanice-VK Brno\, z.s. U20
END:VEVENT
BEGIN:VEVENT
UID:62643962-6562-4036-b933-346539316633
DTSTAMP:20260422T144945Z
DESCRIPTION:2/2 B6 Brno U20 - Šlapanice 3:0 (16\,25\,18)
DTSTART;TZID=Europe/Berlin:20260308T110000
DTEND;TZID=Europe/Berlin:20260308T130000
LOCATION:ZŠ Vejrostova\, Vejrostova 1066 Brno - Bystrc
SUMMARY:JM-U22M-VIA: B6 Brno U20-Šlapanice
END:VEVENT
BEGIN:VEVENT
UID:39663034-3635-4435-b636-386264613138
DTSTAMP:20260422T144945Z
DESCRIPTION:1/2 Šlapanice - Tělocvičná jednota Sokol Bučovice U22 2:0 (22\,
 19)\n2. vs 7. Kurt 2
DTSTART;TZID=Europe/Berlin:20260322T090000
DTEND;TZID=Europe/Berlin:20260322T110000
LOCATION:ZŠ Na Zahrádkách \, Na Zahrádkách 1716 Šlapanice
SUMMARY:JM-U22M-F: Šlapanice-Tělocvičná jednota Sokol Bučovice U22
END:VEVENT
BEGIN:VEVENT
UID:64366634-6331-4361-b161-376464326234
DTSTAMP:20260422T144945Z
DESCRIPTION:4/8 Šlapanice - VK Brno\, z.s. U20 2:0 (19\,19)\nW2 vs W3 Kurt 
 2
DTSTART;TZID=Europe/Berlin:20260322T130000
DTEND;TZID=Europe/Berlin:20260322T150000
LOCATION:ZŠ Na Zahrádkách \, Na Zahrádkách 1716 Šlapanice
SUMMARY:JM-U22M-F: Šlapanice-VK Brno\, z.s. U20
END:VEVENT
BEGIN:VEVENT
UID:62366435-6437-4937-a661-303831303633
DTSTAMP:20260422T144945Z
DESCRIPTION:6/12 B6 Brno U20 - Šlapanice 1:2 (21\,-21\,-12)\nW7 vs W8 Kurt 
 1
DTSTART;TZID=Europe/Berlin:20260322T153000
DTEND;TZID=Europe/Berlin:20260322T173000
LOCATION:Základní škola Brno\, Sirotkova 36\, Sirotkova 371 Brno - Žabovřes
 ky
SUMMARY:JM-U22M-F: B6 Brno U20-Šlapanice
END:VEVENT
BEGIN:VEVENT
UID:65323832-6334-4633-b938-623233353335
DTSTAMP:20260422T144945Z
DESCRIPTION:1/4 Šlapanice - SvitavyBohatec Josef./Pochop Petr
DTSTART;TZID=Europe/Berlin:20260425T170000
DTEND;TZID=Europe/Berlin:20260425T190000
LOCATION:ZŠ Komenského\, Komenského 1 Velké Meziříčí
SUMMARY:EX-U20M-KC: Šlapanice-Svitavy
END:VEVENT
BEGIN:VEVENT
UID:64363438-3463-4239-a665-666263366331
DTSTAMP:20260422T144945Z
DESCRIPTION:1/5 Šlapanice - OstravaPochop Petr./Gallus Martin
DTSTART;TZID=Europe/Berlin:20260426T100000
DTEND;TZID=Europe/Berlin:20260426T120000
LOCATION:ZŠ Komenského\, Komenského 1 Velké Meziříčí
SUMMARY:EX-U20M-KC: Šlapanice-Ostrava
END:VEVENT
BEGIN:VEVENT
UID:30616235-6534-4664-b063-633631313338
DTSTAMP:20260422T144945Z
DESCRIPTION:1/1 Velké Meziříčí - ŠlapanicePochop Petr./Bohatec Josef
DTSTART;TZID=Europe/Berlin:20260425T100000
DTEND;TZID=Europe/Berlin:20260425T120000
LOCATION:ZŠ Komenského\, Komenského 1 Velké Meziříčí
SUMMARY:EX-U20M-KC: Velké Meziříčí-Šlapanice
END:VEVENT
END:VCALENDAR
