BEGIN:VCALENDAR
VERSION:2.0
PRODID:-//Královo Pole BRNO B90688//NONSGML kigkonsult.se iCalcreator 2.41.80//
CALSCALE:GREGORIAN
UID:62663536-6532-4335-b066-356464336466
BEGIN:VEVENT
UID:62326231-3234-4539-b765-623339646661
DTSTAMP:20260422T085131Z
DESCRIPTION:2/5 KP Brno B - VSC Zlín 0:2 (-23\,-17)
DTSTART;TZID=Europe/Berlin:20250913T113000
DTEND;TZID=Europe/Berlin:20250913T133000
LOCATION:Sportovní gymnázium Ludvíka Daňka\, Botanická 63 Brno - Ponava
SUMMARY:CP-U16Z-V1C: KP Brno B-VSC Zlín
END:VEVENT
BEGIN:VEVENT
UID:61393136-3334-4339-a230-376662616261
DTSTAMP:20260422T085131Z
DESCRIPTION:4/10 KP Brno B - Bílovec 0:2 (-10\,-14)
DTSTART;TZID=Europe/Berlin:20250913T143000
DTEND;TZID=Europe/Berlin:20250913T163000
LOCATION:Sportovní gymnázium Ludvíka Daňka\, Botanická 63 Brno - Ponava
SUMMARY:CP-U16Z-V1C: KP Brno B-Bílovec
END:VEVENT
BEGIN:VEVENT
UID:33336264-3664-4730-b235-636132396534
DTSTAMP:20260422T085131Z
DESCRIPTION:7/19 KP Brno B - VK Olomouc 0:2 (-17\,-6)
DTSTART;TZID=Europe/Berlin:20250914T090000
DTEND;TZID=Europe/Berlin:20250914T110000
LOCATION:Sportovní gymnázium Ludvíka Daňka\, Botanická 63 Brno - Ponava
SUMMARY:CP-U16Z-V1C: KP Brno B-VK Olomouc
END:VEVENT
BEGIN:VEVENT
UID:38353238-3664-4139-b133-643534353531
DTSTAMP:20260422T085131Z
DESCRIPTION:10/27 KP Brno B - VC Kroměříž 2:0 (18\,16)
DTSTART;TZID=Europe/Berlin:20250914T130000
DTEND;TZID=Europe/Berlin:20250914T150000
LOCATION:Sportovní gymnázium Ludvíka Daňka\, Botanická 63 Brno - Ponava
SUMMARY:CP-U16Z-V1C: KP Brno B-VC Kroměříž
END:VEVENT
BEGIN:VEVENT
UID:35363762-6635-4633-b663-303738643861
DTSTAMP:20260422T085131Z
DESCRIPTION:3/8 VA MUNI Sport Brno - KP Brno B 0:2 (-11\,-14)
DTSTART;TZID=Europe/Berlin:20250913T130000
DTEND;TZID=Europe/Berlin:20250913T150000
SUMMARY:CP-U16Z-V1C: VA MUNI Sport Brno-KP Brno B
END:VEVENT
BEGIN:VEVENT
UID:36313965-3466-4634-b034-333333636133
DTSTAMP:20260422T085131Z
DESCRIPTION:5/13 VK Polanka - KP Brno B 2:0 (17\,9)
DTSTART;TZID=Europe/Berlin:20250913T160000
DTEND;TZID=Europe/Berlin:20250913T180000
LOCATION:Sportovní hala\, Heleny Salichové 1275 Ostrava - Polanka nad Odrou
SUMMARY:CP-U16Z-V1C: VK Polanka-KP Brno B
END:VEVENT
BEGIN:VEVENT
UID:30373163-3564-4135-b761-303930306663
DTSTAMP:20260422T085131Z
DESCRIPTION:9/23 SVK Nový Jičín - KP Brno B 1:2 (23\,-22\,-13)
DTSTART;TZID=Europe/Berlin:20250914T114500
DTEND;TZID=Europe/Berlin:20250914T134500
LOCATION:Hala ABC\, Purkyňova 116 Nový Jičín
SUMMARY:CP-U16Z-V1C: SVK Nový Jičín-KP Brno B
END:VEVENT
BEGIN:VEVENT
UID:63616336-6164-4364-b862-303362313032
DTSTAMP:20260422T085131Z
DESCRIPTION:1/1 KP Brno B - VK Brno\, B 2:0 (10\,9)
DTSTART;TZID=Europe/Berlin:20250920T090000
DTEND;TZID=Europe/Berlin:20250920T110000
LOCATION:STAREZ ARÉNA VODOVA (Malá hala)\, Vodova 336 Brno - Královo Pole
SUMMARY:JM-U16Z-KVB: KP Brno B-VK Brno\, B
END:VEVENT
BEGIN:VEVENT
UID:62323536-3065-4439-a136-333161393033
DTSTAMP:20260422T085131Z
DESCRIPTION:3/3 VS Drásov 'A' - KP Brno B 0:2 (-12\,-8)
DTSTART;TZID=Europe/Berlin:20250920T114500
DTEND;TZID=Europe/Berlin:20250920T134500
LOCATION:STAREZ ARÉNA VODOVA (Malá hala)\, Vodova 336 Brno - Královo Pole
SUMMARY:JM-U16Z-KVB: VS Drásov 'A'-KP Brno B
END:VEVENT
BEGIN:VEVENT
UID:32386236-3762-4835-a138-396339356532
DTSTAMP:20260422T085131Z
DESCRIPTION:2/2 KP Brno B - KP Brno C 2:0 (19\,11)\nB1 vs C1
DTSTART;TZID=Europe/Berlin:20250920T141500
DTEND;TZID=Europe/Berlin:20250920T161500
LOCATION:STAREZ ARÉNA VODOVA (Malá hala)\, Vodova 336 Brno - Královo Pole
SUMMARY:JM-U16Z-KVABCI: KP Brno B-KP Brno C
END:VEVENT
BEGIN:VEVENT
UID:36636139-6334-4831-b535-373434336437
DTSTAMP:20260422T085131Z
DESCRIPTION:1/1 K. Pole - KP Brno B 2:0 (12\,15)\nA1 vs B1
DTSTART;TZID=Europe/Berlin:20250920T130000
DTEND;TZID=Europe/Berlin:20250920T150000
LOCATION:STAREZ ARÉNA VODOVA (Malá hala)\, Vodova 336 Brno - Královo Pole
SUMMARY:JM-U16Z-KVABCI: K. Pole-KP Brno B
END:VEVENT
BEGIN:VEVENT
UID:64373762-6238-4262-a336-396365393234
DTSTAMP:20260422T085131Z
DESCRIPTION:4/8 KP Brno B - VSK  Staré Město 2:1 (16\,-23\,9)
DTSTART;TZID=Europe/Berlin:20251018T130000
DTEND;TZID=Europe/Berlin:20251018T150000
LOCATION:Sportovní gymnázium Ludvíka Daňka\, Botanická 63 Brno - Ponava
SUMMARY:CP-U16Z-V2C: KP Brno B-VSK  Staré Město
END:VEVENT
BEGIN:VEVENT
UID:62626161-6338-4731-b462-633333663339
DTSTAMP:20260422T085131Z
DESCRIPTION:5/10 KP Brno B - Třebíč 1:2 (-22\,22\,-17)
DTSTART;TZID=Europe/Berlin:20251018T142000
DTEND;TZID=Europe/Berlin:20251018T162000
LOCATION:Sportovní gymnázium Ludvíka Daňka\, Botanická 63 Brno - Ponava
SUMMARY:CP-U16Z-V2C: KP Brno B-Třebíč
END:VEVENT
BEGIN:VEVENT
UID:65386132-3434-4739-b736-643738346166
DTSTAMP:20260422T085131Z
DESCRIPTION:9/18 KP Brno B - TJ Žďár nad Sázavou 1:2 (-25\,23\,-16)
DTSTART;TZID=Europe/Berlin:20251019T095000
DTEND;TZID=Europe/Berlin:20251019T115000
LOCATION:Sportovní gymnázium Ludvíka Daňka\, Botanická 63 Brno - Ponava
SUMMARY:CP-U16Z-V2C: KP Brno B-TJ Žďár nad Sázavou
END:VEVENT
BEGIN:VEVENT
UID:39306330-3834-4538-b437-636235353765
DTSTAMP:20260422T085131Z
DESCRIPTION:13/25 KP Brno B - VAM Olomouc 2:0 (25\,20)
DTSTART;TZID=Europe/Berlin:20251019T151000
DTEND;TZID=Europe/Berlin:20251019T171000
LOCATION:Sportovní gymnázium Ludvíka Daňka\, Botanická 63 Brno - Ponava
SUMMARY:CP-U16Z-V2C: KP Brno B-VAM Olomouc
END:VEVENT
BEGIN:VEVENT
UID:61333532-6430-4339-b863-323165366330
DTSTAMP:20260422T085131Z
DESCRIPTION:2/3 VK Brno - KP Brno B 2:0 (20\,10)
DTSTART;TZID=Europe/Berlin:20251018T102000
DTEND;TZID=Europe/Berlin:20251018T122000
LOCATION:ZŠ Vejrostova\, Vejrostova 1066 Brno - Bystrc
SUMMARY:CP-U16Z-V2C: VK Brno-KP Brno B
END:VEVENT
BEGIN:VEVENT
UID:32633238-3332-4635-a538-356239303136
DTSTAMP:20260422T085131Z
DESCRIPTION:7/13 SVK Nový Jičín - KP Brno B 0:2 (-17\,-14)
DTSTART;TZID=Europe/Berlin:20251018T170000
DTEND;TZID=Europe/Berlin:20251018T190000
LOCATION:Hala ABC\, Purkyňova 116 Nový Jičín
SUMMARY:CP-U16Z-V2C: SVK Nový Jičín-KP Brno B
END:VEVENT
BEGIN:VEVENT
UID:32613562-3266-4130-b163-353632323132
DTSTAMP:20260422T085131Z
DESCRIPTION:11/22 TJ Spartak Polička - KP Brno B 2:1 (-23\,17\,11)
DTSTART;TZID=Europe/Berlin:20251019T123000
DTEND;TZID=Europe/Berlin:20251019T143000
LOCATION:TJ Spartak Polička\, z.s. \, nábř. Svobody 447 Polička - Horní Pře
 dměstí
SUMMARY:CP-U16Z-V2C: TJ Spartak Polička-KP Brno B
END:VEVENT
BEGIN:VEVENT
UID:61346533-6365-4164-b261-636337643535
DTSTAMP:20260422T085131Z
DESCRIPTION:6/6 KP Brno B - Tělocvičná jednota Sokol Bučovice 2:0 (26\,23)
DTSTART;TZID=Europe/Berlin:20251011T153000
DTEND;TZID=Europe/Berlin:20251011T173000
LOCATION:ZŠ Bučovice 710\, Školní 710 Bučovice
SUMMARY:JM-U16Z-IB: KP Brno B-Tělocvičná jednota Sokol Bučovice
END:VEVENT
BEGIN:VEVENT
UID:62336134-6563-4663-b630-393461646166
DTSTAMP:20260422T085131Z
DESCRIPTION:2/2 TJ Lokomotiva Břeclav - KP Brno B 0:2 (-6\,-11)
DTSTART;TZID=Europe/Berlin:20251011T103000
DTEND;TZID=Europe/Berlin:20251011T123000
LOCATION:ZŠ Bučovice 710\, Školní 710 Bučovice
SUMMARY:JM-U16Z-IB: TJ Lokomotiva Břeclav-KP Brno B
END:VEVENT
BEGIN:VEVENT
UID:61336338-3065-4436-b265-373534326231
DTSTAMP:20260422T085131Z
DESCRIPTION:3/3 SK Beachvolleyball Slavkov\, spolek - KP Brno B 0:2 (-20\,-
 17)
DTSTART;TZID=Europe/Berlin:20251011T114500
DTEND;TZID=Europe/Berlin:20251011T134500
LOCATION:ZŠ Bučovice 710\, Školní 710 Bučovice
SUMMARY:JM-U16Z-IB: SK Beachvolleyball Slavkov\, spolek-KP Brno B
END:VEVENT
BEGIN:VEVENT
UID:37663266-6639-4365-b964-356264336530
DTSTAMP:20260422T085131Z
DESCRIPTION:3/3 KP Brno B - B6 Brno 1:2 (20\,-24\,-5)
DTSTART;TZID=Europe/Berlin:20251025T114500
DTEND;TZID=Europe/Berlin:20251025T134500
LOCATION:ZŠ Milénova 14\, Milénova 808 Brno - Lesná
SUMMARY:JM-U16Z-IIA: KP Brno B-B6 Brno
END:VEVENT
BEGIN:VEVENT
UID:35303433-3436-4666-a231-623333363831
DTSTAMP:20260422T085131Z
DESCRIPTION:1/1 K. Pole - KP Brno B 2:0 (17\,19)
DTSTART;TZID=Europe/Berlin:20251025T090000
DTEND;TZID=Europe/Berlin:20251025T110000
LOCATION:ZŠ Milénova 14\, Milénova 808 Brno - Lesná
SUMMARY:JM-U16Z-IIA: K. Pole-KP Brno B
END:VEVENT
BEGIN:VEVENT
UID:64343264-3962-4730-a335-303233663130
DTSTAMP:20260422T085131Z
DESCRIPTION:5/5 Znojmo - KP Brno B 0:2 (-23\,-23)
DTSTART;TZID=Europe/Berlin:20251025T141500
DTEND;TZID=Europe/Berlin:20251025T161500
LOCATION:ZŠ Milénova 14\, Milénova 808 Brno - Lesná
SUMMARY:JM-U16Z-IIA: Znojmo-KP Brno B
END:VEVENT
BEGIN:VEVENT
UID:37356164-6566-4363-a661-373337346235
DTSTAMP:20260422T085131Z
DESCRIPTION:1/2 KP Brno B - Třebíč 1:2 (24\,-17\,-9)
DTSTART;TZID=Europe/Berlin:20251129T100000
DTEND;TZID=Europe/Berlin:20251129T120000
LOCATION:Sportovní gymnázium Ludvíka Daňka\, Botanická 63 Brno - Ponava
SUMMARY:CP-U16Z-V3C: KP Brno B-Třebíč
END:VEVENT
BEGIN:VEVENT
UID:63353033-3633-4637-b564-346139656163
DTSTAMP:20260422T085131Z
DESCRIPTION:2/5 KP Brno B - VSC Zlín 0:2 (-24\,-13)
DTSTART;TZID=Europe/Berlin:20251129T113000
DTEND;TZID=Europe/Berlin:20251129T133000
LOCATION:Sportovní gymnázium Ludvíka Daňka\, Botanická 63 Brno - Ponava
SUMMARY:CP-U16Z-V3C: KP Brno B-VSC Zlín
END:VEVENT
BEGIN:VEVENT
UID:61396262-3230-4536-b539-373236663061
DTSTAMP:20260422T085131Z
DESCRIPTION:6/16 KP Brno B - Sokol Pouchov 0:2 (-15\,-23)
DTSTART;TZID=Europe/Berlin:20251129T173000
DTEND;TZID=Europe/Berlin:20251129T193000
LOCATION:Sportovní gymnázium Ludvíka Daňka\, Botanická 63 Brno - Ponava
SUMMARY:CP-U16Z-V3C: KP Brno B-Sokol Pouchov
END:VEVENT
BEGIN:VEVENT
UID:39356366-6162-4064-a265-626434373037
DTSTAMP:20260422T085131Z
DESCRIPTION:7/18 KP Brno B - Volejbal Přerov 2:1 (17\,-23\,10)
DTSTART;TZID=Europe/Berlin:20251130T090000
DTEND;TZID=Europe/Berlin:20251130T110000
LOCATION:Sportovní gymnázium Ludvíka Daňka\, Botanická 63 Brno - Ponava
SUMMARY:CP-U16Z-V3C: KP Brno B-Volejbal Přerov
END:VEVENT
BEGIN:VEVENT
UID:64303530-3633-4239-a330-653236356335
DTSTAMP:20260422T085131Z
DESCRIPTION:9/25 KP Brno B - VSK  Staré Město 2:0 (21\,18)
DTSTART;TZID=Europe/Berlin:20251130T120000
DTEND;TZID=Europe/Berlin:20251130T140000
LOCATION:Sportovní gymnázium Ludvíka Daňka\, Botanická 63 Brno - Ponava
SUMMARY:CP-U16Z-V3C: KP Brno B-VSK  Staré Město
END:VEVENT
BEGIN:VEVENT
UID:61363939-3232-4261-a632-396463656435
DTSTAMP:20260422T085131Z
DESCRIPTION:10/28 KP Brno B - TJ Sokol Dolní Újezd 2:0 (6\,13)
DTSTART;TZID=Europe/Berlin:20251130T133000
DTEND;TZID=Europe/Berlin:20251130T153000
LOCATION:Sportovní gymnázium Ludvíka Daňka\, Botanická 63 Brno - Ponava
SUMMARY:CP-U16Z-V3C: KP Brno B-TJ Sokol Dolní Újezd
END:VEVENT
BEGIN:VEVENT
UID:62383463-3865-4865-a532-306537343939
DTSTAMP:20260422T085131Z
DESCRIPTION:4/10 VK Brno - KP Brno B 2:1 (-19\,9\,5)
DTSTART;TZID=Europe/Berlin:20251129T143000
DTEND;TZID=Europe/Berlin:20251129T163000
LOCATION:ZŠ Vejrostova\, Vejrostova 1066 Brno - Bystrc
SUMMARY:CP-U16Z-V3C: VK Brno-KP Brno B
END:VEVENT
BEGIN:VEVENT
UID:34363435-6637-4333-b230-343266623664
DTSTAMP:20260422T085131Z
DESCRIPTION:1/1 KP Brno B - KP Milénova Brno A 2:0 (20\,24)
DTSTART;TZID=Europe/Berlin:20251108T090000
DTEND;TZID=Europe/Berlin:20251108T110000
LOCATION:ZŠ Milénova 14\, Milénova 808 Brno - Lesná
SUMMARY:JM-U16Z-IIIA: KP Brno B-KP Milénova Brno A
END:VEVENT
BEGIN:VEVENT
UID:37383131-6236-4764-a434-393664623437
DTSTAMP:20260422T085131Z
DESCRIPTION:4/4 KP Brno B - Znojmo 0:2 (-17\,-22)
DTSTART;TZID=Europe/Berlin:20251108T130000
DTEND;TZID=Europe/Berlin:20251108T150000
LOCATION:ZŠ Milénova 14\, Milénova 808 Brno - Lesná
SUMMARY:JM-U16Z-IIIA: KP Brno B-Znojmo
END:VEVENT
BEGIN:VEVENT
UID:65626338-6632-4761-b934-356363346164
DTSTAMP:20260422T085131Z
DESCRIPTION:6/6 K. Pole - KP Brno B 2:0 (20\,16)
DTSTART;TZID=Europe/Berlin:20251108T153000
DTEND;TZID=Europe/Berlin:20251108T173000
LOCATION:ZŠ Milénova 14\, Milénova 808 Brno - Lesná
SUMMARY:JM-U16Z-IIIA: K. Pole-KP Brno B
END:VEVENT
BEGIN:VEVENT
UID:35363735-3036-4631-b866-376566363032
DTSTAMP:20260422T085131Z
DESCRIPTION:3/3 KP Brno B - VK Brno\, D 0:2 (-23\,-16)
DTSTART;TZID=Europe/Berlin:20251122T114500
DTEND;TZID=Europe/Berlin:20251122T134500
LOCATION:ZŠ Předklášteří\, Komenského 1097 Předklášteří
SUMMARY:JM-U16Z-IVB: KP Brno B-VK Brno\, D
END:VEVENT
BEGIN:VEVENT
UID:37363533-6436-4530-a531-643037366330
DTSTAMP:20260422T085131Z
DESCRIPTION:1/1 Sokol Předklášteří - KP Brno B 0:2 (-18\,-21)
DTSTART;TZID=Europe/Berlin:20251122T090000
DTEND;TZID=Europe/Berlin:20251122T110000
LOCATION:ZŠ Předklášteří\, Komenského 1097 Předklášteří
SUMMARY:JM-U16Z-IVB: Sokol Předklášteří-KP Brno B
END:VEVENT
BEGIN:VEVENT
UID:30636235-3534-4638-b164-313864653562
DTSTAMP:20260422T085131Z
DESCRIPTION:5/5 Tělocvičná jednota Sokol Bučovice - KP Brno B 1:2 (-17\,23\
 ,-13)
DTSTART;TZID=Europe/Berlin:20251122T141500
DTEND;TZID=Europe/Berlin:20251122T161500
LOCATION:ZŠ Předklášteří\, Komenského 1097 Předklášteří
SUMMARY:JM-U16Z-IVB: Tělocvičná jednota Sokol Bučovice-KP Brno B
END:VEVENT
BEGIN:VEVENT
UID:34396130-3965-4932-b436-313137613861
DTSTAMP:20260422T085131Z
DESCRIPTION:1/1 KP Brno B - TJ Sokol Dolní Újezd 2:0 (15\,22)
DTSTART;TZID=Europe/Berlin:20260117T093000
DTEND;TZID=Europe/Berlin:20260117T113000
LOCATION:Sportovní gymnázium Ludvíka Daňka\, Botanická 63 Brno - Ponava
SUMMARY:CP-U16Z4G: KP Brno B-TJ Sokol Dolní Újezd
END:VEVENT
BEGIN:VEVENT
UID:39626331-3035-4330-b939-646261383061
DTSTAMP:20260422T085131Z
DESCRIPTION:3/5 KP Brno B - Mikulova B 1:2 (17\,-17\,-9)
DTSTART;TZID=Europe/Berlin:20260117T120000
DTEND;TZID=Europe/Berlin:20260117T140000
LOCATION:Sportovní gymnázium Ludvíka Daňka\, Botanická 63 Brno - Ponava
SUMMARY:CP-U16Z4G: KP Brno B-Mikulova B
END:VEVENT
BEGIN:VEVENT
UID:39626336-3262-4530-b937-353666643634
DTSTAMP:20260422T085131Z
DESCRIPTION:7/13 KP Brno B - SK Dansport 2:0 (16\,13)
DTSTART;TZID=Europe/Berlin:20260117T170000
DTEND;TZID=Europe/Berlin:20260117T190000
LOCATION:Sportovní gymnázium Ludvíka Daňka\, Botanická 63 Brno - Ponava
SUMMARY:CP-U16Z4G: KP Brno B-SK Dansport
END:VEVENT
BEGIN:VEVENT
UID:36376435-6466-4137-b439-396634663435
DTSTAMP:20260422T085131Z
DESCRIPTION:11/21 KP Brno B - INLAB SK Meteor Praha 2:0 (3\,19)
DTSTART;TZID=Europe/Berlin:20260118T113000
DTEND;TZID=Europe/Berlin:20260118T133000
LOCATION:Sportovní gymnázium Ludvíka Daňka\, Botanická 63 Brno - Ponava
SUMMARY:CP-U16Z4G: KP Brno B-INLAB SK Meteor Praha
END:VEVENT
BEGIN:VEVENT
UID:62623430-6166-4630-b865-356431353330
DTSTAMP:20260422T085131Z
DESCRIPTION:5/9 VK Sever Žatec - KP Brno B 1:2 (19\,-12\,-9)
DTSTART;TZID=Europe/Berlin:20260117T143000
DTEND;TZID=Europe/Berlin:20260117T163000
LOCATION:Sportovní gymnázium Ludvíka Daňka\, Botanická 63 Brno - Ponava
SUMMARY:CP-U16Z4G: VK Sever Žatec-KP Brno B
END:VEVENT
BEGIN:VEVENT
UID:33346333-6238-4536-b735-343230323039
DTSTAMP:20260422T085131Z
DESCRIPTION:9/17 TJ Kunice - KP Brno B 2:1 (20\,-23\,10)
DTSTART;TZID=Europe/Berlin:20260118T090000
DTEND;TZID=Europe/Berlin:20260118T110000
LOCATION:Sportovní gymnázium Ludvíka Daňka\, Botanická 63 Brno - Ponava
SUMMARY:CP-U16Z4G: TJ Kunice-KP Brno B
END:VEVENT
BEGIN:VEVENT
UID:62616530-3439-4863-b938-326133373263
DTSTAMP:20260422T085131Z
DESCRIPTION:14/27 Volejbal Přerov - KP Brno B 0:2 (-12\,-14)
DTSTART;TZID=Europe/Berlin:20260118T151500
DTEND;TZID=Europe/Berlin:20260118T171500
LOCATION:Sportovní gymnázium Ludvíka Daňka\, Botanická 63 Brno - Ponava
SUMMARY:CP-U16Z4G: Volejbal Přerov-KP Brno B
END:VEVENT
BEGIN:VEVENT
UID:30386638-6339-4162-b935-623737306639
DTSTAMP:20260422T085131Z
DESCRIPTION:1/2 KP Brno B - Sokol Předklášteří 2:0 (14\,11)
DTSTART;TZID=Europe/Berlin:20251213T090000
DTEND;TZID=Europe/Berlin:20251213T110000
LOCATION:TJ Lokomotiva Břeclav\, Veslařská 2753 Břeclav
SUMMARY:JM-U16Z-VB: KP Brno B-Sokol Předklášteří
END:VEVENT
BEGIN:VEVENT
UID:64383562-3934-4031-b038-613262393239
DTSTAMP:20260422T085131Z
DESCRIPTION:3/5 KP Brno B - KP Milénova Brno A 2:0 (13\,16)
DTSTART;TZID=Europe/Berlin:20251213T114500
DTEND;TZID=Europe/Berlin:20251213T134500
LOCATION:TJ Lokomotiva Břeclav\, Veslařská 2753 Břeclav
SUMMARY:JM-U16Z-VB: KP Brno B-KP Milénova Brno A
END:VEVENT
BEGIN:VEVENT
UID:61393937-6237-4231-b866-626462326634
DTSTAMP:20260422T085131Z
DESCRIPTION:2/4 TJ Lokomotiva Břeclav - KP Brno B 2:0 (20\,25)
DTSTART;TZID=Europe/Berlin:20251213T103000
DTEND;TZID=Europe/Berlin:20251213T123000
LOCATION:TJ Lokomotiva Břeclav\, Veslařská 2753 Břeclav
SUMMARY:JM-U16Z-VB: TJ Lokomotiva Břeclav-KP Brno B
END:VEVENT
BEGIN:VEVENT
UID:38326239-6231-4739-a166-393234623433
DTSTAMP:20260422T085131Z
DESCRIPTION:1/1 KP Brno B - KP Milénova Brno A 2:1 (-18\,24\,13)
DTSTART;TZID=Europe/Berlin:20260110T090000
DTEND;TZID=Europe/Berlin:20260110T110000
LOCATION:STAREZ ARÉNA VODOVA (Hala 3)\, Vodova 336 Brno - Královo Pole
SUMMARY:JM-U16Z-VIB: KP Brno B-KP Milénova Brno A
END:VEVENT
BEGIN:VEVENT
UID:32656162-3938-4438-b861-343132363435
DTSTAMP:20260422T085131Z
DESCRIPTION:4/4 KP Brno B - Tělocvičná jednota Sokol Bučovice 2:0 (15\,21)
DTSTART;TZID=Europe/Berlin:20260110T130000
DTEND;TZID=Europe/Berlin:20260110T150000
LOCATION:STAREZ ARÉNA VODOVA (Hala 3)\, Vodova 336 Brno - Královo Pole
SUMMARY:JM-U16Z-VIB: KP Brno B-Tělocvičná jednota Sokol Bučovice
END:VEVENT
BEGIN:VEVENT
UID:35343965-3237-4666-b936-303665366439
DTSTAMP:20260422T085131Z
DESCRIPTION:6/6 B6 Brno - KP Brno B 2:0 (21\,23)
DTSTART;TZID=Europe/Berlin:20260110T153000
DTEND;TZID=Europe/Berlin:20260110T173000
LOCATION:STAREZ ARÉNA VODOVA (Hala 3)\, Vodova 336 Brno - Královo Pole
SUMMARY:JM-U16Z-VIB: B6 Brno-KP Brno B
END:VEVENT
BEGIN:VEVENT
UID:30346339-3461-4861-a364-656634616431
DTSTAMP:20260422T085131Z
DESCRIPTION:3/6 KP Brno B - VA MUNI SPORT Brno 2:0 (15\,14)
DTSTART;TZID=Europe/Berlin:20260131T114500
DTEND;TZID=Europe/Berlin:20260131T134500
LOCATION:,  Podolí470
SUMMARY:JM-U16Z-VIIB: KP Brno B-VA MUNI SPORT Brno
END:VEVENT
BEGIN:VEVENT
UID:39396534-6663-4736-b662-343561356637
DTSTAMP:20260422T085131Z
DESCRIPTION:1/2 TJ Lokomotiva Břeclav - KP Brno B 1:2 (-22\,19\,-15)
DTSTART;TZID=Europe/Berlin:20260131T090000
DTEND;TZID=Europe/Berlin:20260131T110000
LOCATION:,  Podolí470
SUMMARY:JM-U16Z-VIIB: TJ Lokomotiva Břeclav-KP Brno B
END:VEVENT
BEGIN:VEVENT
UID:36303435-3732-4766-a331-383862386465
DTSTAMP:20260422T085131Z
DESCRIPTION:2/3 Tělocvičná jednota Sokol Bučovice - KP Brno B 0:2 (-16\,-23
 )
DTSTART;TZID=Europe/Berlin:20260131T103000
DTEND;TZID=Europe/Berlin:20260131T123000
LOCATION:,  Podolí470
SUMMARY:JM-U16Z-VIIB: Tělocvičná jednota Sokol Bučovice-KP Brno B
END:VEVENT
BEGIN:VEVENT
UID:66653065-3238-4933-b963-353461396338
DTSTAMP:20260422T085131Z
DESCRIPTION:3/6 KP Brno B - VK Brno 2:0 (18\,20)
DTSTART;TZID=Europe/Berlin:20260207T113000
DTEND;TZID=Europe/Berlin:20260207T133000
LOCATION:TJ Slavia Hradec Králové\, Víta Nejedlého 1216 Hradec Králové
SUMMARY:CP-U16Z5F: KP Brno B-VK Brno
END:VEVENT
BEGIN:VEVENT
UID:62343232-3236-4362-a433-633361663832
DTSTAMP:20260422T085131Z
DESCRIPTION:10/20 KP Brno B - SK Španielka 2:1 (-20\,22\,17)
DTSTART;TZID=Europe/Berlin:20260208T101500
DTEND;TZID=Europe/Berlin:20260208T121500
LOCATION:TJ Slavia Hradec Králové\, Víta Nejedlého 1216 Hradec Králové
SUMMARY:CP-U16Z5F: KP Brno B-SK Španielka
END:VEVENT
BEGIN:VEVENT
UID:64613566-3263-4663-b833-303233316262
DTSTAMP:20260422T085131Z
DESCRIPTION:14/27 KP Brno B - VK Lvi Praha 2:1 (11\,-23\,8)
DTSTART;TZID=Europe/Berlin:20260208T151500
DTEND;TZID=Europe/Berlin:20260208T171500
LOCATION:TJ Slavia Hradec Králové\, Víta Nejedlého 1216 Hradec Králové
SUMMARY:CP-U16Z5F: KP Brno B-VK Lvi Praha
END:VEVENT
BEGIN:VEVENT
UID:33323430-6435-4338-b532-356235303238
DTSTAMP:20260422T085131Z
DESCRIPTION:2/3 VSK Baník Sokolov - KP Brno B 1:2 (23\,-6\,-6)
DTSTART;TZID=Europe/Berlin:20260207T101500
DTEND;TZID=Europe/Berlin:20260207T121500
LOCATION:TJ Slavia Hradec Králové\, Víta Nejedlého 1216 Hradec Králové
SUMMARY:CP-U16Z5F: VSK Baník Sokolov-KP Brno B
END:VEVENT
BEGIN:VEVENT
UID:61393666-3736-4234-b939-646235373863
DTSTAMP:20260422T085131Z
DESCRIPTION:6/12 TJ Kunice - KP Brno B 0:2 (-21\,-24)
DTSTART;TZID=Europe/Berlin:20260207T151500
DTEND;TZID=Europe/Berlin:20260207T171500
LOCATION:TJ Slavia Hradec Králové\, Víta Nejedlého 1216 Hradec Králové
SUMMARY:CP-U16Z5F: TJ Kunice-KP Brno B
END:VEVENT
BEGIN:VEVENT
UID:39363831-3335-4138-b935-633132303138
DTSTAMP:20260422T085131Z
DESCRIPTION:7/13 SK Volejbal Kolín - KP Brno B 2:1 (-20\,16\,11)
DTSTART;TZID=Europe/Berlin:20260207T163000
DTEND;TZID=Europe/Berlin:20260207T183000
LOCATION:TJ Slavia Hradec Králové\, Víta Nejedlého 1216 Hradec Králové
SUMMARY:CP-U16Z5F: SK Volejbal Kolín-KP Brno B
END:VEVENT
BEGIN:VEVENT
UID:62626638-3537-4533-b162-366165326366
DTSTAMP:20260422T085131Z
DESCRIPTION:11/22 SC Braník - KP Brno B 1:2 (17\,-14\,-12)
DTSTART;TZID=Europe/Berlin:20260208T113000
DTEND;TZID=Europe/Berlin:20260208T133000
LOCATION:TJ Slavia Hradec Králové\, Víta Nejedlého 1216 Hradec Králové
SUMMARY:CP-U16Z5F: SC Braník-KP Brno B
END:VEVENT
BEGIN:VEVENT
UID:33396563-3833-4330-b436-346230303235
DTSTAMP:20260422T085131Z
DESCRIPTION:3/5 KP Brno B - S V B C 2:1 (14\,-12\,13)
DTSTART;TZID=Europe/Berlin:20260328T113000
DTEND;TZID=Europe/Berlin:20260328T133000
LOCATION:Sportovní gymnázium Ludvíka Daňka\, Botanická 63 Brno - Ponava
SUMMARY:CP-U16Z6H: KP Brno B-S V B C
END:VEVENT
BEGIN:VEVENT
UID:36656365-3263-4565-b135-386363326438
DTSTAMP:20260422T085131Z
DESCRIPTION:7/13 KP Brno B - Volejbal Tábor 2:0 (18\,12)
DTSTART;TZID=Europe/Berlin:20260328T163000
DTEND;TZID=Europe/Berlin:20260328T183000
LOCATION:Sportovní gymnázium Ludvíka Daňka\, Botanická 63 Brno - Ponava
SUMMARY:CP-U16Z6H: KP Brno B-Volejbal Tábor
END:VEVENT
BEGIN:VEVENT
UID:33366639-3436-4434-b832-626636323835
DTSTAMP:20260422T085131Z
DESCRIPTION:11/21 KP Brno B - SK Volejbal Kolín 2:0 (17\,9)
DTSTART;TZID=Europe/Berlin:20260329T113000
DTEND;TZID=Europe/Berlin:20260329T133000
LOCATION:Sportovní gymnázium Ludvíka Daňka\, Botanická 63 Brno - Ponava
SUMMARY:CP-U16Z6H: KP Brno B-SK Volejbal Kolín
END:VEVENT
BEGIN:VEVENT
UID:34643732-3637-4431-b231-323838633765
DTSTAMP:20260422T085131Z
DESCRIPTION:1/1 VK Jirkov - KP Brno B 0:2 (-15\,-12)
DTSTART;TZID=Europe/Berlin:20260328T090000
DTEND;TZID=Europe/Berlin:20260328T110000
LOCATION:sportovní hala MGZŠ Krušnohorská Jirkov Jirkov\, Krušnohorská 1675
SUMMARY:CP-U16Z6H: VK Jirkov-KP Brno B
END:VEVENT
BEGIN:VEVENT
UID:32356133-6435-4262-a265-633036306531
DTSTAMP:20260422T085131Z
DESCRIPTION:5/9 Klatovy - KP Brno B 2:1 (-21\,16\,11)
DTSTART;TZID=Europe/Berlin:20260328T140000
DTEND;TZID=Europe/Berlin:20260328T160000
LOCATION:Sportovní hala ZŠ Čapkova\, Čapkova 136 Klatovy - Klatovy V
SUMMARY:CP-U16Z6H: Klatovy-KP Brno B
END:VEVENT
BEGIN:VEVENT
UID:65356133-3665-4461-a133-366431343738
DTSTAMP:20260422T085131Z
DESCRIPTION:9/17 Slavia H.Králové - KP Brno B 0:2 (-23\,-19)
DTSTART;TZID=Europe/Berlin:20260329T090000
DTEND;TZID=Europe/Berlin:20260329T110000
LOCATION:TJ Slavia Hradec Králové\, Víta Nejedlého 1216 Hradec Králové
SUMMARY:CP-U16Z6H: Slavia H.Králové-KP Brno B
END:VEVENT
BEGIN:VEVENT
UID:64643666-3334-4637-b836-336434663035
DTSTAMP:20260422T085131Z
DESCRIPTION:12/23 SVK Nový Jičín - KP Brno B 0:2 (-14\,-11)
DTSTART;TZID=Europe/Berlin:20260329T124500
DTEND;TZID=Europe/Berlin:20260329T144500
LOCATION:Hala ABC\, Purkyňova 116 Nový Jičín
SUMMARY:CP-U16Z6H: SVK Nový Jičín-KP Brno B
END:VEVENT
BEGIN:VEVENT
UID:66333862-6238-4962-a339-396563363662
DTSTAMP:20260422T085131Z
DESCRIPTION:6/6 KP Brno B - VK Brno\, D 0:2 (-9\,-14)
DTSTART;TZID=Europe/Berlin:20260307T153000
DTEND;TZID=Europe/Berlin:20260307T173000
LOCATION:ZŠ Vejrostova\, Vejrostova 1066 Brno - Bystrc
SUMMARY:JM-U16Z-VIIIA: KP Brno B-VK Brno\, D
END:VEVENT
BEGIN:VEVENT
UID:34376339-6164-4733-a131-346531393533
DTSTAMP:20260422T085131Z
DESCRIPTION:2/2 Znojmo - KP Brno B 2:1 (18\,-26\,5)
DTSTART;TZID=Europe/Berlin:20260307T103000
DTEND;TZID=Europe/Berlin:20260307T123000
LOCATION:ZŠ Vejrostova\, Vejrostova 1066 Brno - Bystrc
SUMMARY:JM-U16Z-VIIIA: Znojmo-KP Brno B
END:VEVENT
BEGIN:VEVENT
UID:66663138-3238-4366-b235-336236663062
DTSTAMP:20260422T085131Z
DESCRIPTION:3/3 K. Pole - KP Brno B 1:2 (19\,-22\,-11)
DTSTART;TZID=Europe/Berlin:20260307T114500
DTEND;TZID=Europe/Berlin:20260307T134500
LOCATION:ZŠ Vejrostova\, Vejrostova 1066 Brno - Bystrc
SUMMARY:JM-U16Z-VIIIA: K. Pole-KP Brno B
END:VEVENT
BEGIN:VEVENT
UID:36333635-3435-4462-b466-313439633834
DTSTAMP:20260422T085131Z
DESCRIPTION:2/4 KP Brno B - Tělocvičná jednota Sokol Bučovice 1:2 (-19\,19\
 ,-13)\n4. vs 5. Kurt 2
DTSTART;TZID=Europe/Berlin:20260411T103000
DTEND;TZID=Europe/Berlin:20260411T123000
LOCATION:Sportovní gymnázium Ludvíka Daňka\, Botanická 63 Brno - Ponava
SUMMARY:JM-U16Z-F: KP Brno B-Tělocvičná jednota Sokol Bučovice
END:VEVENT
BEGIN:VEVENT
UID:37363133-3436-4566-b965-636339383762
DTSTAMP:20260422T085131Z
DESCRIPTION:5/10 KP Brno B - Znojmo 2:1 (-12\,20\,9)\nW5 vs W6 Kurt 1
DTSTART;TZID=Europe/Berlin:20260411T141500
DTEND;TZID=Europe/Berlin:20260411T161500
LOCATION:Sportovní gymnázium Ludvíka Daňka\, Botanická 63 Brno - Ponava
SUMMARY:JM-U16Z-F: KP Brno B-Znojmo
END:VEVENT
BEGIN:VEVENT
UID:34646363-6437-4666-b238-636563663766
DTSTAMP:20260422T085131Z
DESCRIPTION:3/5 Sokol Předklášteří - KP Brno B 0:2 (-19\,-16)\nL1 vs L4 Kur
 t 1
DTSTART;TZID=Europe/Berlin:20260411T114500
DTEND;TZID=Europe/Berlin:20260411T134500
LOCATION:ZŠ Předklášteří\, Komenského 1097 Předklášteří
SUMMARY:JM-U16Z-F: Sokol Předklášteří-KP Brno B
END:VEVENT
END:VCALENDAR
