BEGIN:VCALENDAR
VERSION:2.0
PRODID:-//VK Žabovřesky90697//NONSGML kigkonsult.se iCalcreator 2.41.80//
CALSCALE:GREGORIAN
UID:31656431-6435-4532-a562-633063333738
BEGIN:VEVENT
UID:39333539-3565-4766-b663-343663316562
DTSTAMP:20260422T003914Z
DESCRIPTION:3/10 VK Žabovřesky - Šlapanice 3:1 (23\,19\,-22\,17)
DTSTART;TZID=Europe/Berlin:20251018T090000
DTEND;TZID=Europe/Berlin:20251018T110000
LOCATION:Gymnázium Matyáše Lercha\, Žižkova 980 Brno - Veveří
SUMMARY:JM-M-1: VK Žabovřesky-Šlapanice
END:VEVENT
BEGIN:VEVENT
UID:32346236-6264-4437-b137-366134393261
DTSTAMP:20260422T003914Z
DESCRIPTION:4/14 VK Žabovřesky - Šlapanice 0:3 (-22\,-16\,-19)
DTSTART;TZID=Europe/Berlin:20251018T130000
DTEND;TZID=Europe/Berlin:20251018T150000
LOCATION:Gymnázium Matyáše Lercha\, Žižkova 980 Brno - Veveří
SUMMARY:JM-M-1: VK Žabovřesky-Šlapanice
END:VEVENT
BEGIN:VEVENT
UID:36343966-6432-4737-a139-323963376638
DTSTAMP:20260422T003914Z
DESCRIPTION:9/36 VK Žabovřesky - Kometa Brno B 1:3 (-20\,12\,-17\,-20)
DTSTART;TZID=Europe/Berlin:20251122T100000
DTEND;TZID=Europe/Berlin:20251122T120000
LOCATION:Gymnázium Matyáše Lercha\, Žižkova 980 Brno - Veveří
SUMMARY:JM-M-1: VK Žabovřesky-Kometa Brno B
END:VEVENT
BEGIN:VEVENT
UID:65373536-3836-4531-a130-663130383134
DTSTAMP:20260422T003914Z
DESCRIPTION:10/40 VK Žabovřesky - Kometa Brno B 3:0 (22\,24\,14)
DTSTART;TZID=Europe/Berlin:20251122T130000
DTEND;TZID=Europe/Berlin:20251122T150000
LOCATION:Gymnázium Matyáše Lercha\, Žižkova 980 Brno - Veveří
SUMMARY:JM-M-1: VK Žabovřesky-Kometa Brno B
END:VEVENT
BEGIN:VEVENT
UID:66366665-3832-4664-b964-666632383762
DTSTAMP:20260422T003914Z
DESCRIPTION:13/51 VK Žabovřesky - Tělovýchovná jednota Lokomotiva - Ingstav
 \, z.s. 2:3 (-17\,24\,22\,-19\,-10)
DTSTART;TZID=Europe/Berlin:20251213T110000
DTEND;TZID=Europe/Berlin:20251213T130000
LOCATION:Gymnázium Matyáše Lercha\, Žižkova 980 Brno - Veveří
SUMMARY:JM-M-1: VK Žabovřesky-Tělovýchovná jednota Lokomotiva - Ingstav\, z
 .s.
END:VEVENT
BEGIN:VEVENT
UID:38303566-3863-4738-b435-616232653064
DTSTAMP:20260422T003914Z
DESCRIPTION:14/55 VK Žabovřesky - Tělovýchovná jednota Lokomotiva - Ingstav
 \, z.s. 0:3 (-19\,-25\,-25)
DTSTART;TZID=Europe/Berlin:20251213T150000
DTEND;TZID=Europe/Berlin:20251213T170000
LOCATION:Gymnázium Matyáše Lercha\, Žižkova 980 Brno - Veveří
SUMMARY:JM-M-1: VK Žabovřesky-Tělovýchovná jednota Lokomotiva - Ingstav\, z
 .s.
END:VEVENT
BEGIN:VEVENT
UID:33313134-6439-4039-b839-353937346261
DTSTAMP:20260422T003914Z
DESCRIPTION:15/59 VK Žabovřesky - VOLEJBAL VYŠKOV 2:3 (21\,-23\,19\,-17\,-1
 4)
DTSTART;TZID=Europe/Berlin:20260110T100000
DTEND;TZID=Europe/Berlin:20260110T120000
LOCATION:Gymnázium Matyáše Lercha\, Žižkova 980 Brno - Veveří
SUMMARY:JM-M-1: VK Žabovřesky-VOLEJBAL VYŠKOV
END:VEVENT
BEGIN:VEVENT
UID:63373531-6131-4837-a132-373534393263
DTSTAMP:20260422T003914Z
DESCRIPTION:16/63 VK Žabovřesky - VOLEJBAL VYŠKOV 3:0 (19\,23\,16)
DTSTART;TZID=Europe/Berlin:20260110T130000
DTEND;TZID=Europe/Berlin:20260110T150000
LOCATION:Gymnázium Matyáše Lercha\, Žižkova 980 Brno - Veveří
SUMMARY:JM-M-1: VK Žabovřesky-VOLEJBAL VYŠKOV
END:VEVENT
BEGIN:VEVENT
UID:64656262-3265-4633-a332-643336326630
DTSTAMP:20260422T003914Z
DESCRIPTION:19/76 VK Žabovřesky - TJ TESLA BRNO z.s. 0:3 (-26\,-19\,-20)
DTSTART;TZID=Europe/Berlin:20260131T100000
DTEND;TZID=Europe/Berlin:20260131T120000
LOCATION:Gymnázium Matyáše Lercha\, Žižkova 980 Brno - Veveří
SUMMARY:JM-M-1: VK Žabovřesky-TJ TESLA BRNO z.s.
END:VEVENT
BEGIN:VEVENT
UID:39633839-3732-4337-b464-386262646365
DTSTAMP:20260422T003914Z
DESCRIPTION:20/80 VK Žabovřesky - TJ TESLA BRNO z.s. 0:3 (-19\,-12\,-19)
DTSTART;TZID=Europe/Berlin:20260131T130000
DTEND;TZID=Europe/Berlin:20260131T150000
LOCATION:Gymnázium Matyáše Lercha\, Žižkova 980 Brno - Veveří
SUMMARY:JM-M-1: VK Žabovřesky-TJ TESLA BRNO z.s.
END:VEVENT
BEGIN:VEVENT
UID:36363437-6632-4834-b562-626230313334
DTSTAMP:20260422T003914Z
DESCRIPTION:25/98 VK Žabovřesky - TJ Holubice 2:3 (22\,-21\,-25\,22\,-6)
DTSTART;TZID=Europe/Berlin:20260314T100000
DTEND;TZID=Europe/Berlin:20260314T120000
LOCATION:Gymnázium Matyáše Lercha\, Žižkova 980 Brno - Veveří
SUMMARY:JM-M-1: VK Žabovřesky-TJ Holubice
END:VEVENT
BEGIN:VEVENT
UID:61623238-6139-4164-b664-373965363739
DTSTAMP:20260422T003914Z
DESCRIPTION:26/102 VK Žabovřesky - TJ Holubice 1:3 (-21\,20\,-21\,-14)
DTSTART;TZID=Europe/Berlin:20260314T130000
DTEND;TZID=Europe/Berlin:20260314T150000
LOCATION:Gymnázium Matyáše Lercha\, Žižkova 980 Brno - Veveří
SUMMARY:JM-M-1: VK Žabovřesky-TJ Holubice
END:VEVENT
BEGIN:VEVENT
UID:61363062-3432-4137-b936-303963646439
DTSTAMP:20260422T003914Z
DESCRIPTION:1/3 VOLEJBAL VYŠKOV - VK Žabovřesky 0:3 (-19\,-13\,-15)
DTSTART;TZID=Europe/Berlin:20251011T100000
DTEND;TZID=Europe/Berlin:20251011T120000
LOCATION:Sportovní hala\, Mlýnská 737 Vyškov - Dědice
SUMMARY:JM-M-1: VOLEJBAL VYŠKOV-VK Žabovřesky
END:VEVENT
BEGIN:VEVENT
UID:34346634-3532-4363-b661-383031376530
DTSTAMP:20260422T003914Z
DESCRIPTION:2/7 VOLEJBAL VYŠKOV - VK Žabovřesky 0:3 (-19\,-14\,-19)
DTSTART;TZID=Europe/Berlin:20251011T130000
DTEND;TZID=Europe/Berlin:20251011T150000
LOCATION:Sportovní hala\, Mlýnská 737 Vyškov - Dědice
SUMMARY:JM-M-1: VOLEJBAL VYŠKOV-VK Žabovřesky
END:VEVENT
BEGIN:VEVENT
UID:66306639-6530-4938-a665-663965626662
DTSTAMP:20260422T003914Z
DESCRIPTION:5/20 TJ TESLA BRNO z.s. - VK Žabovřesky 3:2 (-16\,-23\,17\,22\,
 17)
DTSTART;TZID=Europe/Berlin:20251101T100000
DTEND;TZID=Europe/Berlin:20251101T120000
LOCATION:TJ Tesla Brno\, Halasovo náměstí 826 Brno - Lesná
SUMMARY:JM-M-1: TJ TESLA BRNO z.s.-VK Žabovřesky
END:VEVENT
BEGIN:VEVENT
UID:61373637-3639-4530-a465-633961383130
DTSTAMP:20260422T003914Z
DESCRIPTION:6/24 TJ TESLA BRNO z.s. - VK Žabovřesky 0:3 (-21\,-22\,-21)
DTSTART;TZID=Europe/Berlin:20251101T130000
DTEND;TZID=Europe/Berlin:20251101T150000
LOCATION:TJ Tesla Brno\, Halasovo náměstí 826 Brno - Lesná
SUMMARY:JM-M-1: TJ TESLA BRNO z.s.-VK Žabovřesky
END:VEVENT
BEGIN:VEVENT
UID:30346436-3933-4431-b263-666532616662
DTSTAMP:20260422T003914Z
DESCRIPTION:11/42 TJ Holubice - VK Žabovřesky 3:2 (-27\,-23\,21\,10\,9)
DTSTART;TZID=Europe/Berlin:20251206T100000
DTEND;TZID=Europe/Berlin:20251206T120000
LOCATION:Sportovní hala Holubice\,  Holubice299
SUMMARY:JM-M-1: TJ Holubice-VK Žabovřesky
END:VEVENT
BEGIN:VEVENT
UID:61306463-3630-4236-b634-633339333231
DTSTAMP:20260422T003914Z
DESCRIPTION:12/46 TJ Holubice - VK Žabovřesky 3:1 (-21\,23\,23\,15)
DTSTART;TZID=Europe/Berlin:20251206T130000
DTEND;TZID=Europe/Berlin:20251206T150000
LOCATION:Sportovní hala Holubice\,  Holubice299
SUMMARY:JM-M-1: TJ Holubice-VK Žabovřesky
END:VEVENT
BEGIN:VEVENT
UID:66346264-6661-4436-a238-646636633739
DTSTAMP:20260422T003914Z
DESCRIPTION:17/66 Šlapanice - VK Žabovřesky 3:1 (19\,18\,-19\,20)
DTSTART;TZID=Europe/Berlin:20260117T090000
DTEND;TZID=Europe/Berlin:20260117T110000
LOCATION:ZŠ Na Zahrádkách \, Na Zahrádkách 1716 Šlapanice
SUMMARY:JM-M-1: Šlapanice-VK Žabovřesky
END:VEVENT
BEGIN:VEVENT
UID:39333231-3030-4565-b438-633530346636
DTSTAMP:20260422T003914Z
DESCRIPTION:18/70 Šlapanice - VK Žabovřesky 3:1 (14\,-19\,22\,19)
DTSTART;TZID=Europe/Berlin:20260117T130000
DTEND;TZID=Europe/Berlin:20260117T150000
LOCATION:ZŠ Na Zahrádkách \, Na Zahrádkách 1716 Šlapanice
SUMMARY:JM-M-1: Šlapanice-VK Žabovřesky
END:VEVENT
BEGIN:VEVENT
UID:38393264-3131-4664-b734-653962303366
DTSTAMP:20260422T003914Z
DESCRIPTION:23/92 Kometa Brno B - VK Žabovřesky 0:3 (-21\,-30\,-23)
DTSTART;TZID=Europe/Berlin:20260307T100000
DTEND;TZID=Europe/Berlin:20260307T120000
LOCATION:Hala A\, Horní 818 Brno - Štýřice
SUMMARY:JM-M-1: Kometa Brno B-VK Žabovřesky
END:VEVENT
BEGIN:VEVENT
UID:35346335-6536-4130-b430-383636663432
DTSTAMP:20260422T003914Z
DESCRIPTION:24/96 Kometa Brno B - VK Žabovřesky 1:3 (18\,-17\,-18\,-20)
DTSTART;TZID=Europe/Berlin:20260307T130000
DTEND;TZID=Europe/Berlin:20260307T150000
LOCATION:Hala A\, Horní 818 Brno - Štýřice
SUMMARY:JM-M-1: Kometa Brno B-VK Žabovřesky
END:VEVENT
BEGIN:VEVENT
UID:64393830-6266-4138-b538-396463393238
DTSTAMP:20260422T003914Z
DESCRIPTION:27/107 Tělovýchovná jednota Lokomotiva - Ingstav\, z.s. - VK Ža
 bovřesky 2:3 (13\,16\,-19\,-15\,-12)
DTSTART;TZID=Europe/Berlin:20260321T100000
DTEND;TZID=Europe/Berlin:20260321T120000
LOCATION:Sportovní hala VUT Purkyňova \, Purkyňova 2640 Brno - Královo Pole
SUMMARY:JM-M-1: Tělovýchovná jednota Lokomotiva - Ingstav\, z.s.-VK Žabovře
 sky
END:VEVENT
BEGIN:VEVENT
UID:35366136-6637-4234-b337-316338373236
DTSTAMP:20260422T003914Z
DESCRIPTION:28/111 Tělovýchovná jednota Lokomotiva - Ingstav\, z.s. - VK Ža
 bovřesky 0:3 (-20\,-22\,-35)
DTSTART;TZID=Europe/Berlin:20260321T130000
DTEND;TZID=Europe/Berlin:20260321T150000
LOCATION:Sportovní hala VUT Purkyňova \, Purkyňova 2640 Brno - Královo Pole
SUMMARY:JM-M-1: Tělovýchovná jednota Lokomotiva - Ingstav\, z.s.-VK Žabovře
 sky
END:VEVENT
END:VCALENDAR
