BEGIN:VCALENDAR
VERSION:2.0
PRODID:-//VK Královo Pole C90699//NONSGML kigkonsult.se iCalcreator 2.41.80//
CALSCALE:GREGORIAN
UID:62376161-3161-4437-a165-333335363236
BEGIN:VEVENT
UID:31376661-6534-4639-b761-336561366263
DTSTAMP:20260422T033924Z
DESCRIPTION:1/2 Královo Pole C - VK Brno\, z.s. 3:0 (18\,19\,21)
DTSTART;TZID=Europe/Berlin:20250914T100000
DTEND;TZID=Europe/Berlin:20250914T120000
LOCATION:Sportovní gymnázium Ludvíka Daňka\, Botanická 63 Brno - Ponava
SUMMARY:JM-U20Z-C: Královo Pole C-VK Brno\, z.s.
END:VEVENT
BEGIN:VEVENT
UID:31313533-3532-4236-b462-636239356466
DTSTAMP:20260422T033924Z
DESCRIPTION:2/5 Královo Pole C - VK Brno\, z.s. 3:2 (12\,-19\,-23\,18\,11)
DTSTART;TZID=Europe/Berlin:20250914T130000
DTEND;TZID=Europe/Berlin:20250914T150000
LOCATION:Sportovní gymnázium Ludvíka Daňka\, Botanická 63 Brno - Ponava
SUMMARY:JM-U20Z-C: Královo Pole C-VK Brno\, z.s.
END:VEVENT
BEGIN:VEVENT
UID:38356461-6633-4331-b031-393439396439
DTSTAMP:20260422T033924Z
DESCRIPTION:7/21 Královo Pole C - TJ Minerva Boskovice 0:3 (-13\,-23\,-20)
DTSTART;TZID=Europe/Berlin:20251019T100000
DTEND;TZID=Europe/Berlin:20251019T120000
LOCATION:ZŠ Milénova 14\, Milénova 808 Brno - Lesná
SUMMARY:JM-U20Z-C: Královo Pole C-TJ Minerva Boskovice
END:VEVENT
BEGIN:VEVENT
UID:62393237-6130-4130-b838-353361646538
DTSTAMP:20260422T033924Z
DESCRIPTION:8/24 Královo Pole C - TJ Minerva Boskovice 3:2 (-12\,23\,-24\,2
 3\,12)
DTSTART;TZID=Europe/Berlin:20251019T130000
DTEND;TZID=Europe/Berlin:20251019T150000
LOCATION:ZŠ Milénova 14\, Milénova 808 Brno - Lesná
SUMMARY:JM-U20Z-C: Královo Pole C-TJ Minerva Boskovice
END:VEVENT
BEGIN:VEVENT
UID:35626334-3433-4230-b530-626335306433
DTSTAMP:20260422T033924Z
DESCRIPTION:13/39 Královo Pole C - HIPPO Kuřim 3:0 (22\,18\,11)
DTSTART;TZID=Europe/Berlin:20251214T090000
DTEND;TZID=Europe/Berlin:20251214T110000
LOCATION:STAREZ ARÉNA VODOVA (Velká hala)\, Vodova 336 Brno - Královo Pole
SUMMARY:JM-U20Z-C: Královo Pole C-HIPPO Kuřim
END:VEVENT
BEGIN:VEVENT
UID:31623436-3262-4364-b333-653036393238
DTSTAMP:20260422T033924Z
DESCRIPTION:14/42 Královo Pole C - HIPPO Kuřim 3:0 (11\,19\,20)
DTSTART;TZID=Europe/Berlin:20251214T113000
DTEND;TZID=Europe/Berlin:20251214T133000
LOCATION:STAREZ ARÉNA VODOVA (Velká hala)\, Vodova 336 Brno - Královo Pole
SUMMARY:JM-U20Z-C: Královo Pole C-HIPPO Kuřim
END:VEVENT
BEGIN:VEVENT
UID:30663530-3638-4630-a566-613135373966
DTSTAMP:20260422T033924Z
DESCRIPTION:19/56 Královo Pole C - Tělocvičná jednota Sokol Předklášteří 3:
 1 (-18\,14\,18\,17)
DTSTART;TZID=Europe/Berlin:20260125T104500
DTEND;TZID=Europe/Berlin:20260125T124500
LOCATION:tělocvičny ZŠ Novolíšeňská\, Brno\, Novolíšeňská 2411 Brno - Líšeň
SUMMARY:JM-U20Z-C: Královo Pole C-Tělocvičná jednota Sokol Předklášteří
END:VEVENT
BEGIN:VEVENT
UID:35323865-6364-4130-b734-323566363763
DTSTAMP:20260422T033924Z
DESCRIPTION:20/59 Královo Pole C - Tělocvičná jednota Sokol Předklášteří 2:
 3 (23\,23\,-15\,-17\,-14)
DTSTART;TZID=Europe/Berlin:20260125T130000
DTEND;TZID=Europe/Berlin:20260125T150000
LOCATION:tělocvičny ZŠ Novolíšeňská\, Brno\, Novolíšeňská 2411 Brno - Líšeň
SUMMARY:JM-U20Z-C: Královo Pole C-Tělocvičná jednota Sokol Předklášteří
END:VEVENT
BEGIN:VEVENT
UID:62303935-6530-4261-b064-386336366663
DTSTAMP:20260422T033924Z
DESCRIPTION:3/9 HIPPO Kuřim - Královo Pole C 0:3 (-19\,-15\,-21)
DTSTART;TZID=Europe/Berlin:20250921T100000
DTEND;TZID=Europe/Berlin:20250921T120000
LOCATION:ZŠ Jungmannova Kuřim\, Jungmannova 813 Kuřim
SUMMARY:JM-U20Z-C: HIPPO Kuřim-Královo Pole C
END:VEVENT
BEGIN:VEVENT
UID:61316562-6237-4333-a166-633665356163
DTSTAMP:20260422T033924Z
DESCRIPTION:4/12 HIPPO Kuřim - Královo Pole C 1:3 (-20\,-21\,22\,-10)
DTSTART;TZID=Europe/Berlin:20250921T130000
DTEND;TZID=Europe/Berlin:20250921T150000
LOCATION:ZŠ Jungmannova Kuřim\, Jungmannova 813 Kuřim
SUMMARY:JM-U20Z-C: HIPPO Kuřim-Královo Pole C
END:VEVENT
BEGIN:VEVENT
UID:34383631-6333-4538-b437-323766306133
DTSTAMP:20260422T033924Z
DESCRIPTION:9/26 Tělocvičná jednota Sokol Předklášteří - Královo Pole C 0:3
  (-16\,-17\,-17)
DTSTART;TZID=Europe/Berlin:20251102T100000
DTEND;TZID=Europe/Berlin:20251102T120000
LOCATION:ZŠ Předklášteří\, Komenského 1097 Předklášteří
SUMMARY:JM-U20Z-C: Tělocvičná jednota Sokol Předklášteří-Královo Pole C
END:VEVENT
BEGIN:VEVENT
UID:34306239-6639-4465-b731-623532323130
DTSTAMP:20260422T033924Z
DESCRIPTION:10/29 Tělocvičná jednota Sokol Předklášteří - Královo Pole C 3:
 0 (23\,20\,23)
DTSTART;TZID=Europe/Berlin:20251102T130000
DTEND;TZID=Europe/Berlin:20251102T150000
LOCATION:ZŠ Předklášteří\, Komenského 1097 Předklášteří
SUMMARY:JM-U20Z-C: Tělocvičná jednota Sokol Předklášteří-Královo Pole C
END:VEVENT
BEGIN:VEVENT
UID:63333239-6362-4438-b434-363137303862
DTSTAMP:20260422T033924Z
DESCRIPTION:11/32 VK Brno\, z.s. - Královo Pole C 2:3 (16\,23\,-18\,-20\,-8
 )
DTSTART;TZID=Europe/Berlin:20251123T100000
DTEND;TZID=Europe/Berlin:20251123T120000
LOCATION:ZŠ Vejrostova\, Vejrostova 1066 Brno - Bystrc
SUMMARY:JM-U20Z-C: VK Brno\, z.s.-Královo Pole C
END:VEVENT
BEGIN:VEVENT
UID:36396637-3938-4331-b062-623662633132
DTSTAMP:20260422T033924Z
DESCRIPTION:12/35 VK Brno\, z.s. - Královo Pole C 1:3 (18\,-14\,-24\,-16)
DTSTART;TZID=Europe/Berlin:20251123T130000
DTEND;TZID=Europe/Berlin:20251123T150000
LOCATION:ZŠ Vejrostova\, Vejrostova 1066 Brno - Bystrc
SUMMARY:JM-U20Z-C: VK Brno\, z.s.-Královo Pole C
END:VEVENT
BEGIN:VEVENT
UID:36636131-3931-4331-b830-363464366630
DTSTAMP:20260422T033924Z
DESCRIPTION:17/51 TJ Minerva Boskovice - Královo Pole C 1:3 (-22\,-23\,18\,
 -19)
DTSTART;TZID=Europe/Berlin:20260118T100000
DTEND;TZID=Europe/Berlin:20260118T120000
LOCATION:Tělocvična ZŠ\, Slovákova 2006 Boskovice
SUMMARY:JM-U20Z-C: TJ Minerva Boskovice-Královo Pole C
END:VEVENT
BEGIN:VEVENT
UID:62626565-3365-4366-b933-343664346138
DTSTAMP:20260422T033924Z
DESCRIPTION:18/54 TJ Minerva Boskovice - Královo Pole C 0:3 (-21\,-22\,-22)
DTSTART;TZID=Europe/Berlin:20260118T130000
DTEND;TZID=Europe/Berlin:20260118T150000
LOCATION:Tělocvična ZŠ\, Slovákova 2006 Boskovice
SUMMARY:JM-U20Z-C: TJ Minerva Boskovice-Královo Pole C
END:VEVENT
BEGIN:VEVENT
UID:34346536-3166-4565-a237-366263636438
DTSTAMP:20260422T033924Z
DESCRIPTION:5/5 Královo Pole C - TJ Spartak Velká Bíteš\, z.s. 3:1 (21\,18\
 ,-23\,24)\nSportovní hala Velké Němčice\, Brněnská 696
DTSTART;TZID=Europe/Berlin:20260315T090000
DTEND;TZID=Europe/Berlin:20260315T110000
LOCATION:Sportovní gymnázium Ludvíka Daňka\, Botanická 63 Brno - Ponava
SUMMARY:JM-U20Z-I: Královo Pole C-TJ Spartak Velká Bíteš\, z.s.
END:VEVENT
BEGIN:VEVENT
UID:31626631-3635-4266-b338-343639666231
DTSTAMP:20260422T033924Z
DESCRIPTION:6/6 Královo Pole C - TJ Spartak Velká Bíteš\, z.s. 3:0 (22\,19\
 ,17)\nSportovní hala Velké Němčice\, Brněnská 696
DTSTART;TZID=Europe/Berlin:20260315T113000
DTEND;TZID=Europe/Berlin:20260315T133000
LOCATION:Sportovní gymnázium Ludvíka Daňka\, Botanická 63 Brno - Ponava
SUMMARY:JM-U20Z-I: Královo Pole C-TJ Spartak Velká Bíteš\, z.s.
END:VEVENT
BEGIN:VEVENT
UID:31333135-3732-4234-b763-653834313336
DTSTAMP:20260422T033924Z
DESCRIPTION:3/3 B6 Brno - Královo Pole C X:3
DTSTART;TZID=Europe/Berlin:20260301T100000
DTEND;TZID=Europe/Berlin:20260301T120000
LOCATION:Základní škola Brno\, Sirotkova 36\, Sirotkova 371 Brno - Žabovřes
 ky
SUMMARY:JM-U20Z-I: B6 Brno-Královo Pole C
END:VEVENT
BEGIN:VEVENT
UID:66636633-6235-4137-b562-373739646630
DTSTAMP:20260422T033924Z
DESCRIPTION:4/4 B6 Brno - Královo Pole C X:3
DTSTART;TZID=Europe/Berlin:20260301T130000
DTEND;TZID=Europe/Berlin:20260301T150000
LOCATION:Základní škola Brno\, Sirotkova 36\, Sirotkova 371 Brno - Žabovřes
 ky
SUMMARY:JM-U20Z-I: B6 Brno-Královo Pole C
END:VEVENT
BEGIN:VEVENT
UID:36373464-6364-4565-b639-396535393239
DTSTAMP:20260422T033924Z
DESCRIPTION:1/6 Královo Pole C - VsetínJančíková Martina
DTSTART;TZID=Europe/Berlin:20260509T120000
DTEND;TZID=Europe/Berlin:20260509T140000
LOCATION:Sportovní hala Na Lapači\, Na Lapači 247 Vsetín - Rokytnice
SUMMARY:2-U20Z-KC: Královo Pole C-Vsetín
END:VEVENT
BEGIN:VEVENT
UID:62363731-3765-4565-b734-323733343336
DTSTAMP:20260422T033924Z
DESCRIPTION:1/2 Humpolec - Královo Pole CŽůrek Jiří
DTSTART;TZID=Europe/Berlin:20260508T120000
DTEND;TZID=Europe/Berlin:20260508T140000
LOCATION:Sportovní hala Na Lapači\, Na Lapači 247 Vsetín - Rokytnice
SUMMARY:2-U20Z-KC: Humpolec-Královo Pole C
END:VEVENT
BEGIN:VEVENT
UID:39303862-3866-4637-a130-353539616439
DTSTAMP:20260422T033924Z
DESCRIPTION:1/4 Bílovec - Královo Pole CŽůrek Jiří
DTSTART;TZID=Europe/Berlin:20260508T170000
DTEND;TZID=Europe/Berlin:20260508T190000
LOCATION:Sportovní hala Na Lapači\, Na Lapači 247 Vsetín - Rokytnice
SUMMARY:2-U20Z-KC: Bílovec-Královo Pole C
END:VEVENT
END:VCALENDAR
