BEGIN:VCALENDAR
VERSION:2.0
PRODID:-//Sokol Šlapanice B90702//NONSGML kigkonsult.se iCalcreator 2.41.80//
CALSCALE:GREGORIAN
UID:35633239-3536-4438-a163-383237383962
BEGIN:VEVENT
UID:34633162-3836-4564-a261-353265386665
DTSTAMP:20260422T010259Z
DESCRIPTION:3/3 Sokol Šlapanice B - TJ SOKOL LETOVICE\, z.s. 0:2 (-21\,-12)
DTSTART;TZID=Europe/Berlin:20250913T114500
DTEND;TZID=Europe/Berlin:20250913T134500
LOCATION:Sportovní hala Údolní\, Údolní 1826 Blansko
SUMMARY:JM-U18Z-KVH: Sokol Šlapanice B-TJ SOKOL LETOVICE\, z.s.
END:VEVENT
BEGIN:VEVENT
UID:36336335-6536-4931-b637-353234303866
DTSTAMP:20260422T010259Z
DESCRIPTION:2/2 TJ JUNIOR Brno - Sokol Šlapanice B 0:2 (-23\,-18)
DTSTART;TZID=Europe/Berlin:20250913T103000
DTEND;TZID=Europe/Berlin:20250913T123000
LOCATION:Sportovní hala Údolní\, Údolní 1826 Blansko
SUMMARY:JM-U18Z-KVH: TJ JUNIOR Brno-Sokol Šlapanice B
END:VEVENT
BEGIN:VEVENT
UID:37646261-6661-4334-b763-653937323062
DTSTAMP:20260422T010259Z
DESCRIPTION:2/2 TJ ASK Blansko - Sokol Šlapanice B 2:0 (13\,16)\nKVG2 vs KV
 H2
DTSTART;TZID=Europe/Berlin:20250913T130000
DTEND;TZID=Europe/Berlin:20250913T150000
LOCATION:Sportovní hala Údolní\, Údolní 1826 Blansko
SUMMARY:JM-U18Z-KVGH: TJ ASK Blansko-Sokol Šlapanice B
END:VEVENT
BEGIN:VEVENT
UID:62626664-3562-4332-b732-653039373566
DTSTAMP:20260422T010259Z
DESCRIPTION:3/3 Sokol Šlapanice B - TJ Agrotec Hustopeče z.s. 'A' 0:2 (-16\
 ,-5)
DTSTART;TZID=Europe/Berlin:20251004T114500
DTEND;TZID=Europe/Berlin:20251004T134500
LOCATION:ZŠ Jungmannova Kuřim\, Jungmannova 813 Kuřim
SUMMARY:JM-U18Z-ID: Sokol Šlapanice B-TJ Agrotec Hustopeče z.s. 'A'
END:VEVENT
BEGIN:VEVENT
UID:30383837-3562-4861-a339-613061343334
DTSTAMP:20260422T010259Z
DESCRIPTION:1/1 HIPPO Kuřim - Sokol Šlapanice B 0:2 (-5\,-13)
DTSTART;TZID=Europe/Berlin:20251004T090000
DTEND;TZID=Europe/Berlin:20251004T110000
LOCATION:ZŠ Jungmannova Kuřim\, Jungmannova 813 Kuřim
SUMMARY:JM-U18Z-ID: HIPPO Kuřim-Sokol Šlapanice B
END:VEVENT
BEGIN:VEVENT
UID:38326131-3830-4032-b264-383932643035
DTSTAMP:20260422T010259Z
DESCRIPTION:5/5 FOSFA Lokomotiva Břeclav A - Sokol Šlapanice B 2:0 (21\,17)
DTSTART;TZID=Europe/Berlin:20251004T141500
DTEND;TZID=Europe/Berlin:20251004T161500
LOCATION:ZŠ Jungmannova Kuřim\, Jungmannova 813 Kuřim
SUMMARY:JM-U18Z-ID: FOSFA Lokomotiva Břeclav A-Sokol Šlapanice B
END:VEVENT
BEGIN:VEVENT
UID:33366436-6165-4134-b038-646162633134
DTSTAMP:20260422T010259Z
DESCRIPTION:1/1 Sokol Šlapanice B - Sokol Šlapanice 0:2 (-14\,-16)
DTSTART;TZID=Europe/Berlin:20251018T090000
DTEND;TZID=Europe/Berlin:20251018T110000
LOCATION:Tělocvična ZŠ Šlapanice\, Masarykovo náměstí 1594 Šlapanice
SUMMARY:JM-U18Z-IID: Sokol Šlapanice B-Sokol Šlapanice
END:VEVENT
BEGIN:VEVENT
UID:32666461-6132-4165-a337-653835643438
DTSTAMP:20260422T010259Z
DESCRIPTION:4/4 Sokol Šlapanice B - FOSFA Lokomotiva Břeclav A 0:2 (-19\,-1
 7)
DTSTART;TZID=Europe/Berlin:20251018T130000
DTEND;TZID=Europe/Berlin:20251018T150000
LOCATION:Tělocvična ZŠ Šlapanice\, Masarykovo náměstí 1594 Šlapanice
SUMMARY:JM-U18Z-IID: Sokol Šlapanice B-FOSFA Lokomotiva Břeclav A
END:VEVENT
BEGIN:VEVENT
UID:32323735-3738-4864-b362-646537326237
DTSTAMP:20260422T010259Z
DESCRIPTION:6/6 TJ Slovan Ivančice\, z.s. - Sokol Šlapanice B 2:0 (22\,23)
DTSTART;TZID=Europe/Berlin:20251018T153000
DTEND;TZID=Europe/Berlin:20251018T173000
LOCATION:Tělocvična ZŠ Šlapanice\, Masarykovo náměstí 1594 Šlapanice
SUMMARY:JM-U18Z-IID: TJ Slovan Ivančice\, z.s.-Sokol Šlapanice B
END:VEVENT
BEGIN:VEVENT
UID:64376462-3565-4363-b266-636666323937
DTSTAMP:20260422T010259Z
DESCRIPTION:3/3 Sokol Šlapanice B - TJ JUNIOR Brno 1:3 (-16\,22\,-17\,-16)
DTSTART;TZID=Europe/Berlin:20251101T130000
DTEND;TZID=Europe/Berlin:20251101T150000
LOCATION:tělocvičny ZŠ Novolíšeňská\, Brno\, Novolíšeňská 2411 Brno - Líšeň
SUMMARY:JM-U18Z-IIIE: Sokol Šlapanice B-TJ JUNIOR Brno
END:VEVENT
BEGIN:VEVENT
UID:38373338-6136-4334-b235-376339393230
DTSTAMP:20260422T010259Z
DESCRIPTION:2/2 TJ Sokol Jehnice - Sokol Šlapanice B 3:1 (-21\,18\,19\,22)
DTSTART;TZID=Europe/Berlin:20251101T110000
DTEND;TZID=Europe/Berlin:20251101T130000
LOCATION:tělocvičny ZŠ Novolíšeňská\, Brno\, Novolíšeňská 2411 Brno - Líšeň
SUMMARY:JM-U18Z-IIIE: TJ Sokol Jehnice-Sokol Šlapanice B
END:VEVENT
BEGIN:VEVENT
UID:30636666-6231-4265-a530-663637356662
DTSTAMP:20260422T010259Z
DESCRIPTION:1/1 Sokol Šlapanice B - Tělocvičná jednota Sokol Brno - Starý L
 ískovec 3:2 (-18\,-16\,22\,13\,13)
DTSTART;TZID=Europe/Berlin:20251206T090000
DTEND;TZID=Europe/Berlin:20251206T110000
LOCATION:Tělocvična ZŠ Šlapanice\, Masarykovo náměstí 1594 Šlapanice
SUMMARY:JM-U18Z-IVF: Sokol Šlapanice B-Tělocvičná jednota Sokol Brno - Star
 ý Lískovec
END:VEVENT
BEGIN:VEVENT
UID:66613634-3735-4261-b763-336534643363
DTSTAMP:20260422T010259Z
DESCRIPTION:3/3 Orel jednota Pozořice - Sokol Šlapanice B 0:3 (-20\,-22\,-1
 5)
DTSTART;TZID=Europe/Berlin:20251206T130000
DTEND;TZID=Europe/Berlin:20251206T150000
LOCATION:Tělocvična ZŠ Šlapanice\, Masarykovo náměstí 1594 Šlapanice
SUMMARY:JM-U18Z-IVF: Orel jednota Pozořice-Sokol Šlapanice B
END:VEVENT
BEGIN:VEVENT
UID:65393534-3561-4536-a661-666264363233
DTSTAMP:20260422T010259Z
DESCRIPTION:3/3 Sokol Šlapanice B - TJ Sokol Jehnice 3:1 (-24\,21\,13\,16)
DTSTART;TZID=Europe/Berlin:20251220T114500
DTEND;TZID=Europe/Berlin:20251220T134500
LOCATION:TJ Sokol Jehnice\, Blanenská 1 Brno - Jehnice
SUMMARY:JM-U18Z-VE: Sokol Šlapanice B-TJ Sokol Jehnice
END:VEVENT
BEGIN:VEVENT
UID:61373536-3333-4938-a439-666265613337
DTSTAMP:20260422T010259Z
DESCRIPTION:2/2 TJ Sokol Hrušovany u Brna - Sokol Šlapanice B 0:3 (-25\,-20
 \,-22)
DTSTART;TZID=Europe/Berlin:20251220T103000
DTEND;TZID=Europe/Berlin:20251220T123000
LOCATION:TJ Sokol Jehnice\, Blanenská 1 Brno - Jehnice
SUMMARY:JM-U18Z-VE: TJ Sokol Hrušovany u Brna-Sokol Šlapanice B
END:VEVENT
BEGIN:VEVENT
UID:63613564-3230-4334-b963-353234616136
DTSTAMP:20260422T010259Z
DESCRIPTION:1/1 Sokol Šlapanice B - SK Beachvolleyball Slavkov\, spolek 2:1
  (19\,-15\,7)
DTSTART;TZID=Europe/Berlin:20260117T090000
DTEND;TZID=Europe/Berlin:20260117T110000
LOCATION:Tělocvična ZŠ Šlapanice\, Masarykovo náměstí 1594 Šlapanice
SUMMARY:JM-U18Z-VID: Sokol Šlapanice B-SK Beachvolleyball Slavkov\, spolek
END:VEVENT
BEGIN:VEVENT
UID:39393333-3230-4736-a232-316139313133
DTSTAMP:20260422T010259Z
DESCRIPTION:4/4 Sokol Šlapanice B - FOSFA Lokomotiva Břeclav A 2:0 (25\,20)
DTSTART;TZID=Europe/Berlin:20260117T130000
DTEND;TZID=Europe/Berlin:20260117T150000
LOCATION:Tělocvična ZŠ Šlapanice\, Masarykovo náměstí 1594 Šlapanice
SUMMARY:JM-U18Z-VID: Sokol Šlapanice B-FOSFA Lokomotiva Břeclav A
END:VEVENT
BEGIN:VEVENT
UID:34376233-6133-4336-b634-326338356432
DTSTAMP:20260422T010259Z
DESCRIPTION:6/6 VOLEJBAL VYŠKOV - Sokol Šlapanice B 2:0 (15\,20)
DTSTART;TZID=Europe/Berlin:20260117T153000
DTEND;TZID=Europe/Berlin:20260117T173000
LOCATION:Tělocvična ZŠ Šlapanice\, Masarykovo náměstí 1594 Šlapanice
SUMMARY:JM-U18Z-VID: VOLEJBAL VYŠKOV-Sokol Šlapanice B
END:VEVENT
BEGIN:VEVENT
UID:38636431-6434-4130-b739-613563303237
DTSTAMP:20260422T010259Z
DESCRIPTION:3/6 Sokol Šlapanice B - FOSFA Lokomotiva Břeclav A 0:2 (-16\,-2
 1)
DTSTART;TZID=Europe/Berlin:20260207T114500
DTEND;TZID=Europe/Berlin:20260207T134500
LOCATION:TJ Lokomotiva Břeclav\, Veslařská 2753 Břeclav
SUMMARY:JM-U18Z-VIID: Sokol Šlapanice B-FOSFA Lokomotiva Břeclav A
END:VEVENT
BEGIN:VEVENT
UID:39393762-3231-4762-b539-643361346233
DTSTAMP:20260422T010259Z
DESCRIPTION:1/2 TJ Agrotec Hustopeče z.s. 'A' - Sokol Šlapanice B 2:1 (-21\
 ,20\,10)
DTSTART;TZID=Europe/Berlin:20260207T090000
DTEND;TZID=Europe/Berlin:20260207T110000
LOCATION:TJ Lokomotiva Břeclav\, Veslařská 2753 Břeclav
SUMMARY:JM-U18Z-VIID: TJ Agrotec Hustopeče z.s. 'A'-Sokol Šlapanice B
END:VEVENT
BEGIN:VEVENT
UID:36376331-3734-4037-a631-386564353861
DTSTAMP:20260422T010259Z
DESCRIPTION:2/3 TJ Sokol Jehnice - Sokol Šlapanice B 2:0 (22\,10)
DTSTART;TZID=Europe/Berlin:20260207T103000
DTEND;TZID=Europe/Berlin:20260207T123000
LOCATION:TJ Lokomotiva Břeclav\, Veslařská 2753 Břeclav
SUMMARY:JM-U18Z-VIID: TJ Sokol Jehnice-Sokol Šlapanice B
END:VEVENT
BEGIN:VEVENT
UID:39663836-6633-4932-b164-643330636439
DTSTAMP:20260422T010259Z
DESCRIPTION:2/2 Sokol Šlapanice B - TJ Slovan Ivančice\, z.s. 3:2 (-27\,-22
 \,23\,22\,14)
DTSTART;TZID=Europe/Berlin:20260314T110000
DTEND;TZID=Europe/Berlin:20260314T130000
LOCATION:tělocvičny ZŠ Novolíšeňská\, Brno\, Novolíšeňská 2411 Brno - Líšeň
SUMMARY:JM-U18Z-VIIIE: Sokol Šlapanice B-TJ Slovan Ivančice\, z.s.
END:VEVENT
BEGIN:VEVENT
UID:64353432-6130-4139-a537-313733323833
DTSTAMP:20260422T010259Z
DESCRIPTION:1/1 TJ JUNIOR Brno - Sokol Šlapanice B 1:3 (-11\,23\,-23\,-8)
DTSTART;TZID=Europe/Berlin:20260314T090000
DTEND;TZID=Europe/Berlin:20260314T110000
LOCATION:tělocvičny ZŠ Novolíšeňská\, Brno\, Novolíšeňská 2411 Brno - Líšeň
SUMMARY:JM-U18Z-VIIIE: TJ JUNIOR Brno-Sokol Šlapanice B
END:VEVENT
END:VCALENDAR
