BEGIN:VCALENDAR
VERSION:2.0
PRODID:-//TJ Sokol Chleny A90718//NONSGML kigkonsult.se iCalcreator 2.41.80//
CALSCALE:GREGORIAN
UID:37383137-6563-4564-a462-383130323937
BEGIN:VEVENT
UID:35613037-3732-4965-b063-656639336662
DTSTAMP:20260422T075505Z
DESCRIPTION:1/4 Chleny A - SK Kounov 3:1 (14\,21\,-20\,19)
DTSTART;TZID=Europe/Berlin:20250924T170000
DTEND;TZID=Europe/Berlin:20250924T190000
LOCATION:Sokol Chleny hřiště Chleny 79
SUMMARY:RK-M: Chleny A-SK Kounov
END:VEVENT
BEGIN:VEVENT
UID:32303664-6538-4239-b132-643337346266
DTSTAMP:20260422T075505Z
DESCRIPTION:3/11 Chleny A - AMT KO 3:0 (22\,14\,12)
DTSTART;TZID=Europe/Berlin:20250905T170000
DTEND;TZID=Europe/Berlin:20250905T190000
LOCATION:Sokol Chleny hřiště Chleny 79
SUMMARY:RK-M: Chleny A-AMT KO
END:VEVENT
BEGIN:VEVENT
UID:66363532-3239-4739-a437-313265363937
DTSTAMP:20260422T075505Z
DESCRIPTION:5/18 Chleny A - Sokol Chleny BMyšák Josef
DTSTART;TZID=Europe/Berlin:20260508T170000
DTEND;TZID=Europe/Berlin:20260508T190000
LOCATION:Sokol Chleny hřiště Chleny 79
SUMMARY:RK-M: Chleny A-Sokol Chleny B
END:VEVENT
BEGIN:VEVENT
UID:32356534-6364-4630-a239-343463636165
DTSTAMP:20260422T075505Z
DESCRIPTION:7/25 Chleny A - VK SPORT BVolt Karel
DTSTART;TZID=Europe/Berlin:20260619T173000
DTEND;TZID=Europe/Berlin:20260619T193000
LOCATION:Sokol Chleny hřiště Chleny 79
SUMMARY:RK-M: Chleny A-VK SPORT B
END:VEVENT
BEGIN:VEVENT
UID:39343131-6630-4532-a333-306636323366
DTSTAMP:20260422T075505Z
DESCRIPTION:11/41 Chleny A - KvasinyMyšák Josef
DTSTART;TZID=Europe/Berlin:20260508T173000
DTEND;TZID=Europe/Berlin:20260508T193000
LOCATION:Sokol Chleny hřiště Chleny 79
SUMMARY:RK-M: Chleny A-Kvasiny
END:VEVENT
BEGIN:VEVENT
UID:32643031-3965-4632-b436-623835356435
DTSTAMP:20260422T075505Z
DESCRIPTION:13/50 Chleny A - TJ PotštejnMyšák Josef
DTSTART;TZID=Europe/Berlin:20260522T173000
DTEND;TZID=Europe/Berlin:20260522T193000
LOCATION:Sokol Chleny hřiště Chleny 79
SUMMARY:RK-M: Chleny A-TJ Potštejn
END:VEVENT
BEGIN:VEVENT
UID:65666338-6261-4561-b263-363865666639
DTSTAMP:20260422T075505Z
DESCRIPTION:15/59 Chleny A - TJ Sokol ČesticeMyšák Josef
DTSTART;TZID=Europe/Berlin:20260529T173000
DTEND;TZID=Europe/Berlin:20260529T193000
LOCATION:Sokol Chleny hřiště Chleny 79
SUMMARY:RK-M: Chleny A-TJ Sokol Čestice
END:VEVENT
BEGIN:VEVENT
UID:38303931-6462-4135-b734-336330383834
DTSTAMP:20260422T075505Z
DESCRIPTION:17/68 Chleny A - Spartak OpočnoMyšák Josef
DTSTART;TZID=Europe/Berlin:20260612T173000
DTEND;TZID=Europe/Berlin:20260612T193000
LOCATION:Sokol Chleny hřiště Chleny 79
SUMMARY:RK-M: Chleny A-Spartak Opočno
END:VEVENT
BEGIN:VEVENT
UID:34333164-3339-4835-a637-313735633238
DTSTAMP:20260422T075505Z
DESCRIPTION:2/5 Kvasiny - Chleny A 3:2 (14\,-20\,-19\,27\,10)
DTSTART;TZID=Europe/Berlin:20250914T100000
DTEND;TZID=Europe/Berlin:20250914T120000
LOCATION:Areál u nádraží ČD Solnice -
SUMMARY:RK-M: Kvasiny-Chleny A
END:VEVENT
BEGIN:VEVENT
UID:30646534-3137-4734-b236-613931646261
DTSTAMP:20260422T075505Z
DESCRIPTION:4/14 TJ Potštejn - Chleny A 0:3 (-14\,-27\,-16)
DTSTART;TZID=Europe/Berlin:20250912T170000
DTEND;TZID=Europe/Berlin:20250912T190000
LOCATION:Hřiště Pod lipami Pod lipami Potštejn
SUMMARY:RK-M: TJ Potštejn-Chleny A
END:VEVENT
BEGIN:VEVENT
UID:61663431-6331-4038-b461-306164633662
DTSTAMP:20260422T075505Z
DESCRIPTION:6/23 TJ Sokol Čestice - Chleny AŠkoda Petr
DTSTART;TZID=Europe/Berlin:20260513T173000
DTEND;TZID=Europe/Berlin:20260513T193000
LOCATION:TJ Sokol Čestice Čestice 112
SUMMARY:RK-M: TJ Sokol Čestice-Chleny A
END:VEVENT
BEGIN:VEVENT
UID:30663061-3530-4234-b763-396432633532
DTSTAMP:20260422T075505Z
DESCRIPTION:8/32 Spartak Opočno - Chleny A 0:3 (-23\,-17\,-20)
DTSTART;TZID=Europe/Berlin:20251002T170000
DTEND;TZID=Europe/Berlin:20251002T190000
LOCATION:Opočno\, fotbalový stadion Pohořská 210\, Opočno 51773
SUMMARY:RK-M: Spartak Opočno-Chleny A
END:VEVENT
BEGIN:VEVENT
UID:36396136-6434-4537-b363-633665326136
DTSTAMP:20260422T075505Z
DESCRIPTION:10/40 SK Kounov - Chleny AŠkoda Petr
DTSTART;TZID=Europe/Berlin:20260501T173000
DTEND;TZID=Europe/Berlin:20260501T193000
LOCATION:Kounov Kounov
SUMMARY:RK-M: SK Kounov-Chleny A
END:VEVENT
BEGIN:VEVENT
UID:38383537-6431-4935-b634-613537316164
DTSTAMP:20260422T075505Z
DESCRIPTION:12/47 AMT KO - Chleny AŠkop Jan
DTSTART;TZID=Europe/Berlin:20260515T173000
DTEND;TZID=Europe/Berlin:20260515T193000
LOCATION:Kostelec nad Orlicí Kostelec nad Orlicí
SUMMARY:RK-M: AMT KO-Chleny A
END:VEVENT
BEGIN:VEVENT
UID:39396432-3837-4630-a633-323962623836
DTSTAMP:20260422T075505Z
DESCRIPTION:14/54 Sokol Chleny B - Chleny AMyšák Josef
DTSTART;TZID=Europe/Berlin:20260528T173000
DTEND;TZID=Europe/Berlin:20260528T193000
LOCATION:Chleny Chleny
SUMMARY:RK-M: Sokol Chleny B-Chleny A
END:VEVENT
BEGIN:VEVENT
UID:31396361-3139-4533-a134-376232646664
DTSTAMP:20260422T075505Z
DESCRIPTION:16/61 VK SPORT B - Chleny AVolt Karel
DTSTART;TZID=Europe/Berlin:20260605T173000
DTEND;TZID=Europe/Berlin:20260605T193000
LOCATION:SÍMANKA RYCHNOV NAD KNĚŽNOU
SUMMARY:RK-M: VK SPORT B-Chleny A
END:VEVENT
BEGIN:VEVENT
UID:62663332-3735-4137-b034-386334303137
DTSTAMP:20260422T075505Z
DESCRIPTION:2/4 Chleny A - Kvasiny 1:2 (23\,-22\,-13)
DTSTART;TZID=Europe/Berlin:20260301T103000
DTEND;TZID=Europe/Berlin:20260301T123000
LOCATION:Sokol Chleny hřiště Chleny 79
SUMMARY:RKP-M-B: Chleny A-Kvasiny
END:VEVENT
BEGIN:VEVENT
UID:65343266-6233-4638-b033-386463343533
DTSTAMP:20260422T075505Z
DESCRIPTION:3/6 AMT KO - Chleny A 1:2 (-16\,23\,-3)
DTSTART;TZID=Europe/Berlin:20260301T120000
DTEND;TZID=Europe/Berlin:20260301T140000
LOCATION:Kostelec nad Orlicí Kostelec nad Orlicí
SUMMARY:RKP-M-B: AMT KO-Chleny A
END:VEVENT
BEGIN:VEVENT
UID:64356636-3936-4439-b132-653761643432
DTSTAMP:20260422T075505Z
DESCRIPTION:1/1 Chleny A - Potštejn 2:0 (14\,12)
DTSTART;TZID=Europe/Berlin:20260301T130000
DTEND;TZID=Europe/Berlin:20260301T150000
LOCATION:Sokol Chleny hřiště Chleny 79
SUMMARY:RKP-M-F3: Chleny A-Potštejn
END:VEVENT
END:VCALENDAR
