BEGIN:VCALENDAR
VERSION:2.0
PRODID:-//VK Lvi Praha B90722//NONSGML kigkonsult.se iCalcreator 2.41.80//
CALSCALE:GREGORIAN
UID:34383366-3536-4765-b033-653463373032
BEGIN:VEVENT
UID:61656138-3138-4435-b234-346433623236
DTSTAMP:20260422T211744Z
DESCRIPTION:1/2 VK Lvi Praha B - SK Meteor Praha B 0:0 ()
DTSTART;TZID=Europe/Berlin:20250914T110000
DTEND;TZID=Europe/Berlin:20250914T130000
LOCATION:, U Meteoru 29 Praha - Libeň
SUMMARY:PP-U20M-Q-A: VK Lvi Praha B-SK Meteor Praha B
END:VEVENT
BEGIN:VEVENT
UID:64373066-3234-4637-b264-353939393062
DTSTAMP:20260422T211744Z
DESCRIPTION:4/8 VK Lvi Praha B - SK PROSEK B
DTSTART;TZID=Europe/Berlin:20250914T140000
DTEND;TZID=Europe/Berlin:20250914T160000
LOCATION:, U Meteoru 29 Praha - Libeň
SUMMARY:PP-U20M-Q-A: VK Lvi Praha B-SK PROSEK B
END:VEVENT
BEGIN:VEVENT
UID:65366338-3138-4461-b236-616234336335
DTSTAMP:20260422T211744Z
DESCRIPTION:2/4 SK Meteor Praha C - VK Lvi Praha B
DTSTART;TZID=Europe/Berlin:20250914T120000
DTEND;TZID=Europe/Berlin:20250914T140000
LOCATION:, U Meteoru 29 Praha - Libeň
SUMMARY:PP-U20M-Q-A: SK Meteor Praha C-VK Lvi Praha B
END:VEVENT
BEGIN:VEVENT
UID:33353130-6330-4965-b533-376162663233
DTSTAMP:20260422T211744Z
DESCRIPTION:3/6 BVŠP - VK Lvi Praha B
DTSTART;TZID=Europe/Berlin:20250914T130000
DTEND;TZID=Europe/Berlin:20250914T150000
LOCATION:, U Meteoru 29 Praha - Libeň
SUMMARY:PP-U20M-Q-A: BVŠP-VK Lvi Praha B
END:VEVENT
BEGIN:VEVENT
UID:64313639-3039-4439-b031-613131316434
DTSTAMP:20260422T211744Z
DESCRIPTION:3/3 VK Lvi Praha B - SK PROSEK B 1:2 (-19\,25\,-13)
DTSTART;TZID=Europe/Berlin:20251012T110000
DTEND;TZID=Europe/Berlin:20251012T130000
LOCATION:Sokol Bubeneč\, Korunovační 630 Praha - Bubeneč
SUMMARY:PP-U20M-T1-1A: VK Lvi Praha B-SK PROSEK B
END:VEVENT
BEGIN:VEVENT
UID:37666465-3064-4635-b831-323463383237
DTSTAMP:20260422T211744Z
DESCRIPTION:1/1 BVŠP - VK Lvi Praha B 0:2 (-22\,-18)
DTSTART;TZID=Europe/Berlin:20251012T090000
DTEND;TZID=Europe/Berlin:20251012T110000
LOCATION:Sokol Bubeneč\, Korunovační 630 Praha - Bubeneč
SUMMARY:PP-U20M-T1-1A: BVŠP-VK Lvi Praha B
END:VEVENT
BEGIN:VEVENT
UID:33653361-6633-4631-b837-353634326435
DTSTAMP:20260422T211744Z
DESCRIPTION:3/5 VK Lvi Praha B - SK PROSEK B 1:2 (20\,-21\,-11)\no 1.místo
DTSTART;TZID=Europe/Berlin:20251012T140000
DTEND;TZID=Europe/Berlin:20251012T160000
LOCATION:Sokol Bubeneč\, Korunovační 630 Praha - Bubeneč
SUMMARY:PP-U20M-T1-1C: VK Lvi Praha B-SK PROSEK B
END:VEVENT
BEGIN:VEVENT
UID:30303334-3135-4435-b738-333931366237
DTSTAMP:20260422T211744Z
DESCRIPTION:1/2 SK Dansport Praha\, z.s. - VK Lvi Praha B 1:2 (19\,-14\,-12
 )\n1b x 2a
DTSTART;TZID=Europe/Berlin:20251012T120000
DTEND;TZID=Europe/Berlin:20251012T140000
LOCATION:Sokol Bubeneč\, Korunovační 630 Praha - Bubeneč
SUMMARY:PP-U20M-T1-1C: SK Dansport Praha\, z.s.-VK Lvi Praha B
END:VEVENT
BEGIN:VEVENT
UID:36343730-6161-4136-a535-343739613837
DTSTAMP:20260422T211744Z
DESCRIPTION:2/2 VK Lvi Praha B - SK Dansport Praha\, z.s. 2:0 (27\,18)
DTSTART;TZID=Europe/Berlin:20251109T100000
DTEND;TZID=Europe/Berlin:20251109T120000
LOCATION:Sportovní hala Lužiny\, Bellušova 1877 Praha - Stodůlky
SUMMARY:PP-U20M-T2-1B: VK Lvi Praha B-SK Dansport Praha\, z.s.
END:VEVENT
BEGIN:VEVENT
UID:62313330-3630-4263-b664-363538656663
DTSTAMP:20260422T211744Z
DESCRIPTION:3/3 Ace Volleyball Academy z.s. - VK Lvi Praha B 0:2 (-12\,-12)
DTSTART;TZID=Europe/Berlin:20251109T110000
DTEND;TZID=Europe/Berlin:20251109T130000
LOCATION:Sportovní hala Lužiny\, Bellušova 1877 Praha - Stodůlky
SUMMARY:PP-U20M-T2-1B: Ace Volleyball Academy z.s.-VK Lvi Praha B
END:VEVENT
BEGIN:VEVENT
UID:61363265-6564-4637-b139-663732313764
DTSTAMP:20260422T211744Z
DESCRIPTION:1/2 VK Lvi Praha B - Orion 2:0 (21\,15)\n1B x 2A
DTSTART;TZID=Europe/Berlin:20251109T120000
DTEND;TZID=Europe/Berlin:20251109T140000
LOCATION:Sportovní hala Lužiny\, Bellušova 1877 Praha - Stodůlky
SUMMARY:PP-U20M-T2-1C: VK Lvi Praha B-Orion
END:VEVENT
BEGIN:VEVENT
UID:33326230-6334-4431-a436-666165656432
DTSTAMP:20260422T211744Z
DESCRIPTION:3/5 VK Lvi Praha B - SK PROSEK B 0:2 (-22\,-19)\no 1.místo
DTSTART;TZID=Europe/Berlin:20251109T140000
DTEND;TZID=Europe/Berlin:20251109T160000
LOCATION:Sportovní hala Lužiny\, Bellušova 1877 Praha - Stodůlky
SUMMARY:PP-U20M-T2-1C: VK Lvi Praha B-SK PROSEK B
END:VEVENT
BEGIN:VEVENT
UID:30346561-3263-4461-a131-353239336362
DTSTAMP:20260422T211744Z
DESCRIPTION:2/2 VK Lvi Praha B - SK Dansport Praha\, z.s. 2:0 (18\,17)
DTSTART;TZID=Europe/Berlin:20251130T100000
DTEND;TZID=Europe/Berlin:20251130T120000
LOCATION:Sokol Bubeneč\, Korunovační 630 Praha - Bubeneč
SUMMARY:PP-U20M-T3-1B: VK Lvi Praha B-SK Dansport Praha\, z.s.
END:VEVENT
BEGIN:VEVENT
UID:33313738-6430-4435-b230-636639643561
DTSTAMP:20260422T211744Z
DESCRIPTION:3/3 SK Meteor Praha C - VK Lvi Praha B 1:2 (-12\,24\,-7)
DTSTART;TZID=Europe/Berlin:20251130T110000
DTEND;TZID=Europe/Berlin:20251130T130000
LOCATION:Sokol Bubeneč\, Korunovační 630 Praha - Bubeneč
SUMMARY:PP-U20M-T3-1B: SK Meteor Praha C-VK Lvi Praha B
END:VEVENT
BEGIN:VEVENT
UID:36623238-6331-4835-a431-356238363439
DTSTAMP:20260422T211744Z
DESCRIPTION:1/2 VK Lvi Praha B - BVŠP 0:2 (-23\,-15)\nsemifinále 1B x 2A
DTSTART;TZID=Europe/Berlin:20251130T120000
DTEND;TZID=Europe/Berlin:20251130T140000
LOCATION:Sokol Bubeneč\, Korunovační 630 Praha - Bubeneč
SUMMARY:PP-U20M-T3-1C: VK Lvi Praha B-BVŠP
END:VEVENT
BEGIN:VEVENT
UID:65633666-3766-4337-b832-623066386536
DTSTAMP:20260422T211744Z
DESCRIPTION:2/4 VK Lvi Praha B - SK Dansport Praha\, z.s. 2:1 (-15\,22\,9)
 \no 3. místo
DTSTART;TZID=Europe/Berlin:20251130T130000
DTEND;TZID=Europe/Berlin:20251130T150000
LOCATION:Sokol Bubeneč\, Korunovační 630 Praha - Bubeneč
SUMMARY:PP-U20M-T3-1C: VK Lvi Praha B-SK Dansport Praha\, z.s.
END:VEVENT
BEGIN:VEVENT
UID:36663439-3932-4864-b263-616330633135
DTSTAMP:20260422T211744Z
DESCRIPTION:1/1 VK Lvi Praha B - SK Meteor Praha A 2:1 (-23\,22\,9)
DTSTART;TZID=Europe/Berlin:20260118T090000
DTEND;TZID=Europe/Berlin:20260118T110000
LOCATION:Sokol Bubeneč\, Korunovační 630 Praha - Bubeneč
SUMMARY:PP-U20M-T4-1B: VK Lvi Praha B-SK Meteor Praha A
END:VEVENT
BEGIN:VEVENT
UID:38323835-6632-4465-a439-323061393432
DTSTAMP:20260422T211744Z
DESCRIPTION:2/2 BVŠP - VK Lvi Praha B 0:2 (-20\,-18)
DTSTART;TZID=Europe/Berlin:20260118T100000
DTEND;TZID=Europe/Berlin:20260118T120000
LOCATION:Sokol Bubeneč\, Korunovační 630 Praha - Bubeneč
SUMMARY:PP-U20M-T4-1B: BVŠP-VK Lvi Praha B
END:VEVENT
BEGIN:VEVENT
UID:33353139-3238-4939-a366-346263346139
DTSTAMP:20260422T211744Z
DESCRIPTION:1/2 VK Lvi Praha B - SK PROSEK B 1:2 (-20\,21\,-13)\nsemifinále
  1B x 2A
DTSTART;TZID=Europe/Berlin:20260118T120000
DTEND;TZID=Europe/Berlin:20260118T140000
LOCATION:Sokol Bubeneč\, Korunovační 630 Praha - Bubeneč
SUMMARY:PP-U20M-T4-1C: VK Lvi Praha B-SK PROSEK B
END:VEVENT
BEGIN:VEVENT
UID:62303762-3835-4630-b939-666632323861
DTSTAMP:20260422T211744Z
DESCRIPTION:2/4 SK Meteor Praha A - VK Lvi Praha B 1:2 (19\,-21\,-10)\nutká
 ní o 3. místo
DTSTART;TZID=Europe/Berlin:20260118T130000
DTEND;TZID=Europe/Berlin:20260118T150000
LOCATION:Sokol Bubeneč\, Korunovační 630 Praha - Bubeneč
SUMMARY:PP-U20M-T4-1C: SK Meteor Praha A-VK Lvi Praha B
END:VEVENT
BEGIN:VEVENT
UID:39356436-3364-4338-a332-363035373663
DTSTAMP:20260422T211744Z
DESCRIPTION:1/1 VK Lvi Praha B - Ace Volleyball Academy z.s. 2:0 (6\,21)
DTSTART;TZID=Europe/Berlin:20260322T090000
DTEND;TZID=Europe/Berlin:20260322T110000
LOCATION:Sokol Bubeneč\, Korunovační 630 Praha - Bubeneč
SUMMARY:PP-U20M-T5-1B: VK Lvi Praha B-Ace Volleyball Academy z.s.
END:VEVENT
BEGIN:VEVENT
UID:62656666-3832-4238-b662-616635613737
DTSTAMP:20260422T211744Z
DESCRIPTION:2/2 SK PROSEK B - VK Lvi Praha B 2:0 (26\,22)
DTSTART;TZID=Europe/Berlin:20260322T100000
DTEND;TZID=Europe/Berlin:20260322T120000
LOCATION:Sokol Bubeneč\, Korunovační 630 Praha - Bubeneč
SUMMARY:PP-U20M-T5-1B: SK PROSEK B-VK Lvi Praha B
END:VEVENT
BEGIN:VEVENT
UID:61613063-3937-4263-a439-396664656662
DTSTAMP:20260422T211744Z
DESCRIPTION:3/5 VK Lvi Praha B - SK PROSEK B 2:0 (16\,23)\nfinále
DTSTART;TZID=Europe/Berlin:20260322T140000
DTEND;TZID=Europe/Berlin:20260322T160000
LOCATION:Sokol Bubeneč\, Korunovační 630 Praha - Bubeneč
SUMMARY:PP-U20M-T5-1C: VK Lvi Praha B-SK PROSEK B
END:VEVENT
BEGIN:VEVENT
UID:31623332-6335-4564-a133-353138653630
DTSTAMP:20260422T211744Z
DESCRIPTION:1/1 SK Dansport Praha\, z.s. - VK Lvi Praha B 1:2 (22\,-18\,-13
 )\n1A x 2B  semifinále
DTSTART;TZID=Europe/Berlin:20260322T120000
DTEND;TZID=Europe/Berlin:20260322T140000
LOCATION:Sokol Bubeneč\, Korunovační 630 Praha - Bubeneč
SUMMARY:PP-U20M-T5-1C: SK Dansport Praha\, z.s.-VK Lvi Praha B
END:VEVENT
END:VCALENDAR
