BEGIN:VCALENDAR
VERSION:2.0
PRODID:-//Španielka90730//NONSGML kigkonsult.se iCalcreator 2.41.80//
CALSCALE:GREGORIAN
UID:66366532-3939-4437-a231-373366366665
BEGIN:VEVENT
UID:38303038-3531-4737-b764-623437663031
DTSTAMP:20260422T230047Z
DESCRIPTION:5/5 Španielka - SK Meteor Praha B 2:0 (5\,7)
DTSTART;TZID=Europe/Berlin:20250906T110000
DTEND;TZID=Europe/Berlin:20250906T130000
LOCATION:ZŠ Dolní Břežany\, Na Vršku 290 Dolní Břežany
SUMMARY:PP-U14Z-Q-A: Španielka-SK Meteor Praha B
END:VEVENT
BEGIN:VEVENT
UID:36353835-3639-4631-b664-653438656234
DTSTAMP:20260422T230047Z
DESCRIPTION:9/9 Španielka - VK Lvi Praha A 2:0 (21\,18)
DTSTART;TZID=Europe/Berlin:20250906T140000
DTEND;TZID=Europe/Berlin:20250906T160000
LOCATION:ZŠ Dolní Břežany\, Na Vršku 290 Dolní Břežany
SUMMARY:PP-U14Z-Q-A: Španielka-VK Lvi Praha A
END:VEVENT
BEGIN:VEVENT
UID:32313462-3133-4665-b336-643834633234
DTSTAMP:20260422T230047Z
DESCRIPTION:2/2 PVK Olymp Praha B - Španielka 0:2 (-12\,-19)
DTSTART;TZID=Europe/Berlin:20250906T090000
DTEND;TZID=Europe/Berlin:20250906T110000
LOCATION:ZŠ Dolní Břežany\, Na Vršku 290 Dolní Břežany
SUMMARY:PP-U14Z-Q-A: PVK Olymp Praha B-Španielka
END:VEVENT
BEGIN:VEVENT
UID:35396138-3638-4537-a264-666230323835
DTSTAMP:20260422T230047Z
DESCRIPTION:10/10 Orion Praha A - Španielka 2:0 (9\,20)
DTSTART;TZID=Europe/Berlin:20250906T150000
DTEND;TZID=Europe/Berlin:20250906T170000
LOCATION:ZŠ Dolní Břežany\, Na Vršku 290 Dolní Břežany
SUMMARY:PP-U14Z-Q-A: Orion Praha A-Španielka
END:VEVENT
BEGIN:VEVENT
UID:38613065-6636-4436-a265-643131383030
DTSTAMP:20260422T230047Z
DESCRIPTION:3/3 Španielka - Střešovice 2:0 (14\,15)
DTSTART;TZID=Europe/Berlin:20251004T110000
DTEND;TZID=Europe/Berlin:20251004T130000
LOCATION:Tělocvična ZŠ\, Španielova 1111 Praha - Řepy
SUMMARY:PP-U14Z-1-B: Španielka-Střešovice
END:VEVENT
BEGIN:VEVENT
UID:33396262-6633-4432-a464-306565356436
DTSTAMP:20260422T230047Z
DESCRIPTION:1/1 Sokol HP - Španielka 0:2 (-22\,-14)
DTSTART;TZID=Europe/Berlin:20251004T090000
DTEND;TZID=Europe/Berlin:20251004T110000
LOCATION:Tělocvična ZŠ\, Španielova 1111 Praha - Řepy
SUMMARY:PP-U14Z-1-B: Sokol HP-Španielka
END:VEVENT
BEGIN:VEVENT
UID:34353032-3535-4239-a131-343535376566
DTSTAMP:20260422T230047Z
DESCRIPTION:5/5 SC Braník - Španielka 0:2 (-20\,-13)
DTSTART;TZID=Europe/Berlin:20251004T130000
DTEND;TZID=Europe/Berlin:20251004T150000
LOCATION:Tělocvična ZŠ\, Španielova 1111 Praha - Řepy
SUMMARY:PP-U14Z-1-B: SC Braník-Španielka
END:VEVENT
BEGIN:VEVENT
UID:66636164-3538-4834-a235-373363316435
DTSTAMP:20260422T230047Z
DESCRIPTION:3/3 Španielka - SK Kometa Praha A 0:2 (-20\,-24)
DTSTART;TZID=Europe/Berlin:20251101T110000
DTEND;TZID=Europe/Berlin:20251101T130000
LOCATION:Tělocvična ZŠ\, Španielova 1111 Praha - Řepy
SUMMARY:PP-U14Z-2-A: Španielka-SK Kometa Praha A
END:VEVENT
BEGIN:VEVENT
UID:34376431-3132-4131-b139-626162386166
DTSTAMP:20260422T230047Z
DESCRIPTION:1/1 Orion Praha A - Španielka 2:0 (11\,23)
DTSTART;TZID=Europe/Berlin:20251101T090000
DTEND;TZID=Europe/Berlin:20251101T110000
LOCATION:Tělocvična ZŠ\, Španielova 1111 Praha - Řepy
SUMMARY:PP-U14Z-2-A: Orion Praha A-Španielka
END:VEVENT
BEGIN:VEVENT
UID:39363962-6639-4264-a466-353236643439
DTSTAMP:20260422T230047Z
DESCRIPTION:5/5 PVK Olymp Praha A - Španielka 2:0 (18\,12)
DTSTART;TZID=Europe/Berlin:20251101T130000
DTEND;TZID=Europe/Berlin:20251101T150000
LOCATION:Tělocvična ZŠ\, Španielova 1111 Praha - Řepy
SUMMARY:PP-U14Z-2-A: PVK Olymp Praha A-Španielka
END:VEVENT
BEGIN:VEVENT
UID:61396362-3862-4361-a234-396366383331
DTSTAMP:20260422T230047Z
DESCRIPTION:1/1 Španielka - Mikulova A 0:2 (-13\,-20)
DTSTART;TZID=Europe/Berlin:20251122T090000
DTEND;TZID=Europe/Berlin:20251122T110000
LOCATION:Tělocvična ZŠ\, Španielova 1111 Praha - Řepy
SUMMARY:PP-U14Z-3-B: Španielka-Mikulova A
END:VEVENT
BEGIN:VEVENT
UID:35616239-3337-4862-b037-633732333863
DTSTAMP:20260422T230047Z
DESCRIPTION:4/4 Španielka - Vršovice A 2:1 (-23\,15\,9)
DTSTART;TZID=Europe/Berlin:20251122T120000
DTEND;TZID=Europe/Berlin:20251122T140000
LOCATION:Tělocvična ZŠ\, Španielova 1111 Praha - Řepy
SUMMARY:PP-U14Z-3-B: Španielka-Vršovice A
END:VEVENT
BEGIN:VEVENT
UID:35633636-6230-4465-a134-353033666335
DTSTAMP:20260422T230047Z
DESCRIPTION:6/6 Střešovice - Španielka 1:2 (-12\,25\,-4)
DTSTART;TZID=Europe/Berlin:20251122T140000
DTEND;TZID=Europe/Berlin:20251122T160000
LOCATION:Tělocvična ZŠ\, Španielova 1111 Praha - Řepy
SUMMARY:PP-U14Z-3-B: Střešovice-Španielka
END:VEVENT
BEGIN:VEVENT
UID:33353236-3361-4531-b963-306566346565
DTSTAMP:20260422T230047Z
DESCRIPTION:2/2 Španielka - Vršovice A 2:0 (17\,15)
DTSTART;TZID=Europe/Berlin:20251206T100000
DTEND;TZID=Europe/Berlin:20251206T120000
LOCATION:Tělocvična ZŠ\, Španielova 1111 Praha - Řepy
SUMMARY:PP-U14Z-4-B: Španielka-Vršovice A
END:VEVENT
BEGIN:VEVENT
UID:36653539-6439-4538-b636-666634333364
DTSTAMP:20260422T230047Z
DESCRIPTION:5/5 Španielka - VK Lvi Praha A 2:0 (16\,13)
DTSTART;TZID=Europe/Berlin:20251206T130000
DTEND;TZID=Europe/Berlin:20251206T150000
LOCATION:Tělocvična ZŠ\, Španielova 1111 Praha - Řepy
SUMMARY:PP-U14Z-4-B: Španielka-VK Lvi Praha A
END:VEVENT
BEGIN:VEVENT
UID:35323461-3265-4961-a165-313466353364
DTSTAMP:20260422T230047Z
DESCRIPTION:4/4 Orion Praha A - Španielka 2:1 (15\,-12\,6)
DTSTART;TZID=Europe/Berlin:20251206T120000
DTEND;TZID=Europe/Berlin:20251206T140000
LOCATION:Tělocvična ZŠ\, Španielova 1111 Praha - Řepy
SUMMARY:PP-U14Z-4-B: Orion Praha A-Španielka
END:VEVENT
BEGIN:VEVENT
UID:31653961-3536-4733-b935-663433643362
DTSTAMP:20260422T230047Z
DESCRIPTION:2/2 Španielka - VK Lvi Praha A 1:2 (18\,-21\,-8)
DTSTART;TZID=Europe/Berlin:20260110T100000
DTEND;TZID=Europe/Berlin:20260110T120000
LOCATION:Tělocvična ZŠ\, Španielova 1111 Praha - Řepy
SUMMARY:PP-U14Z-5-B: Španielka-VK Lvi Praha A
END:VEVENT
BEGIN:VEVENT
UID:61333562-6632-4531-b962-663161646635
DTSTAMP:20260422T230047Z
DESCRIPTION:5/5 Španielka - SC Braník 2:0 (12\,14)
DTSTART;TZID=Europe/Berlin:20260110T130000
DTEND;TZID=Europe/Berlin:20260110T150000
LOCATION:Tělocvična ZŠ\, Španielova 1111 Praha - Řepy
SUMMARY:PP-U14Z-5-B: Španielka-SC Braník
END:VEVENT
BEGIN:VEVENT
UID:62383064-3732-4963-b763-383937643861
DTSTAMP:20260422T230047Z
DESCRIPTION:4/4 SK Kometa Praha A - Španielka 2:1 (-22\,15\,10)
DTSTART;TZID=Europe/Berlin:20260110T120000
DTEND;TZID=Europe/Berlin:20260110T140000
LOCATION:Tělocvična ZŠ\, Španielova 1111 Praha - Řepy
SUMMARY:PP-U14Z-5-B: SK Kometa Praha A-Španielka
END:VEVENT
BEGIN:VEVENT
UID:30306466-6133-4465-b034-376261626635
DTSTAMP:20260422T230047Z
DESCRIPTION:6/6 Španielka - PVK Olymp Praha B 0:2 (-10\,-10)
DTSTART;TZID=Europe/Berlin:20260124T140000
DTEND;TZID=Europe/Berlin:20260124T160000
LOCATION:FZŠ Brdičkova\, Brdičkova 1878 Praha - Stodůlky
SUMMARY:PP-U14Z-6-B: Španielka-PVK Olymp Praha B
END:VEVENT
BEGIN:VEVENT
UID:38383438-3934-4564-b663-323336346463
DTSTAMP:20260422T230047Z
DESCRIPTION:2/2 VK Lvi Praha A - Španielka 2:1 (-21\,20\,9)
DTSTART;TZID=Europe/Berlin:20260124T100000
DTEND;TZID=Europe/Berlin:20260124T120000
LOCATION:FZŠ Brdičkova\, Brdičkova 1878 Praha - Stodůlky
SUMMARY:PP-U14Z-6-B: VK Lvi Praha A-Španielka
END:VEVENT
BEGIN:VEVENT
UID:36626363-3638-4264-b066-356662376337
DTSTAMP:20260422T230047Z
DESCRIPTION:3/3 Vršovice A - Španielka 0:2 (-18\,-20)
DTSTART;TZID=Europe/Berlin:20260124T110000
DTEND;TZID=Europe/Berlin:20260124T130000
LOCATION:FZŠ Brdičkova\, Brdičkova 1878 Praha - Stodůlky
SUMMARY:PP-U14Z-6-B: Vršovice A-Španielka
END:VEVENT
BEGIN:VEVENT
UID:63383039-6432-4030-a366-636231366230
DTSTAMP:20260422T230047Z
DESCRIPTION:2/6 Španielka - SK Třebín 2:1 (-18\,20\,11)
DTSTART;TZID=Europe/Berlin:20260321T134000
DTEND;TZID=Europe/Berlin:20260321T154000
LOCATION:Tělocvična ZŠ\, Španielova 1111 Praha - Řepy
SUMMARY:MCR-U14Z-1I: Španielka-SK Třebín
END:VEVENT
BEGIN:VEVENT
UID:61316164-3432-4331-a238-346362653562
DTSTAMP:20260422T230047Z
DESCRIPTION:3/10 Španielka - SC Braník 2:0 (18\,22)
DTSTART;TZID=Europe/Berlin:20260321T161000
DTEND;TZID=Europe/Berlin:20260321T181000
LOCATION:Tělocvična ZŠ\, Španielova 1111 Praha - Řepy
SUMMARY:MCR-U14Z-1I: Španielka-SC Braník
END:VEVENT
BEGIN:VEVENT
UID:37333631-3434-4562-a462-663864363335
DTSTAMP:20260422T230047Z
DESCRIPTION:4/14 Španielka - Volejbal Rudolfov 0:2 (-13\,-15)
DTSTART;TZID=Europe/Berlin:20260321T183000
DTEND;TZID=Europe/Berlin:20260321T203000
LOCATION:Tělocvična ZŠ\, Španielova 1111 Praha - Řepy
SUMMARY:MCR-U14Z-1I: Španielka-Volejbal Rudolfov
END:VEVENT
BEGIN:VEVENT
UID:64636164-3964-4537-b866-386132373635
DTSTAMP:20260422T230047Z
DESCRIPTION:5/18 Španielka - TJ Baník Příbram 2:1 (-19\,16\,12)
DTSTART;TZID=Europe/Berlin:20260322T090000
DTEND;TZID=Europe/Berlin:20260322T110000
LOCATION:Tělocvična ZŠ\, Španielova 1111 Praha - Řepy
SUMMARY:MCR-U14Z-1I: Španielka-TJ Baník Příbram
END:VEVENT
BEGIN:VEVENT
UID:38346461-6538-4239-b664-343132376562
DTSTAMP:20260422T230047Z
DESCRIPTION:6/22 Španielka - Králův Dvůr 0:2 (-15\,-23)
DTSTART;TZID=Europe/Berlin:20260322T114000
DTEND;TZID=Europe/Berlin:20260322T134000
LOCATION:Tělocvična ZŠ\, Španielova 1111 Praha - Řepy
SUMMARY:MCR-U14Z-1I: Španielka-Králův Dvůr
END:VEVENT
BEGIN:VEVENT
UID:34643831-6336-4437-b238-396231653963
DTSTAMP:20260422T230047Z
DESCRIPTION:7/26 Španielka - TJ Kunice 2:0 (19\,18)
DTSTART;TZID=Europe/Berlin:20260322T140000
DTEND;TZID=Europe/Berlin:20260322T160000
LOCATION:Tělocvična ZŠ\, Španielova 1111 Praha - Řepy
SUMMARY:MCR-U14Z-1I: Španielka-TJ Kunice
END:VEVENT
BEGIN:VEVENT
UID:63643533-3464-4432-a166-656466666265
DTSTAMP:20260422T230047Z
DESCRIPTION:1/1 Loko Plzeň B - Španielka 0:2 (-4\,-4)
DTSTART;TZID=Europe/Berlin:20260321T113000
DTEND;TZID=Europe/Berlin:20260321T133000
LOCATION:Městská sportovní hala  -  hala 2\, Úslavská 2357 Plzeň - Východní
  Předměstí
SUMMARY:MCR-U14Z-1I: Loko Plzeň B-Španielka
END:VEVENT
BEGIN:VEVENT
UID:31313834-6131-4463-b734-376366333139
DTSTAMP:20260422T230047Z
DESCRIPTION:6/6 Španielka - SK Kometa Praha A 0:2 (-17\,-23)
DTSTART;TZID=Europe/Berlin:20260314T140000
DTEND;TZID=Europe/Berlin:20260314T160000
LOCATION:Tělocvična ZŠ\, Španielova 1111 Praha - Řepy
SUMMARY:PP-U14Z-7-B: Španielka-SK Kometa Praha A
END:VEVENT
BEGIN:VEVENT
UID:38376635-3766-4332-a433-646134386561
DTSTAMP:20260422T230047Z
DESCRIPTION:2/2 VK Lvi Praha A - Španielka 2:0 (23\,22)
DTSTART;TZID=Europe/Berlin:20260314T100000
DTEND;TZID=Europe/Berlin:20260314T120000
LOCATION:Tělocvična ZŠ\, Španielova 1111 Praha - Řepy
SUMMARY:PP-U14Z-7-B: VK Lvi Praha A-Španielka
END:VEVENT
BEGIN:VEVENT
UID:63613764-3431-4165-b862-396330393261
DTSTAMP:20260422T230047Z
DESCRIPTION:3/3 Střešovice - Španielka 2:0 (16\,21)
DTSTART;TZID=Europe/Berlin:20260314T110000
DTEND;TZID=Europe/Berlin:20260314T130000
LOCATION:Tělocvična ZŠ\, Španielova 1111 Praha - Řepy
SUMMARY:PP-U14Z-7-B: Střešovice-Španielka
END:VEVENT
BEGIN:VEVENT
UID:38333339-3131-4362-b135-656437333739
DTSTAMP:20260422T230047Z
DESCRIPTION:2/4 Španielka - VO TJ Lanškroun 2:1 (-24\,13\,8)
DTSTART;TZID=Europe/Berlin:20260418T113000
DTEND;TZID=Europe/Berlin:20260418T133000
LOCATION:Hala ZŠ Komenského\, Komenského 701 Bílovec
SUMMARY:MCR-U14Z-2C: Španielka-VO TJ Lanškroun
END:VEVENT
BEGIN:VEVENT
UID:39623338-6333-4339-b236-313139383532
DTSTAMP:20260422T230047Z
DESCRIPTION:5/15 Španielka - VSK Zlín 0:2 (-13\,-13)
DTSTART;TZID=Europe/Berlin:20260418T160000
DTEND;TZID=Europe/Berlin:20260418T180000
LOCATION:Hala ZŠ Komenského\, Komenského 701 Bílovec
SUMMARY:MCR-U14Z-2C: Španielka-VSK Zlín
END:VEVENT
BEGIN:VEVENT
UID:36393933-3534-4231-b963-646361306636
DTSTAMP:20260422T230047Z
DESCRIPTION:9/24 Španielka - VK Rokycany 0:2 (-16\,-17)
DTSTART;TZID=Europe/Berlin:20260419T114500
DTEND;TZID=Europe/Berlin:20260419T134500
LOCATION:Hala ZŠ Komenského\, Komenského 701 Bílovec
SUMMARY:MCR-U14Z-2C: Španielka-VK Rokycany
END:VEVENT
BEGIN:VEVENT
UID:33353032-3736-4335-b735-313331373635
DTSTAMP:20260422T230047Z
DESCRIPTION:1/2 TJ VK Dukla Liberec - Španielka 2:0 (11\,7)
DTSTART;TZID=Europe/Berlin:20260418T100000
DTEND;TZID=Europe/Berlin:20260418T120000
LOCATION:Hala ZŠ Komenského\, Komenského 701 Bílovec
SUMMARY:MCR-U14Z-2C: TJ VK Dukla Liberec-Španielka
END:VEVENT
BEGIN:VEVENT
UID:62363134-3361-4534-a261-303361663961
DTSTAMP:20260422T230047Z
DESCRIPTION:4/12 PVK Olymp Praha - Španielka 2:0 (7\,17)
DTSTART;TZID=Europe/Berlin:20260418T143000
DTEND;TZID=Europe/Berlin:20260418T163000
LOCATION:Hala ZŠ Komenského\, Komenského 701 Bílovec
SUMMARY:MCR-U14Z-2C: PVK Olymp Praha-Španielka
END:VEVENT
BEGIN:VEVENT
UID:64343466-6662-4730-b938-366437326565
DTSTAMP:20260422T230047Z
DESCRIPTION:7/17 ŠSK Bílovec - Španielka 2:0 (17\,15)
DTSTART;TZID=Europe/Berlin:20260419T090000
DTEND;TZID=Europe/Berlin:20260419T110000
LOCATION:Hala ZŠ Komenského\, Komenského 701 Bílovec
SUMMARY:MCR-U14Z-2C: ŠSK Bílovec-Španielka
END:VEVENT
BEGIN:VEVENT
UID:30626233-3331-4538-a462-383164353164
DTSTAMP:20260422T230047Z
DESCRIPTION:8/21 Volejbal Rudolfov - Španielka 2:0 (18\,7)
DTSTART;TZID=Europe/Berlin:20260419T103000
DTEND;TZID=Europe/Berlin:20260419T123000
LOCATION:Hala ZŠ Komenského\, Komenského 701 Bílovec
SUMMARY:MCR-U14Z-2C: Volejbal Rudolfov-Španielka
END:VEVENT
END:VCALENDAR
