BEGIN:VCALENDAR
VERSION:2.0
PRODID:-//SK Meteor Praha A90754//NONSGML kigkonsult.se iCalcreator 2.41.80//
CALSCALE:GREGORIAN
UID:38313838-3334-4631-b638-343662623437
BEGIN:VEVENT
UID:65333036-3139-4330-b161-383636313738
DTSTAMP:20260422T202138Z
DESCRIPTION:6/6 SK Meteor Praha A - SK Dansport Praha B 2:0 (16\,16)
DTSTART;TZID=Europe/Berlin:20250907T140000
DTEND;TZID=Europe/Berlin:20250907T160000
LOCATION:Sokol Bubeneč\, Korunovační 630 Praha - Bubeneč
SUMMARY:PP-U16Z-Q1-C: SK Meteor Praha A-SK Dansport Praha B
END:VEVENT
BEGIN:VEVENT
UID:63363965-6539-4663-b361-653835306364
DTSTAMP:20260422T202138Z
DESCRIPTION:8/8 SK Meteor Praha A - Orion Praha B 2:0 (15\,22)
DTSTART;TZID=Europe/Berlin:20250907T160000
DTEND;TZID=Europe/Berlin:20250907T180000
LOCATION:Sokol Bubeneč\, Korunovační 630 Praha - Bubeneč
SUMMARY:PP-U16Z-Q1-C: SK Meteor Praha A-Orion Praha B
END:VEVENT
BEGIN:VEVENT
UID:64376530-3838-4463-a335-333232623038
DTSTAMP:20260422T202138Z
DESCRIPTION:3/3 Wizards DDM Praha 10 - SK Meteor Praha A 0:2 (-8\,-19)
DTSTART;TZID=Europe/Berlin:20250907T110000
DTEND;TZID=Europe/Berlin:20250907T130000
LOCATION:Sokol Bubeneč\, Korunovační 630 Praha - Bubeneč
SUMMARY:PP-U16Z-Q1-C: Wizards DDM Praha 10-SK Meteor Praha A
END:VEVENT
BEGIN:VEVENT
UID:66633764-6662-4134-b139-333263346237
DTSTAMP:20260422T202138Z
DESCRIPTION:10/10 Mikulova - SK Meteor Praha A 2:0 (19\,12)
DTSTART;TZID=Europe/Berlin:20250907T180000
DTEND;TZID=Europe/Berlin:20250907T200000
LOCATION:Sokol Bubeneč\, Korunovační 630 Praha - Bubeneč
SUMMARY:PP-U16Z-Q1-C: Mikulova-SK Meteor Praha A
END:VEVENT
BEGIN:VEVENT
UID:33656663-3431-4735-b438-303862386166
DTSTAMP:20260422T202138Z
DESCRIPTION:3/3 SK Meteor Praha A - SK Slavia Praha  A 0:2 (-10\,-3)
DTSTART;TZID=Europe/Berlin:20251005T100000
DTEND;TZID=Europe/Berlin:20251005T120000
LOCATION:Sokol Bubeneč\, Korunovační 630 Praha - Bubeneč
SUMMARY:PP-U16Z-Q2-B: SK Meteor Praha A-SK Slavia Praha  A
END:VEVENT
BEGIN:VEVENT
UID:33383061-6437-4135-b433-616130306634
DTSTAMP:20260422T202138Z
DESCRIPTION:2/2 Mikulova B - SK Meteor Praha A 2:0 (13\,22)
DTSTART;TZID=Europe/Berlin:20251005T090000
DTEND;TZID=Europe/Berlin:20251005T110000
LOCATION:Sokol Bubeneč\, Korunovační 630 Praha - Bubeneč
SUMMARY:PP-U16Z-Q2-B: Mikulova B-SK Meteor Praha A
END:VEVENT
BEGIN:VEVENT
UID:62643437-3930-4931-b238-383565653461
DTSTAMP:20260422T202138Z
DESCRIPTION:5/5 Vršovice A - SK Meteor Praha A 2:0 (21\,13)
DTSTART;TZID=Europe/Berlin:20251005T120000
DTEND;TZID=Europe/Berlin:20251005T140000
LOCATION:Sokol Bubeneč\, Korunovační 630 Praha - Bubeneč
SUMMARY:PP-U16Z-Q2-B: Vršovice A-SK Meteor Praha A
END:VEVENT
BEGIN:VEVENT
UID:33373563-6332-4530-b061-383435663035
DTSTAMP:20260422T202138Z
DESCRIPTION:1/1 SK Meteor Praha A - VK Lvi Praha A 1:2 (-20\,22\,-7)
DTSTART;TZID=Europe/Berlin:20251102T090000
DTEND;TZID=Europe/Berlin:20251102T110000
LOCATION:Sportovní hala Gymnázia Jana Keplera\, Parléřova 118 Praha - Hradč
 any
SUMMARY:PP-U16Z-1-D: SK Meteor Praha A-VK Lvi Praha A
END:VEVENT
BEGIN:VEVENT
UID:64336638-6635-4837-a366-353232616364
DTSTAMP:20260422T202138Z
DESCRIPTION:4/4 SK Meteor Praha A - Střešovice B 0:2 (-17\,-15)
DTSTART;TZID=Europe/Berlin:20251102T120000
DTEND;TZID=Europe/Berlin:20251102T140000
LOCATION:Sportovní hala Gymnázia Jana Keplera\, Parléřova 118 Praha - Hradč
 any
SUMMARY:PP-U16Z-1-D: SK Meteor Praha A-Střešovice B
END:VEVENT
BEGIN:VEVENT
UID:64623036-6132-4363-b763-396631366534
DTSTAMP:20260422T202138Z
DESCRIPTION:6/6 SK Dansport Praha A - SK Meteor Praha A 1:2 (-19\,19\,-6)
DTSTART;TZID=Europe/Berlin:20251102T140000
DTEND;TZID=Europe/Berlin:20251102T160000
LOCATION:Sportovní hala Gymnázia Jana Keplera\, Parléřova 118 Praha - Hradč
 any
SUMMARY:PP-U16Z-1-D: SK Dansport Praha A-SK Meteor Praha A
END:VEVENT
BEGIN:VEVENT
UID:39373937-6166-4735-b239-663366656438
DTSTAMP:20260422T202138Z
DESCRIPTION:1/1 SK Meteor Praha A - Studio Sport 2:0 (8\,17)
DTSTART;TZID=Europe/Berlin:20251123T090000
DTEND;TZID=Europe/Berlin:20251123T110000
LOCATION:Sokol Bubeneč\, Korunovační 630 Praha - Bubeneč
SUMMARY:PP-U16Z-2-E: SK Meteor Praha A-Studio Sport
END:VEVENT
BEGIN:VEVENT
UID:36303738-3834-4635-a165-616636376531
DTSTAMP:20260422T202138Z
DESCRIPTION:4/4 SK Meteor Praha A - SK Kometa Praha B 2:1 (15\,-21\,14)
DTSTART;TZID=Europe/Berlin:20251123T120000
DTEND;TZID=Europe/Berlin:20251123T140000
LOCATION:Sokol Bubeneč\, Korunovační 630 Praha - Bubeneč
SUMMARY:PP-U16Z-2-E: SK Meteor Praha A-SK Kometa Praha B
END:VEVENT
BEGIN:VEVENT
UID:31363261-3130-4531-a535-346239313137
DTSTAMP:20260422T202138Z
DESCRIPTION:6/6 Orion Praha B - SK Meteor Praha A 0:2 (-22\,-22)
DTSTART;TZID=Europe/Berlin:20251123T140000
DTEND;TZID=Europe/Berlin:20251123T160000
LOCATION:Sokol Bubeneč\, Korunovační 630 Praha - Bubeneč
SUMMARY:PP-U16Z-2-E: Orion Praha B-SK Meteor Praha A
END:VEVENT
BEGIN:VEVENT
UID:36396365-3036-4537-a233-396261636233
DTSTAMP:20260422T202138Z
DESCRIPTION:2/3 SK Meteor Praha A - SK Dansport Praha A 1:2 (14\,-20\,-12)
DTSTART;TZID=Europe/Berlin:20251207T100000
DTEND;TZID=Europe/Berlin:20251207T120000
LOCATION:SKŠ ZŠ Mikulova Praha\, Mikulova 1594 Praha - Chodov
SUMMARY:PP-U16Z-3-D: SK Meteor Praha A-SK Dansport Praha A
END:VEVENT
BEGIN:VEVENT
UID:61326238-3664-4535-a263-396333643530
DTSTAMP:20260422T202138Z
DESCRIPTION:1/1 Mikulova B - SK Meteor Praha A 2:0 (17\,12)
DTSTART;TZID=Europe/Berlin:20251207T090000
DTEND;TZID=Europe/Berlin:20251207T110000
LOCATION:SKŠ ZŠ Mikulova Praha\, Mikulova 1594 Praha - Chodov
SUMMARY:PP-U16Z-3-D: Mikulova B-SK Meteor Praha A
END:VEVENT
BEGIN:VEVENT
UID:32326430-6539-4035-b861-346232386466
DTSTAMP:20260422T202138Z
DESCRIPTION:3/5 VK Lvi Praha A - SK Meteor Praha A 2:1 (18\,-19\,6)
DTSTART;TZID=Europe/Berlin:20251207T110000
DTEND;TZID=Europe/Berlin:20251207T130000
LOCATION:SKŠ ZŠ Mikulova Praha\, Mikulova 1594 Praha - Chodov
SUMMARY:PP-U16Z-3-D: VK Lvi Praha A-SK Meteor Praha A
END:VEVENT
BEGIN:VEVENT
UID:61663934-3164-4261-a434-633337363239
DTSTAMP:20260422T202138Z
DESCRIPTION:1/1 SK Meteor Praha A - Orion Praha B 2:0 (19\,14)
DTSTART;TZID=Europe/Berlin:20260111T090000
DTEND;TZID=Europe/Berlin:20260111T110000
LOCATION:ZŠ Dolní Břežany\, Na Vršku 290 Dolní Břežany
SUMMARY:PP-U16Z-4-E: SK Meteor Praha A-Orion Praha B
END:VEVENT
BEGIN:VEVENT
UID:31333734-3062-4465-a431-636635646332
DTSTAMP:20260422T202138Z
DESCRIPTION:4/4 SK Meteor Praha A - Studio Sport 2:1 (20\,-17\,7)
DTSTART;TZID=Europe/Berlin:20260111T120000
DTEND;TZID=Europe/Berlin:20260111T140000
LOCATION:ZŠ Dolní Břežany\, Na Vršku 290 Dolní Břežany
SUMMARY:PP-U16Z-4-E: SK Meteor Praha A-Studio Sport
END:VEVENT
BEGIN:VEVENT
UID:61383865-3638-4266-b230-663531313164
DTSTAMP:20260422T202138Z
DESCRIPTION:6/6 Orion Praha C - SK Meteor Praha A 2:1 (8\,-21\,14)
DTSTART;TZID=Europe/Berlin:20260111T140000
DTEND;TZID=Europe/Berlin:20260111T160000
LOCATION:ZŠ Dolní Břežany\, Na Vršku 290 Dolní Břežany
SUMMARY:PP-U16Z-4-E: Orion Praha C-SK Meteor Praha A
END:VEVENT
BEGIN:VEVENT
UID:30383137-6530-4932-a435-356164396265
DTSTAMP:20260422T202138Z
DESCRIPTION:2/2 SK Meteor Praha A - Studio Sport 1:2 (22\,-22\,-12)
DTSTART;TZID=Europe/Berlin:20260125T100000
DTEND;TZID=Europe/Berlin:20260125T120000
LOCATION:Sokol Bubeneč\, Korunovační 630 Praha - Bubeneč
SUMMARY:PP-U16Z-5-E: SK Meteor Praha A-Studio Sport
END:VEVENT
BEGIN:VEVENT
UID:31373338-3437-4139-b733-353833366133
DTSTAMP:20260422T202138Z
DESCRIPTION:5/5 SK Meteor Praha A - SK Kometa Praha B 2:0 (17\,20)
DTSTART;TZID=Europe/Berlin:20260125T130000
DTEND;TZID=Europe/Berlin:20260125T150000
LOCATION:Sokol Bubeneč\, Korunovační 630 Praha - Bubeneč
SUMMARY:PP-U16Z-5-E: SK Meteor Praha A-SK Kometa Praha B
END:VEVENT
BEGIN:VEVENT
UID:34336563-3332-4039-a631-383562396639
DTSTAMP:20260422T202138Z
DESCRIPTION:4/4 SC Braník B - SK Meteor Praha A 0:2 (-10\,-18)
DTSTART;TZID=Europe/Berlin:20260125T120000
DTEND;TZID=Europe/Berlin:20260125T140000
LOCATION:Sokol Bubeneč\, Korunovační 630 Praha - Bubeneč
SUMMARY:PP-U16Z-5-E: SC Braník B-SK Meteor Praha A
END:VEVENT
BEGIN:VEVENT
UID:38353835-3330-4132-b966-383736376561
DTSTAMP:20260422T202138Z
DESCRIPTION:1/2 SK Meteor Praha A - SK Kometa Praha B 2:0 (17\,15)
DTSTART;TZID=Europe/Berlin:20260315T123000
DTEND;TZID=Europe/Berlin:20260315T143000
LOCATION:SKŠ ZŠ Mikulova Praha\, Mikulova 1594 Praha - Chodov
SUMMARY:PP-U16Z-6-E: SK Meteor Praha A-SK Kometa Praha B
END:VEVENT
BEGIN:VEVENT
UID:66316166-3333-4762-b030-316664336335
DTSTAMP:20260422T202138Z
DESCRIPTION:3/5 SK Meteor Praha A - SK Slavia Praha B 2:0 (21\,17)
DTSTART;TZID=Europe/Berlin:20260315T143000
DTEND;TZID=Europe/Berlin:20260315T163000
LOCATION:SKŠ ZŠ Mikulova Praha\, Mikulova 1594 Praha - Chodov
SUMMARY:PP-U16Z-6-E: SK Meteor Praha A-SK Slavia Praha B
END:VEVENT
BEGIN:VEVENT
UID:61653736-3637-4632-b466-363936343733
DTSTAMP:20260422T202138Z
DESCRIPTION:2/4 Mikulova B - SK Meteor Praha A 2:0 (16\,23)
DTSTART;TZID=Europe/Berlin:20260315T133000
DTEND;TZID=Europe/Berlin:20260315T153000
LOCATION:SKŠ ZŠ Mikulova Praha\, Mikulova 1594 Praha - Chodov
SUMMARY:PP-U16Z-6-E: Mikulova B-SK Meteor Praha A
END:VEVENT
END:VCALENDAR
