BEGIN:VCALENDAR
VERSION:2.0
PRODID:-//Mikulova B90758//NONSGML kigkonsult.se iCalcreator 2.41.80//
CALSCALE:GREGORIAN
UID:61373964-3835-4131-a439-346262386437
BEGIN:VEVENT
UID:36373634-3361-4566-b265-386361323233
DTSTAMP:20260423T004318Z
DESCRIPTION:1/1 Mikulova B - SK Španielka Řepy B 2:0 (6\,16)
DTSTART;TZID=Europe/Berlin:20250907T090000
DTEND;TZID=Europe/Berlin:20250907T110000
LOCATION:SKŠ ZŠ Mikulova Praha\, Mikulova 1594 Praha - Chodov
SUMMARY:PP-U16Z-Q1-E: Mikulova B-SK Španielka Řepy B
END:VEVENT
BEGIN:VEVENT
UID:39396337-3339-4232-b763-373365386433
DTSTAMP:20260423T004318Z
DESCRIPTION:4/7 Mikulova B - SK Dansport Praha A 2:0 (16\,21)
DTSTART;TZID=Europe/Berlin:20250907T120000
DTEND;TZID=Europe/Berlin:20250907T140000
LOCATION:SKŠ ZŠ Mikulova Praha\, Mikulova 1594 Praha - Chodov
SUMMARY:PP-U16Z-Q1-E: Mikulova B-SK Dansport Praha A
END:VEVENT
BEGIN:VEVENT
UID:66356636-3331-4165-a162-326432306133
DTSTAMP:20260423T004318Z
DESCRIPTION:2/3 VK Lvi Praha A - Mikulova B 2:0 (22\,21)
DTSTART;TZID=Europe/Berlin:20250907T100000
DTEND;TZID=Europe/Berlin:20250907T120000
LOCATION:SKŠ ZŠ Mikulova Praha\, Mikulova 1594 Praha - Chodov
SUMMARY:PP-U16Z-Q1-E: VK Lvi Praha A-Mikulova B
END:VEVENT
BEGIN:VEVENT
UID:33373665-3434-4064-a335-346562303435
DTSTAMP:20260423T004318Z
DESCRIPTION:5/9 SK Kometa Praha C - Mikulova B 0:2 (-14\,-16)
DTSTART;TZID=Europe/Berlin:20250907T130000
DTEND;TZID=Europe/Berlin:20250907T150000
LOCATION:SKŠ ZŠ Mikulova Praha\, Mikulova 1594 Praha - Chodov
SUMMARY:PP-U16Z-Q1-E: SK Kometa Praha C-Mikulova B
END:VEVENT
BEGIN:VEVENT
UID:34346433-3034-4938-b763-346162363234
DTSTAMP:20260423T004318Z
DESCRIPTION:2/2 Mikulova B - SK Meteor Praha A 2:0 (13\,22)
DTSTART;TZID=Europe/Berlin:20251005T090000
DTEND;TZID=Europe/Berlin:20251005T110000
LOCATION:Sokol Bubeneč\, Korunovační 630 Praha - Bubeneč
SUMMARY:PP-U16Z-Q2-B: Mikulova B-SK Meteor Praha A
END:VEVENT
BEGIN:VEVENT
UID:61646261-3335-4163-b666-306237626336
DTSTAMP:20260423T004318Z
DESCRIPTION:4/4 Mikulova B - Vršovice A 1:2 (-6\,15\,-12)
DTSTART;TZID=Europe/Berlin:20251005T110000
DTEND;TZID=Europe/Berlin:20251005T130000
LOCATION:Sokol Bubeneč\, Korunovační 630 Praha - Bubeneč
SUMMARY:PP-U16Z-Q2-B: Mikulova B-Vršovice A
END:VEVENT
BEGIN:VEVENT
UID:61626139-6461-4735-b666-383465633039
DTSTAMP:20260423T004318Z
DESCRIPTION:6/6 SK Slavia Praha  A - Mikulova B 2:0 (10\,4)
DTSTART;TZID=Europe/Berlin:20251005T130000
DTEND;TZID=Europe/Berlin:20251005T150000
LOCATION:Sokol Bubeneč\, Korunovační 630 Praha - Bubeneč
SUMMARY:PP-U16Z-Q2-B: SK Slavia Praha  A-Mikulova B
END:VEVENT
BEGIN:VEVENT
UID:31633764-3134-4438-b064-346632313439
DTSTAMP:20260423T004318Z
DESCRIPTION:2/2 Mikulova B - SK Španielka Řepy A 1:2 (23\,-16\,-13)
DTSTART;TZID=Europe/Berlin:20251102T100000
DTEND;TZID=Europe/Berlin:20251102T120000
LOCATION:Sportovní hala Horní Počernice TěloCvič!\, Jívanská 3226 Praha - H
 orní Počernice
SUMMARY:PP-U16Z-1-C: Mikulova B-SK Španielka Řepy A
END:VEVENT
BEGIN:VEVENT
UID:63343862-6134-4261-b336-336536623666
DTSTAMP:20260423T004318Z
DESCRIPTION:4/4 Sokol HP A - Mikulova B 2:0 (16\,16)
DTSTART;TZID=Europe/Berlin:20251102T110000
DTEND;TZID=Europe/Berlin:20251102T130000
LOCATION:Sportovní hala Horní Počernice TěloCvič!\, Jívanská 3226 Praha - H
 orní Počernice
SUMMARY:PP-U16Z-1-C: Sokol HP A-Mikulova B
END:VEVENT
BEGIN:VEVENT
UID:36636561-6165-4237-a636-313638333938
DTSTAMP:20260423T004318Z
DESCRIPTION:5/5 SC Braník - Mikulova B 0:2 (-10\,-17)
DTSTART;TZID=Europe/Berlin:20251102T120000
DTEND;TZID=Europe/Berlin:20251102T140000
LOCATION:Sportovní hala Horní Počernice TěloCvič!\, Jívanská 3226 Praha - H
 orní Počernice
SUMMARY:PP-U16Z-1-C: SC Braník-Mikulova B
END:VEVENT
BEGIN:VEVENT
UID:35323536-6465-4064-a436-363632356134
DTSTAMP:20260423T004318Z
DESCRIPTION:6/6 Mikulova B - Vršovice A 0:2 (-22\,-18)
DTSTART;TZID=Europe/Berlin:20251123T140000
DTEND;TZID=Europe/Berlin:20251123T160000
LOCATION:Tělocvična ZŠ\, Španielova 1111 Praha - Řepy
SUMMARY:PP-U16Z-2-C: Mikulova B-Vršovice A
END:VEVENT
BEGIN:VEVENT
UID:31633433-3166-4531-b332-646638363433
DTSTAMP:20260423T004318Z
DESCRIPTION:2/2 SK Španielka Řepy A - Mikulova B 2:0 (17\,17)
DTSTART;TZID=Europe/Berlin:20251123T100000
DTEND;TZID=Europe/Berlin:20251123T120000
LOCATION:Tělocvična ZŠ\, Španielova 1111 Praha - Řepy
SUMMARY:PP-U16Z-2-C: SK Španielka Řepy A-Mikulova B
END:VEVENT
BEGIN:VEVENT
UID:34656432-6534-4137-b538-653765313039
DTSTAMP:20260423T004318Z
DESCRIPTION:3/3 Střešovice B - Mikulova B 2:0 (22\,23)
DTSTART;TZID=Europe/Berlin:20251123T110000
DTEND;TZID=Europe/Berlin:20251123T130000
LOCATION:Tělocvična ZŠ\, Španielova 1111 Praha - Řepy
SUMMARY:PP-U16Z-2-C: Střešovice B-Mikulova B
END:VEVENT
BEGIN:VEVENT
UID:38333437-3133-4335-b933-353764343639
DTSTAMP:20260423T004318Z
DESCRIPTION:1/1 Mikulova B - SK Meteor Praha A 2:0 (17\,12)
DTSTART;TZID=Europe/Berlin:20251207T090000
DTEND;TZID=Europe/Berlin:20251207T110000
LOCATION:SKŠ ZŠ Mikulova Praha\, Mikulova 1594 Praha - Chodov
SUMMARY:PP-U16Z-3-D: Mikulova B-SK Meteor Praha A
END:VEVENT
BEGIN:VEVENT
UID:61386633-6230-4431-a565-393361666437
DTSTAMP:20260423T004318Z
DESCRIPTION:2/4 Mikulova B - VK Lvi Praha A 0:2 (-22\,-22)
DTSTART;TZID=Europe/Berlin:20251207T100000
DTEND;TZID=Europe/Berlin:20251207T120000
LOCATION:SKŠ ZŠ Mikulova Praha\, Mikulova 1594 Praha - Chodov
SUMMARY:PP-U16Z-3-D: Mikulova B-VK Lvi Praha A
END:VEVENT
BEGIN:VEVENT
UID:34393437-3761-4661-b363-663362343234
DTSTAMP:20260423T004318Z
DESCRIPTION:3/6 SK Dansport Praha A - Mikulova B 1:2 (16\,-15\,-7)
DTSTART;TZID=Europe/Berlin:20251207T110000
DTEND;TZID=Europe/Berlin:20251207T130000
LOCATION:SKŠ ZŠ Mikulova Praha\, Mikulova 1594 Praha - Chodov
SUMMARY:PP-U16Z-3-D: SK Dansport Praha A-Mikulova B
END:VEVENT
BEGIN:VEVENT
UID:34316632-6534-4037-a263-396632333164
DTSTAMP:20260423T004318Z
DESCRIPTION:1/2 Mikulova B - SK Dansport Praha A 2:0 (14\,22)
DTSTART;TZID=Europe/Berlin:20260111T123000
DTEND;TZID=Europe/Berlin:20260111T143000
LOCATION:tělocvičny ZŠ Mikulova\, Mikulova 1594 Praha - Chodov
SUMMARY:PP-U16Z-4-D: Mikulova B-SK Dansport Praha A
END:VEVENT
BEGIN:VEVENT
UID:30396562-3939-4364-b733-336366306364
DTSTAMP:20260423T004318Z
DESCRIPTION:3/5 Mikulova B - SC Braník B 2:0 (22\,13)
DTSTART;TZID=Europe/Berlin:20260111T143000
DTEND;TZID=Europe/Berlin:20260111T163000
LOCATION:tělocvičny ZŠ Mikulova\, Mikulova 1594 Praha - Chodov
SUMMARY:PP-U16Z-4-D: Mikulova B-SC Braník B
END:VEVENT
BEGIN:VEVENT
UID:63396436-6636-4236-b930-376265313037
DTSTAMP:20260423T004318Z
DESCRIPTION:2/4 Střešovice B - Mikulova B 2:0 (17\,25)
DTSTART;TZID=Europe/Berlin:20260111T133000
DTEND;TZID=Europe/Berlin:20260111T153000
LOCATION:tělocvičny ZŠ Mikulova\, Mikulova 1594 Praha - Chodov
SUMMARY:PP-U16Z-4-D: Střešovice B-Mikulova B
END:VEVENT
BEGIN:VEVENT
UID:38663635-3938-4536-b236-396663316133
DTSTAMP:20260423T004318Z
DESCRIPTION:6/6 Mikulova B - VK Lvi Praha A 0:2 (-24\,-8)
DTSTART;TZID=Europe/Berlin:20260125T140000
DTEND;TZID=Europe/Berlin:20260125T160000
LOCATION:FZŠ Brdičkova\, Brdičkova 1878 Praha - Stodůlky
SUMMARY:PP-U16Z-5-D: Mikulova B-VK Lvi Praha A
END:VEVENT
BEGIN:VEVENT
UID:61353939-6662-4432-b036-626639636135
DTSTAMP:20260423T004318Z
DESCRIPTION:2/2 Střešovice B - Mikulova B 2:1 (-18\,20\,11)
DTSTART;TZID=Europe/Berlin:20260125T100000
DTEND;TZID=Europe/Berlin:20260125T120000
LOCATION:FZŠ Brdičkova\, Brdičkova 1878 Praha - Stodůlky
SUMMARY:PP-U16Z-5-D: Střešovice B-Mikulova B
END:VEVENT
BEGIN:VEVENT
UID:66633431-3561-4965-b866-633762653035
DTSTAMP:20260423T004318Z
DESCRIPTION:3/3 Orion Praha C - Mikulova B 2:0 (20\,25)
DTSTART;TZID=Europe/Berlin:20260125T110000
DTEND;TZID=Europe/Berlin:20260125T130000
LOCATION:FZŠ Brdičkova\, Brdičkova 1878 Praha - Stodůlky
SUMMARY:PP-U16Z-5-D: Orion Praha C-Mikulova B
END:VEVENT
BEGIN:VEVENT
UID:36623164-6630-4463-b335-393738313866
DTSTAMP:20260423T004318Z
DESCRIPTION:1/1 Mikulova B - SK Slavia Praha B 1:2 (-23\,20\,-13)
DTSTART;TZID=Europe/Berlin:20260315T123000
DTEND;TZID=Europe/Berlin:20260315T143000
LOCATION:SKŠ ZŠ Mikulova Praha\, Mikulova 1594 Praha - Chodov
SUMMARY:PP-U16Z-6-E: Mikulova B-SK Slavia Praha B
END:VEVENT
BEGIN:VEVENT
UID:37376264-3435-4765-a265-616465303361
DTSTAMP:20260423T004318Z
DESCRIPTION:2/4 Mikulova B - SK Meteor Praha A 2:0 (16\,23)
DTSTART;TZID=Europe/Berlin:20260315T133000
DTEND;TZID=Europe/Berlin:20260315T153000
LOCATION:SKŠ ZŠ Mikulova Praha\, Mikulova 1594 Praha - Chodov
SUMMARY:PP-U16Z-6-E: Mikulova B-SK Meteor Praha A
END:VEVENT
BEGIN:VEVENT
UID:62303830-3335-4262-b134-356565393561
DTSTAMP:20260423T004318Z
DESCRIPTION:3/6 SK Kometa Praha B - Mikulova B 0:2 (-24\,-22)
DTSTART;TZID=Europe/Berlin:20260315T143000
DTEND;TZID=Europe/Berlin:20260315T163000
LOCATION:SKŠ ZŠ Mikulova Praha\, Mikulova 1594 Praha - Chodov
SUMMARY:PP-U16Z-6-E: SK Kometa Praha B-Mikulova B
END:VEVENT
END:VCALENDAR
