BEGIN:VCALENDAR
VERSION:2.0
PRODID:-//SK JOKY Újezd90761//NONSGML kigkonsult.se iCalcreator 2.41.80//
CALSCALE:GREGORIAN
UID:61326264-3139-4338-b735-326337313466
BEGIN:VEVENT
UID:30386465-3561-4637-b563-313735363365
DTSTAMP:20260422T164527Z
DESCRIPTION:3/6 SK JOKY Újezd - SK Kometa Praha D 2:0 (8\,13)
DTSTART;TZID=Europe/Berlin:20250907T110000
DTEND;TZID=Europe/Berlin:20250907T130000
LOCATION:Sportovní hala Horní Počernice TěloCvič!\, Jívanská 3226 Praha - H
 orní Počernice
SUMMARY:PP-U16Z-Q1-D: SK JOKY Újezd-SK Kometa Praha D
END:VEVENT
BEGIN:VEVENT
UID:64373533-3139-4965-b531-626135653636
DTSTAMP:20260422T164527Z
DESCRIPTION:4/8 SK JOKY Újezd - SK Španielka Řepy A 0:2 (-10\,-16)
DTSTART;TZID=Europe/Berlin:20250907T120000
DTEND;TZID=Europe/Berlin:20250907T140000
LOCATION:Sportovní hala Horní Počernice TěloCvič!\, Jívanská 3226 Praha - H
 orní Počernice
SUMMARY:PP-U16Z-Q1-D: SK JOKY Újezd-SK Španielka Řepy A
END:VEVENT
BEGIN:VEVENT
UID:64323832-6335-4332-b061-323930393231
DTSTAMP:20260422T164527Z
DESCRIPTION:1/2 Vršovice B - SK JOKY Újezd 2:0 (19\,24)
DTSTART;TZID=Europe/Berlin:20250907T090000
DTEND;TZID=Europe/Berlin:20250907T110000
LOCATION:Sportovní hala Horní Počernice TěloCvič!\, Jívanská 3226 Praha - H
 orní Počernice
SUMMARY:PP-U16Z-Q1-D: Vršovice B-SK JOKY Újezd
END:VEVENT
BEGIN:VEVENT
UID:33313537-3137-4239-a235-623863613931
DTSTAMP:20260422T164527Z
DESCRIPTION:6/11 Sokol HP B - SK JOKY Újezd 0:2 (-17\,-13)
DTSTART;TZID=Europe/Berlin:20250907T140000
DTEND;TZID=Europe/Berlin:20250907T160000
LOCATION:Sportovní hala Horní Počernice TěloCvič!\, Jívanská 3226 Praha - H
 orní Počernice
SUMMARY:PP-U16Z-Q1-D: Sokol HP B-SK JOKY Újezd
END:VEVENT
BEGIN:VEVENT
UID:30396138-6462-4635-b665-376537353839
DTSTAMP:20260422T164527Z
DESCRIPTION:8/15 SK Slavia Praha  A - SK JOKY Újezd 2:0 (8\,19)
DTSTART;TZID=Europe/Berlin:20250907T160000
DTEND;TZID=Europe/Berlin:20250907T180000
LOCATION:Sportovní hala Horní Počernice TěloCvič!\, Jívanská 3226 Praha - H
 orní Počernice
SUMMARY:PP-U16Z-Q1-D: SK Slavia Praha  A-SK JOKY Újezd
END:VEVENT
BEGIN:VEVENT
UID:39323564-3964-4830-b539-353563313430
DTSTAMP:20260422T164527Z
DESCRIPTION:3/3 SK JOKY Újezd - Orion Praha B 1:2 (-20\,22\,-11)
DTSTART;TZID=Europe/Berlin:20251005T100000
DTEND;TZID=Europe/Berlin:20251005T120000
LOCATION:FZŠ Brdičkova\, Brdičkova 1878 Praha - Stodůlky
SUMMARY:PP-U16Z-Q2-G: SK JOKY Újezd-Orion Praha B
END:VEVENT
BEGIN:VEVENT
UID:34376639-3439-4631-a364-333330323637
DTSTAMP:20260422T164527Z
DESCRIPTION:2/2 VK Lvi Praha B - SK JOKY Újezd 1:2 (-19\,19\,-13)
DTSTART;TZID=Europe/Berlin:20251005T090000
DTEND;TZID=Europe/Berlin:20251005T110000
LOCATION:FZŠ Brdičkova\, Brdičkova 1878 Praha - Stodůlky
SUMMARY:PP-U16Z-Q2-G: VK Lvi Praha B-SK JOKY Újezd
END:VEVENT
BEGIN:VEVENT
UID:62396537-3235-4839-a532-323430363037
DTSTAMP:20260422T164527Z
DESCRIPTION:5/5 Studio Sport - SK JOKY Újezd 2:0 (16\,14)
DTSTART;TZID=Europe/Berlin:20251005T120000
DTEND;TZID=Europe/Berlin:20251005T140000
LOCATION:FZŠ Brdičkova\, Brdičkova 1878 Praha - Stodůlky
SUMMARY:PP-U16Z-Q2-G: Studio Sport-SK JOKY Újezd
END:VEVENT
BEGIN:VEVENT
UID:31303537-3561-4630-a563-663630333466
DTSTAMP:20260422T164527Z
DESCRIPTION:1/1 SK JOKY Újezd - Wizards DDM Praha 10 2:1 (16\,-21\,14)
DTSTART;TZID=Europe/Berlin:20251102T090000
DTEND;TZID=Europe/Berlin:20251102T110000
LOCATION:Hala v areálu VOŠSP Jahodovka\, Jahodová 2800 Praha - Záběhlice
SUMMARY:PP-U16Z-1-G: SK JOKY Újezd-Wizards DDM Praha 10
END:VEVENT
BEGIN:VEVENT
UID:65623661-3437-4030-b632-313062306338
DTSTAMP:20260422T164527Z
DESCRIPTION:4/4 SK JOKY Újezd - Mikulova D 2:0 (12\,10)
DTSTART;TZID=Europe/Berlin:20251102T120000
DTEND;TZID=Europe/Berlin:20251102T140000
LOCATION:Hala v areálu VOŠSP Jahodovka\, Jahodová 2800 Praha - Záběhlice
SUMMARY:PP-U16Z-1-G: SK JOKY Újezd-Mikulova D
END:VEVENT
BEGIN:VEVENT
UID:33373961-6435-4466-b632-313162353263
DTSTAMP:20260422T164527Z
DESCRIPTION:6/6 VK Lvi Praha B - SK JOKY Újezd 0:2 (-14\,-19)
DTSTART;TZID=Europe/Berlin:20251102T140000
DTEND;TZID=Europe/Berlin:20251102T160000
LOCATION:Hala v areálu VOŠSP Jahodovka\, Jahodová 2800 Praha - Záběhlice
SUMMARY:PP-U16Z-1-G: VK Lvi Praha B-SK JOKY Újezd
END:VEVENT
BEGIN:VEVENT
UID:38316636-6162-4162-a630-383433336239
DTSTAMP:20260422T164527Z
DESCRIPTION:3/3 SK JOKY Újezd - SC Braník B 0:2 (-19\,-13)
DTSTART;TZID=Europe/Berlin:20251123T110000
DTEND;TZID=Europe/Berlin:20251123T130000
LOCATION:MZŠ Polesná 1690\, Praha 21\, Polesná 1690 Praha - Újezd nad Lesy
SUMMARY:PP-U16Z-2-F: SK JOKY Újezd-SC Braník B
END:VEVENT
BEGIN:VEVENT
UID:32386265-3035-4134-b364-316239373164
DTSTAMP:20260422T164527Z
DESCRIPTION:1/1 Vršovice B - SK JOKY Újezd 0:2 (-21\,-11)
DTSTART;TZID=Europe/Berlin:20251123T090000
DTEND;TZID=Europe/Berlin:20251123T110000
LOCATION:MZŠ Polesná 1690\, Praha 21\, Polesná 1690 Praha - Újezd nad Lesy
SUMMARY:PP-U16Z-2-F: Vršovice B-SK JOKY Újezd
END:VEVENT
BEGIN:VEVENT
UID:32663239-3034-4637-a233-303836623662
DTSTAMP:20260422T164527Z
DESCRIPTION:5/5 SK Kometa Praha C - SK JOKY Újezd 2:1 (-22\,21\,13)
DTSTART;TZID=Europe/Berlin:20251123T130000
DTEND;TZID=Europe/Berlin:20251123T150000
LOCATION:MZŠ Polesná 1690\, Praha 21\, Polesná 1690 Praha - Újezd nad Lesy
SUMMARY:PP-U16Z-2-F: SK Kometa Praha C-SK JOKY Újezd
END:VEVENT
BEGIN:VEVENT
UID:35646263-3164-4334-b365-373534313864
DTSTAMP:20260422T164527Z
DESCRIPTION:6/6 SK JOKY Újezd - Orion Praha B 0:2 (-20\,-20)
DTSTART;TZID=Europe/Berlin:20251207T140000
DTEND;TZID=Europe/Berlin:20251207T160000
LOCATION:MZŠ Polesná 1690\, Praha 21\, Polesná 1690 Praha - Újezd nad Lesy
SUMMARY:PP-U16Z-3-F: SK JOKY Újezd-Orion Praha B
END:VEVENT
BEGIN:VEVENT
UID:33656431-3266-4530-b539-366666653865
DTSTAMP:20260422T164527Z
DESCRIPTION:2/2 SK Kometa Praha C - SK JOKY Újezd 2:0 (20\,14)
DTSTART;TZID=Europe/Berlin:20251207T100000
DTEND;TZID=Europe/Berlin:20251207T120000
LOCATION:MZŠ Polesná 1690\, Praha 21\, Polesná 1690 Praha - Újezd nad Lesy
SUMMARY:PP-U16Z-3-F: SK Kometa Praha C-SK JOKY Újezd
END:VEVENT
BEGIN:VEVENT
UID:33626531-6162-4266-b966-613838333637
DTSTAMP:20260422T164527Z
DESCRIPTION:3/3 VK Lvi Praha B - SK JOKY Újezd 0:2 (-19\,-18)
DTSTART;TZID=Europe/Berlin:20251207T110000
DTEND;TZID=Europe/Berlin:20251207T130000
LOCATION:MZŠ Polesná 1690\, Praha 21\, Polesná 1690 Praha - Újezd nad Lesy
SUMMARY:PP-U16Z-3-F: VK Lvi Praha B-SK JOKY Újezd
END:VEVENT
BEGIN:VEVENT
UID:33373066-3635-4664-b666-626332383432
DTSTAMP:20260422T164527Z
DESCRIPTION:6/6 SK JOKY Újezd - SK Kometa Praha B 0:2 (-17\,-16)
DTSTART;TZID=Europe/Berlin:20260111T140000
DTEND;TZID=Europe/Berlin:20260111T160000
LOCATION:ZŠ Dolní Břežany\, Na Vršku 290 Dolní Břežany
SUMMARY:PP-U16Z-4-F: SK JOKY Újezd-SK Kometa Praha B
END:VEVENT
BEGIN:VEVENT
UID:65373430-6437-4264-b735-366564303461
DTSTAMP:20260422T164527Z
DESCRIPTION:2/2 SK Kometa Praha C - SK JOKY Újezd 2:0 (23\,23)
DTSTART;TZID=Europe/Berlin:20260111T100000
DTEND;TZID=Europe/Berlin:20260111T120000
LOCATION:ZŠ Dolní Břežany\, Na Vršku 290 Dolní Břežany
SUMMARY:PP-U16Z-4-F: SK Kometa Praha C-SK JOKY Újezd
END:VEVENT
BEGIN:VEVENT
UID:32303432-3337-4430-a637-633734393034
DTSTAMP:20260422T164527Z
DESCRIPTION:3/3 Vršovice B - SK JOKY Újezd 1:2 (15\,-22\,-15)
DTSTART;TZID=Europe/Berlin:20260111T110000
DTEND;TZID=Europe/Berlin:20260111T130000
LOCATION:ZŠ Dolní Břežany\, Na Vršku 290 Dolní Břežany
SUMMARY:PP-U16Z-4-F: Vršovice B-SK JOKY Újezd
END:VEVENT
BEGIN:VEVENT
UID:36653632-3839-4032-b639-613366333037
DTSTAMP:20260422T164527Z
DESCRIPTION:6/6 SK JOKY Újezd - Orion Praha B 1:2 (-16\,20\,-9)
DTSTART;TZID=Europe/Berlin:20260125T140000
DTEND;TZID=Europe/Berlin:20260125T160000
LOCATION:ZŠ Dolní Břežany\, Na Vršku 290 Dolní Břežany
SUMMARY:PP-U16Z-5-F: SK JOKY Újezd-Orion Praha B
END:VEVENT
BEGIN:VEVENT
UID:30646338-6538-4162-b638-323833333266
DTSTAMP:20260422T164527Z
DESCRIPTION:2/2 SK Kometa Praha C - SK JOKY Újezd 2:1 (-20\,16\,8)
DTSTART;TZID=Europe/Berlin:20260125T100000
DTEND;TZID=Europe/Berlin:20260125T120000
LOCATION:ZŠ Dolní Břežany\, Na Vršku 290 Dolní Břežany
SUMMARY:PP-U16Z-5-F: SK Kometa Praha C-SK JOKY Újezd
END:VEVENT
BEGIN:VEVENT
UID:33353661-3934-4035-a630-643338333035
DTSTAMP:20260422T164527Z
DESCRIPTION:3/3 SK Slavia Praha B - SK JOKY Újezd 2:0 (16\,19)
DTSTART;TZID=Europe/Berlin:20260125T110000
DTEND;TZID=Europe/Berlin:20260125T130000
LOCATION:ZŠ Dolní Břežany\, Na Vršku 290 Dolní Břežany
SUMMARY:PP-U16Z-5-F: SK Slavia Praha B-SK JOKY Újezd
END:VEVENT
BEGIN:VEVENT
UID:33333733-6466-4665-b931-353862633761
DTSTAMP:20260422T164527Z
DESCRIPTION:1/1 SK JOKY Újezd - SK Kometa Praha E 0:2 (-19\,-16)
DTSTART;TZID=Europe/Berlin:20260315T090000
DTEND;TZID=Europe/Berlin:20260315T110000
LOCATION:MZŠ Polesná 1690\, Praha 21\, Polesná 1690 Praha - Újezd nad Lesy
SUMMARY:PP-U16Z-6-G: SK JOKY Újezd-SK Kometa Praha E
END:VEVENT
BEGIN:VEVENT
UID:33353866-6666-4934-b961-636430376364
DTSTAMP:20260422T164527Z
DESCRIPTION:4/4 SK JOKY Újezd - Vršovice B 2:0 (20\,20)
DTSTART;TZID=Europe/Berlin:20260315T120000
DTEND;TZID=Europe/Berlin:20260315T140000
LOCATION:MZŠ Polesná 1690\, Praha 21\, Polesná 1690 Praha - Újezd nad Lesy
SUMMARY:PP-U16Z-6-G: SK JOKY Újezd-Vršovice B
END:VEVENT
BEGIN:VEVENT
UID:35326436-6232-4436-b962-336330303135
DTSTAMP:20260422T164527Z
DESCRIPTION:6/6 VK Lvi Praha B - SK JOKY Újezd 0:2 (-15\,-24)
DTSTART;TZID=Europe/Berlin:20260315T140000
DTEND;TZID=Europe/Berlin:20260315T160000
LOCATION:MZŠ Polesná 1690\, Praha 21\, Polesná 1690 Praha - Újezd nad Lesy
SUMMARY:PP-U16Z-6-G: VK Lvi Praha B-SK JOKY Újezd
END:VEVENT
END:VCALENDAR
