BEGIN:VCALENDAR
VERSION:2.0
PRODID:-//Orion Praha C90766//NONSGML kigkonsult.se iCalcreator 2.41.80//
CALSCALE:GREGORIAN
UID:32316264-6636-4564-b434-383235396630
BEGIN:VEVENT
UID:39316133-3837-4565-a435-663334633063
DTSTAMP:20260423T051732Z
DESCRIPTION:3/3 Orion Praha C - Střešovice A 0:2 (-5\,-14)
DTSTART;TZID=Europe/Berlin:20250907T110000
DTEND;TZID=Europe/Berlin:20250907T130000
LOCATION:ZŠ Dolní Břežany\, Na Vršku 290 Dolní Břežany
SUMMARY:PP-U16Z-Q1-G: Orion Praha C-Střešovice A
END:VEVENT
BEGIN:VEVENT
UID:63366161-3934-4566-b263-656333343061
DTSTAMP:20260423T051732Z
DESCRIPTION:5/5 Orion Praha C - SK Kometa Praha B 0:2 (-22\,-22)
DTSTART;TZID=Europe/Berlin:20250907T130000
DTEND;TZID=Europe/Berlin:20250907T150000
LOCATION:ZŠ Dolní Břežany\, Na Vršku 290 Dolní Břežany
SUMMARY:PP-U16Z-Q1-G: Orion Praha C-SK Kometa Praha B
END:VEVENT
BEGIN:VEVENT
UID:38323032-3835-4661-a438-393132356138
DTSTAMP:20260423T051732Z
DESCRIPTION:1/1 VK Lvi Praha C - Orion Praha C 0:2 (-12\,-3)
DTSTART;TZID=Europe/Berlin:20250907T090000
DTEND;TZID=Europe/Berlin:20250907T110000
LOCATION:ZŠ Dolní Břežany\, Na Vršku 290 Dolní Břežany
SUMMARY:PP-U16Z-Q1-G: VK Lvi Praha C-Orion Praha C
END:VEVENT
BEGIN:VEVENT
UID:36633032-3166-4365-b836-393838383237
DTSTAMP:20260423T051732Z
DESCRIPTION:9/9 SC Braník - Orion Praha C 2:0 (17\,12)
DTSTART;TZID=Europe/Berlin:20250907T160000
DTEND;TZID=Europe/Berlin:20250907T180000
LOCATION:ZŠ Dolní Břežany\, Na Vršku 290 Dolní Břežany
SUMMARY:PP-U16Z-Q1-G: SC Braník-Orion Praha C
END:VEVENT
BEGIN:VEVENT
UID:64393936-3833-4661-a537-393338663633
DTSTAMP:20260423T051732Z
DESCRIPTION:1/1 Orion Praha C - Mikulova D 2:0 (11\,14)
DTSTART;TZID=Europe/Berlin:20251005T100000
DTEND;TZID=Europe/Berlin:20251005T120000
LOCATION:SKŠ ZŠ Mikulova Praha\, Mikulova 1594 Praha - Chodov
SUMMARY:PP-U16Z-Q2-E: Orion Praha C-Mikulova D
END:VEVENT
BEGIN:VEVENT
UID:33396466-3632-4233-a666-633631653366
DTSTAMP:20260423T051732Z
DESCRIPTION:3/3 SK Slavia Praha B - Orion Praha C 0:2 (-20\,-22)
DTSTART;TZID=Europe/Berlin:20251005T120000
DTEND;TZID=Europe/Berlin:20251005T140000
LOCATION:SKŠ ZŠ Mikulova Praha\, Mikulova 1594 Praha - Chodov
SUMMARY:PP-U16Z-Q2-E: SK Slavia Praha B-Orion Praha C
END:VEVENT
BEGIN:VEVENT
UID:62613261-3064-4762-b766-363335386163
DTSTAMP:20260423T051732Z
DESCRIPTION:2/2 Orion Praha C - SK Kometa Praha B 2:1 (24\,-16\,10)
DTSTART;TZID=Europe/Berlin:20251102T100000
DTEND;TZID=Europe/Berlin:20251102T120000
LOCATION:ZŠ Dolní Břežany\, Na Vršku 290 Dolní Břežany
SUMMARY:PP-U16Z-1-E: Orion Praha C-SK Kometa Praha B
END:VEVENT
BEGIN:VEVENT
UID:62396336-3933-4464-a266-306131366635
DTSTAMP:20260423T051732Z
DESCRIPTION:5/5 Orion Praha C - Vršovice B 2:0 (17\,17)
DTSTART;TZID=Europe/Berlin:20251102T130000
DTEND;TZID=Europe/Berlin:20251102T150000
LOCATION:ZŠ Dolní Břežany\, Na Vršku 290 Dolní Břežany
SUMMARY:PP-U16Z-1-E: Orion Praha C-Vršovice B
END:VEVENT
BEGIN:VEVENT
UID:34383331-6666-4334-b662-306338303538
DTSTAMP:20260423T051732Z
DESCRIPTION:4/4 Orion Praha B - Orion Praha C 0:2 (-12\,-22)
DTSTART;TZID=Europe/Berlin:20251102T120000
DTEND;TZID=Europe/Berlin:20251102T140000
LOCATION:ZŠ Dolní Břežany\, Na Vršku 290 Dolní Břežany
SUMMARY:PP-U16Z-1-E: Orion Praha B-Orion Praha C
END:VEVENT
BEGIN:VEVENT
UID:38643631-3536-4161-b130-333835633231
DTSTAMP:20260423T051732Z
DESCRIPTION:3/3 Orion Praha C - SK Dansport Praha A 1:2 (-21\,29\,-14)
DTSTART;TZID=Europe/Berlin:20251123T110000
DTEND;TZID=Europe/Berlin:20251123T130000
LOCATION:FZŠ Brdičkova\, Brdičkova 1878 Praha - Stodůlky
SUMMARY:PP-U16Z-2-D: Orion Praha C-SK Dansport Praha A
END:VEVENT
BEGIN:VEVENT
UID:34653734-3935-4535-a233-353336623763
DTSTAMP:20260423T051732Z
DESCRIPTION:1/1 SC Braník - Orion Praha C 2:0 (23\,14)
DTSTART;TZID=Europe/Berlin:20251123T090000
DTEND;TZID=Europe/Berlin:20251123T110000
LOCATION:FZŠ Brdičkova\, Brdičkova 1878 Praha - Stodůlky
SUMMARY:PP-U16Z-2-D: SC Braník-Orion Praha C
END:VEVENT
BEGIN:VEVENT
UID:33646136-3834-4430-b366-373839666663
DTSTAMP:20260423T051732Z
DESCRIPTION:5/5 VK Lvi Praha A - Orion Praha C 2:1 (-17\,15\,7)
DTSTART;TZID=Europe/Berlin:20251123T130000
DTEND;TZID=Europe/Berlin:20251123T150000
LOCATION:FZŠ Brdičkova\, Brdičkova 1878 Praha - Stodůlky
SUMMARY:PP-U16Z-2-D: VK Lvi Praha A-Orion Praha C
END:VEVENT
BEGIN:VEVENT
UID:39353937-3865-4730-b662-663066393131
DTSTAMP:20260423T051732Z
DESCRIPTION:1/1 Orion Praha C - SC Braník B 0:2 (-22\,-20)
DTSTART;TZID=Europe/Berlin:20251207T090000
DTEND;TZID=Europe/Berlin:20251207T110000
LOCATION:Tělocvična ZŠ U Obory\, Vachkova 630 Praha - Uhříněves
SUMMARY:PP-U16Z-3-E: Orion Praha C-SC Braník B
END:VEVENT
BEGIN:VEVENT
UID:35623461-6635-4834-a137-663138393635
DTSTAMP:20260423T051732Z
DESCRIPTION:4/4 Orion Praha C - Studio Sport 1:2 (17\,-15\,-13)
DTSTART;TZID=Europe/Berlin:20251207T120000
DTEND;TZID=Europe/Berlin:20251207T140000
LOCATION:Tělocvična ZŠ U Obory\, Vachkova 630 Praha - Uhříněves
SUMMARY:PP-U16Z-3-E: Orion Praha C-Studio Sport
END:VEVENT
BEGIN:VEVENT
UID:61366636-3038-4465-a134-633639646431
DTSTAMP:20260423T051732Z
DESCRIPTION:6/6 SK Kometa Praha B - Orion Praha C 0:2 (-16\,-23)
DTSTART;TZID=Europe/Berlin:20251207T140000
DTEND;TZID=Europe/Berlin:20251207T160000
LOCATION:Tělocvična ZŠ U Obory\, Vachkova 630 Praha - Uhříněves
SUMMARY:PP-U16Z-3-E: SK Kometa Praha B-Orion Praha C
END:VEVENT
BEGIN:VEVENT
UID:31343538-3164-4334-b633-353561303833
DTSTAMP:20260423T051732Z
DESCRIPTION:6/6 Orion Praha C - SK Meteor Praha A 2:1 (8\,-21\,14)
DTSTART;TZID=Europe/Berlin:20260111T140000
DTEND;TZID=Europe/Berlin:20260111T160000
LOCATION:ZŠ Dolní Břežany\, Na Vršku 290 Dolní Břežany
SUMMARY:PP-U16Z-4-E: Orion Praha C-SK Meteor Praha A
END:VEVENT
BEGIN:VEVENT
UID:63353836-3636-4365-b934-346233633938
DTSTAMP:20260423T051732Z
DESCRIPTION:2/2 Studio Sport - Orion Praha C 0:2 (-21\,-15)
DTSTART;TZID=Europe/Berlin:20260111T100000
DTEND;TZID=Europe/Berlin:20260111T120000
LOCATION:ZŠ Dolní Břežany\, Na Vršku 290 Dolní Břežany
SUMMARY:PP-U16Z-4-E: Studio Sport-Orion Praha C
END:VEVENT
BEGIN:VEVENT
UID:32623736-3932-4737-a662-343865336262
DTSTAMP:20260423T051732Z
DESCRIPTION:3/3 Orion Praha B - Orion Praha C 1:2 (24\,-13\,-9)
DTSTART;TZID=Europe/Berlin:20260111T110000
DTEND;TZID=Europe/Berlin:20260111T130000
LOCATION:ZŠ Dolní Břežany\, Na Vršku 290 Dolní Břežany
SUMMARY:PP-U16Z-4-E: Orion Praha B-Orion Praha C
END:VEVENT
BEGIN:VEVENT
UID:64376638-6430-4539-b562-363835346566
DTSTAMP:20260423T051732Z
DESCRIPTION:3/3 Orion Praha C - Mikulova B 2:0 (20\,25)
DTSTART;TZID=Europe/Berlin:20260125T110000
DTEND;TZID=Europe/Berlin:20260125T130000
LOCATION:FZŠ Brdičkova\, Brdičkova 1878 Praha - Stodůlky
SUMMARY:PP-U16Z-5-D: Orion Praha C-Mikulova B
END:VEVENT
BEGIN:VEVENT
UID:34336535-3764-4061-b134-353665393066
DTSTAMP:20260423T051732Z
DESCRIPTION:1/1 VK Lvi Praha A - Orion Praha C 1:2 (-21\,16\,-9)
DTSTART;TZID=Europe/Berlin:20260125T090000
DTEND;TZID=Europe/Berlin:20260125T110000
LOCATION:FZŠ Brdičkova\, Brdičkova 1878 Praha - Stodůlky
SUMMARY:PP-U16Z-5-D: VK Lvi Praha A-Orion Praha C
END:VEVENT
BEGIN:VEVENT
UID:31383532-6339-4665-b039-663666343132
DTSTAMP:20260423T051732Z
DESCRIPTION:5/5 Střešovice B - Orion Praha C 1:2 (-22\,22\,-14)
DTSTART;TZID=Europe/Berlin:20260125T130000
DTEND;TZID=Europe/Berlin:20260125T150000
LOCATION:FZŠ Brdičkova\, Brdičkova 1878 Praha - Stodůlky
SUMMARY:PP-U16Z-5-D: Střešovice B-Orion Praha C
END:VEVENT
BEGIN:VEVENT
UID:30636464-6461-4335-a231-653034623433
DTSTAMP:20260423T051732Z
DESCRIPTION:3/3 Orion Praha C - SK Španielka Řepy A 0:2 (-19\,-19)
DTSTART;TZID=Europe/Berlin:20260315T110000
DTEND;TZID=Europe/Berlin:20260315T130000
LOCATION:Tělocvična ZŠ\, Španielova 1111 Praha - Řepy
SUMMARY:PP-U16Z-6-C: Orion Praha C-SK Španielka Řepy A
END:VEVENT
BEGIN:VEVENT
UID:35376164-3736-4334-a561-663761633839
DTSTAMP:20260423T051732Z
DESCRIPTION:1/1 Střešovice A - Orion Praha C 2:0 (17\,16)
DTSTART;TZID=Europe/Berlin:20260315T090000
DTEND;TZID=Europe/Berlin:20260315T110000
LOCATION:Tělocvična ZŠ\, Španielova 1111 Praha - Řepy
SUMMARY:PP-U16Z-6-C: Střešovice A-Orion Praha C
END:VEVENT
BEGIN:VEVENT
UID:61383332-3831-4365-a362-376163373538
DTSTAMP:20260423T051732Z
DESCRIPTION:5/5 SK Kometa Praha A - Orion Praha C 2:0 (19\,13)
DTSTART;TZID=Europe/Berlin:20260315T130000
DTEND;TZID=Europe/Berlin:20260315T150000
LOCATION:Tělocvična ZŠ\, Španielova 1111 Praha - Řepy
SUMMARY:PP-U16Z-6-C: SK Kometa Praha A-Orion Praha C
END:VEVENT
END:VCALENDAR
