BEGIN:VCALENDAR
VERSION:2.0
PRODID:-//Střešovice A90779//NONSGML kigkonsult.se iCalcreator 2.41.80//
CALSCALE:GREGORIAN
UID:38323436-6130-4338-b762-313034386331
BEGIN:VEVENT
UID:65623033-3762-4262-a566-643434643633
DTSTAMP:20260422T183043Z
DESCRIPTION:6/6 Střešovice A - VK Lvi Praha C 2:0 (8\,6)
DTSTART;TZID=Europe/Berlin:20250907T140000
DTEND;TZID=Europe/Berlin:20250907T160000
LOCATION:ZŠ Dolní Břežany\, Na Vršku 290 Dolní Břežany
SUMMARY:PP-U16Z-Q1-G: Střešovice A-VK Lvi Praha C
END:VEVENT
BEGIN:VEVENT
UID:30313165-3165-4731-b437-393737363935
DTSTAMP:20260422T183043Z
DESCRIPTION:8/8 Střešovice A - SK Kometa Praha B 2:0 (8\,12)
DTSTART;TZID=Europe/Berlin:20250907T160000
DTEND;TZID=Europe/Berlin:20250907T180000
LOCATION:ZŠ Dolní Břežany\, Na Vršku 290 Dolní Břežany
SUMMARY:PP-U16Z-Q1-G: Střešovice A-SK Kometa Praha B
END:VEVENT
BEGIN:VEVENT
UID:35613235-6132-4534-b534-663831653565
DTSTAMP:20260422T183043Z
DESCRIPTION:3/3 Orion Praha C - Střešovice A 0:2 (-5\,-14)
DTSTART;TZID=Europe/Berlin:20250907T110000
DTEND;TZID=Europe/Berlin:20250907T130000
LOCATION:ZŠ Dolní Břežany\, Na Vršku 290 Dolní Břežany
SUMMARY:PP-U16Z-Q1-G: Orion Praha C-Střešovice A
END:VEVENT
BEGIN:VEVENT
UID:33353266-3939-4637-b666-616132653738
DTSTAMP:20260422T183043Z
DESCRIPTION:10/10 SC Braník - Střešovice A 0:2 (-24\,-10)
DTSTART;TZID=Europe/Berlin:20250907T170000
DTEND;TZID=Europe/Berlin:20250907T190000
LOCATION:ZŠ Dolní Břežany\, Na Vršku 290 Dolní Břežany
SUMMARY:PP-U16Z-Q1-G: SC Braník-Střešovice A
END:VEVENT
BEGIN:VEVENT
UID:32383632-6138-4366-b135-333530376637
DTSTAMP:20260422T183043Z
DESCRIPTION:1/1 Střešovice A - SK Dansport Praha A 2:0 (14\,16)
DTSTART;TZID=Europe/Berlin:20251005T093000
DTEND;TZID=Europe/Berlin:20251005T113000
LOCATION:Sportovní hala Horní Počernice TěloCvič!\, Jívanská 3226 Praha - H
 orní Počernice
SUMMARY:PP-U16Z-Q2-D: Střešovice A-SK Dansport Praha A
END:VEVENT
BEGIN:VEVENT
UID:37363730-3630-4165-b333-616331373163
DTSTAMP:20260422T183043Z
DESCRIPTION:3/3 Orion - Střešovice A 2:0 (10\,21)
DTSTART;TZID=Europe/Berlin:20251005T113000
DTEND;TZID=Europe/Berlin:20251005T133000
LOCATION:Sportovní hala Horní Počernice TěloCvič!\, Jívanská 3226 Praha - H
 orní Počernice
SUMMARY:PP-U16Z-Q2-D: Orion-Střešovice A
END:VEVENT
BEGIN:VEVENT
UID:63326239-6537-4166-b933-613031386466
DTSTAMP:20260422T183043Z
DESCRIPTION:6/6 Střešovice A - Mikulova 1:2 (-16\,14\,-5)
DTSTART;TZID=Europe/Berlin:20251102T140000
DTEND;TZID=Europe/Berlin:20251102T160000
LOCATION:ZŠ Dolní Břežany\, Na Vršku 290 Dolní Břežany
SUMMARY:PP-U16Z-1-B: Střešovice A-Mikulova
END:VEVENT
BEGIN:VEVENT
UID:65396335-3566-4435-a266-663131303637
DTSTAMP:20260422T183043Z
DESCRIPTION:2/2 Vršovice A - Střešovice A 0:2 (-16\,-21)
DTSTART;TZID=Europe/Berlin:20251102T100000
DTEND;TZID=Europe/Berlin:20251102T120000
LOCATION:ZŠ Dolní Břežany\, Na Vršku 290 Dolní Břežany
SUMMARY:PP-U16Z-1-B: Vršovice A-Střešovice A
END:VEVENT
BEGIN:VEVENT
UID:39323062-3938-4935-b331-373734616364
DTSTAMP:20260422T183043Z
DESCRIPTION:3/3 SK Kometa Praha A - Střešovice A 2:0 (21\,24)
DTSTART;TZID=Europe/Berlin:20251102T110000
DTEND;TZID=Europe/Berlin:20251102T130000
LOCATION:ZŠ Dolní Břežany\, Na Vršku 290 Dolní Břežany
SUMMARY:PP-U16Z-1-B: SK Kometa Praha A-Střešovice A
END:VEVENT
BEGIN:VEVENT
UID:39383862-3139-4461-a237-356135356164
DTSTAMP:20260422T183043Z
DESCRIPTION:6/6 Střešovice A - Orion 0:2 (-12\,-17)
DTSTART;TZID=Europe/Berlin:20251123T140000
DTEND;TZID=Europe/Berlin:20251123T160000
LOCATION:ZŠ Dolní Břežany\, Na Vršku 290 Dolní Břežany
SUMMARY:PP-U16Z-2-B: Střešovice A-Orion
END:VEVENT
BEGIN:VEVENT
UID:34353961-3433-4361-b862-623066623038
DTSTAMP:20260422T183043Z
DESCRIPTION:2/2 Mikulova - Střešovice A 2:1 (22\,-16\,13)
DTSTART;TZID=Europe/Berlin:20251123T100000
DTEND;TZID=Europe/Berlin:20251123T120000
LOCATION:ZŠ Dolní Břežany\, Na Vršku 290 Dolní Břežany
SUMMARY:PP-U16Z-2-B: Mikulova-Střešovice A
END:VEVENT
BEGIN:VEVENT
UID:64646262-6438-4334-a163-353061653233
DTSTAMP:20260422T183043Z
DESCRIPTION:3/3 Sokol HP A - Střešovice A 0:2 (-23\,-17)
DTSTART;TZID=Europe/Berlin:20251123T110000
DTEND;TZID=Europe/Berlin:20251123T130000
LOCATION:ZŠ Dolní Břežany\, Na Vršku 290 Dolní Břežany
SUMMARY:PP-U16Z-2-B: Sokol HP A-Střešovice A
END:VEVENT
BEGIN:VEVENT
UID:33336438-3235-4962-b466-383264633230
DTSTAMP:20260422T183043Z
DESCRIPTION:6/6 Střešovice A - SK Slavia Praha  A 0:2 (-10\,-19)
DTSTART;TZID=Europe/Berlin:20251207T140000
DTEND;TZID=Europe/Berlin:20251207T160000
LOCATION:Tělocvična ZŠ\, Španielova 1111 Praha - Řepy
SUMMARY:PP-U16Z-3-B: Střešovice A-SK Slavia Praha  A
END:VEVENT
BEGIN:VEVENT
UID:37393866-3832-4538-a532-646464663364
DTSTAMP:20260422T183043Z
DESCRIPTION:2/2 Mikulova - Střešovice A 2:0 (15\,22)
DTSTART;TZID=Europe/Berlin:20251207T100000
DTEND;TZID=Europe/Berlin:20251207T120000
LOCATION:Tělocvična ZŠ\, Španielova 1111 Praha - Řepy
SUMMARY:PP-U16Z-3-B: Mikulova-Střešovice A
END:VEVENT
BEGIN:VEVENT
UID:30633662-3035-4266-a539-363566393661
DTSTAMP:20260422T183043Z
DESCRIPTION:3/3 SK Španielka Řepy A - Střešovice A 0:2 (-22\,-12)
DTSTART;TZID=Europe/Berlin:20251207T110000
DTEND;TZID=Europe/Berlin:20251207T130000
LOCATION:Tělocvična ZŠ\, Španielova 1111 Praha - Řepy
SUMMARY:PP-U16Z-3-B: SK Španielka Řepy A-Střešovice A
END:VEVENT
BEGIN:VEVENT
UID:38386139-3363-4635-b066-636231626634
DTSTAMP:20260422T183043Z
DESCRIPTION:6/6 Střešovice A - SK Kometa Praha A 2:1 (21\,-24\,12)
DTSTART;TZID=Europe/Berlin:20260111T140000
DTEND;TZID=Europe/Berlin:20260111T160000
LOCATION:Tělocvična ZŠ Na Šutce\, Na Šutce 440 Praha - Troja
SUMMARY:PP-U16Z-4-B: Střešovice A-SK Kometa Praha A
END:VEVENT
BEGIN:VEVENT
UID:61366361-3361-4630-b731-613933613430
DTSTAMP:20260422T183043Z
DESCRIPTION:2/2 SK Slavia Praha  A - Střešovice A 2:0 (17\,17)
DTSTART;TZID=Europe/Berlin:20260111T100000
DTEND;TZID=Europe/Berlin:20260111T120000
LOCATION:Tělocvična ZŠ Na Šutce\, Na Šutce 440 Praha - Troja
SUMMARY:PP-U16Z-4-B: SK Slavia Praha  A-Střešovice A
END:VEVENT
BEGIN:VEVENT
UID:37353463-3730-4430-a438-396461383237
DTSTAMP:20260422T183043Z
DESCRIPTION:3/3 Vršovice A - Střešovice A 2:0 (20\,26)
DTSTART;TZID=Europe/Berlin:20260111T110000
DTEND;TZID=Europe/Berlin:20260111T130000
LOCATION:Tělocvična ZŠ Na Šutce\, Na Šutce 440 Praha - Troja
SUMMARY:PP-U16Z-4-B: Vršovice A-Střešovice A
END:VEVENT
BEGIN:VEVENT
UID:31313661-6332-4762-a531-643136663533
DTSTAMP:20260422T183043Z
DESCRIPTION:3/6 Střešovice A - Mikulova 0:2 (-14\,-15)
DTSTART;TZID=Europe/Berlin:20260125T143000
DTEND;TZID=Europe/Berlin:20260125T163000
LOCATION:SKŠ ZŠ Mikulova Praha\, Mikulova 1594 Praha - Chodov
SUMMARY:PP-U16Z-5-B: Střešovice A-Mikulova
END:VEVENT
BEGIN:VEVENT
UID:66333839-3163-4639-a264-323839653835
DTSTAMP:20260422T183043Z
DESCRIPTION:1/2 Vršovice A - Střešovice A 2:0 (19\,17)
DTSTART;TZID=Europe/Berlin:20260125T123000
DTEND;TZID=Europe/Berlin:20260125T143000
LOCATION:SKŠ ZŠ Mikulova Praha\, Mikulova 1594 Praha - Chodov
SUMMARY:PP-U16Z-5-B: Vršovice A-Střešovice A
END:VEVENT
BEGIN:VEVENT
UID:36313265-6337-4963-a130-643164646638
DTSTAMP:20260422T183043Z
DESCRIPTION:2/3 Sokol HP A - Střešovice A 2:0 (21\,24)
DTSTART;TZID=Europe/Berlin:20260125T133000
DTEND;TZID=Europe/Berlin:20260125T153000
LOCATION:SKŠ ZŠ Mikulova Praha\, Mikulova 1594 Praha - Chodov
SUMMARY:PP-U16Z-5-B: Sokol HP A-Střešovice A
END:VEVENT
BEGIN:VEVENT
UID:34616139-6362-4532-b430-343730656364
DTSTAMP:20260422T183043Z
DESCRIPTION:1/1 Střešovice A - Orion Praha C 2:0 (17\,16)
DTSTART;TZID=Europe/Berlin:20260315T090000
DTEND;TZID=Europe/Berlin:20260315T110000
LOCATION:Tělocvična ZŠ\, Španielova 1111 Praha - Řepy
SUMMARY:PP-U16Z-6-C: Střešovice A-Orion Praha C
END:VEVENT
BEGIN:VEVENT
UID:66393663-6339-4566-a435-666461393263
DTSTAMP:20260422T183043Z
DESCRIPTION:4/4 Střešovice A - SK Kometa Praha A 0:2 (-20\,-21)
DTSTART;TZID=Europe/Berlin:20260315T120000
DTEND;TZID=Europe/Berlin:20260315T140000
LOCATION:Tělocvična ZŠ\, Španielova 1111 Praha - Řepy
SUMMARY:PP-U16Z-6-C: Střešovice A-SK Kometa Praha A
END:VEVENT
BEGIN:VEVENT
UID:38376464-3134-4331-b434-396466333033
DTSTAMP:20260422T183043Z
DESCRIPTION:6/6 SK Španielka Řepy A - Střešovice A 1:2 (-24\,15\,-12)
DTSTART;TZID=Europe/Berlin:20260315T140000
DTEND;TZID=Europe/Berlin:20260315T160000
LOCATION:Tělocvična ZŠ\, Španielova 1111 Praha - Řepy
SUMMARY:PP-U16Z-6-C: SK Španielka Řepy A-Střešovice A
END:VEVENT
END:VCALENDAR
