BEGIN:VCALENDAR
VERSION:2.0
PRODID:-//SK PROSEK B90789//NONSGML kigkonsult.se iCalcreator 2.41.80//
CALSCALE:GREGORIAN
UID:32633439-6466-4336-b264-306365346531
BEGIN:VEVENT
UID:61353464-6538-4631-b036-656430356533
DTSTAMP:20260421T223119Z
DESCRIPTION:2/4 SK PROSEK B - SK PROSEK CKvasnička Tomáš
DTSTART;TZID=Europe/Berlin:20250914T140000
DTEND;TZID=Europe/Berlin:20250914T160000
LOCATION:, U Meteoru 29 Praha - Libeň
SUMMARY:PP-U16M-Q-B: SK PROSEK B-SK PROSEK C
END:VEVENT
BEGIN:VEVENT
UID:66646365-3939-4434-a430-386464363933
DTSTAMP:20260421T223119Z
DESCRIPTION:3/6 SK PROSEK B - SK Meteor Praha AKvasnička Tomáš
DTSTART;TZID=Europe/Berlin:20250914T130000
DTEND;TZID=Europe/Berlin:20250914T150000
LOCATION:, U Meteoru 29 Praha - Libeň
SUMMARY:PP-U16M-Q-B: SK PROSEK B-SK Meteor Praha A
END:VEVENT
BEGIN:VEVENT
UID:37653364-3466-4566-b435-363165666361
DTSTAMP:20260421T223119Z
DESCRIPTION:1/1 VK Lvi Praha A - SK PROSEK B 0:0 ()
DTSTART;TZID=Europe/Berlin:20250914T110000
DTEND;TZID=Europe/Berlin:20250914T130000
LOCATION:, U Meteoru 29 Praha - Libeň
SUMMARY:PP-U16M-Q-B: VK Lvi Praha A-SK PROSEK B
END:VEVENT
BEGIN:VEVENT
UID:36646237-3138-4334-b465-303533343064
DTSTAMP:20260421T223119Z
DESCRIPTION:2/2 SK PROSEK B - VršoviceMásilko Zdeněk
DTSTART;TZID=Europe/Berlin:20250914T170000
DTEND;TZID=Europe/Berlin:20250914T190000
LOCATION:, U Meteoru 29 Praha - Libeň
SUMMARY:PP-U16M-Q-E: SK PROSEK B-Vršovice
END:VEVENT
BEGIN:VEVENT
UID:64356237-6663-4631-b435-343865663062
DTSTAMP:20260421T223119Z
DESCRIPTION:1/1 Orion B - SK PROSEK BMásilko Zdeněk
DTSTART;TZID=Europe/Berlin:20250914T160000
DTEND;TZID=Europe/Berlin:20250914T180000
LOCATION:, U Meteoru 29 Praha - Libeň
SUMMARY:PP-U16M-Q-E: Orion B-SK PROSEK B
END:VEVENT
BEGIN:VEVENT
UID:65343135-6132-4031-b565-323836316133
DTSTAMP:20260421T223119Z
DESCRIPTION:1/2 SK PROSEK B - Orion A 0:2 (-23\,-19)
DTSTART;TZID=Europe/Berlin:20251012T090000
DTEND;TZID=Europe/Berlin:20251012T110000
LOCATION:FZŠ Brdičkova\, Brdičkova 1878 Praha - Stodůlky
SUMMARY:PP-U16M-T1-1: SK PROSEK B-Orion A
END:VEVENT
BEGIN:VEVENT
UID:35353065-3166-4438-a631-383566646164
DTSTAMP:20260421T223119Z
DESCRIPTION:4/8 SK PROSEK B - SK PROSEK A 0:2 (-13\,-15)
DTSTART;TZID=Europe/Berlin:20251012T120000
DTEND;TZID=Europe/Berlin:20251012T140000
LOCATION:FZŠ Brdičkova\, Brdičkova 1878 Praha - Stodůlky
SUMMARY:PP-U16M-T1-1: SK PROSEK B-SK PROSEK A
END:VEVENT
BEGIN:VEVENT
UID:38393766-3237-4536-b131-316334313632
DTSTAMP:20260421T223119Z
DESCRIPTION:2/4 VK Lvi Praha A - SK PROSEK B 2:0 (22\,14)
DTSTART;TZID=Europe/Berlin:20251012T100000
DTEND;TZID=Europe/Berlin:20251012T120000
LOCATION:FZŠ Brdičkova\, Brdičkova 1878 Praha - Stodůlky
SUMMARY:PP-U16M-T1-1: VK Lvi Praha A-SK PROSEK B
END:VEVENT
BEGIN:VEVENT
UID:30303632-6666-4034-a132-323662393261
DTSTAMP:20260421T223119Z
DESCRIPTION:3/5 SK Dansport Praha\, z.s. - SK PROSEK B 0:2 (-16\,-25)
DTSTART;TZID=Europe/Berlin:20251012T110000
DTEND;TZID=Europe/Berlin:20251012T130000
LOCATION:FZŠ Brdičkova\, Brdičkova 1878 Praha - Stodůlky
SUMMARY:PP-U16M-T1-1: SK Dansport Praha\, z.s.-SK PROSEK B
END:VEVENT
BEGIN:VEVENT
UID:63663133-3430-4561-a433-363463333665
DTSTAMP:20260421T223119Z
DESCRIPTION:1/2 SK PROSEK B - Orion A 0:2 (-15\,-11)
DTSTART;TZID=Europe/Berlin:20251109T090000
DTEND;TZID=Europe/Berlin:20251109T110000
LOCATION:FZŠ Brdičkova\, Brdičkova 1878 Praha - Stodůlky
SUMMARY:PP-U16M-T2-1: SK PROSEK B-Orion A
END:VEVENT
BEGIN:VEVENT
UID:65623336-3563-4865-b463-333966656365
DTSTAMP:20260421T223119Z
DESCRIPTION:4/8 SK PROSEK B - SK PROSEK A 0:2 (-11\,-10)
DTSTART;TZID=Europe/Berlin:20251109T120000
DTEND;TZID=Europe/Berlin:20251109T140000
LOCATION:FZŠ Brdičkova\, Brdičkova 1878 Praha - Stodůlky
SUMMARY:PP-U16M-T2-1: SK PROSEK B-SK PROSEK A
END:VEVENT
BEGIN:VEVENT
UID:61633164-3730-4133-b561-393066393837
DTSTAMP:20260421T223119Z
DESCRIPTION:2/4 VK Lvi Praha A - SK PROSEK B 2:0 (17\,15)
DTSTART;TZID=Europe/Berlin:20251109T100000
DTEND;TZID=Europe/Berlin:20251109T120000
LOCATION:FZŠ Brdičkova\, Brdičkova 1878 Praha - Stodůlky
SUMMARY:PP-U16M-T2-1: VK Lvi Praha A-SK PROSEK B
END:VEVENT
BEGIN:VEVENT
UID:38633166-6563-4333-a236-376236326161
DTSTAMP:20260421T223119Z
DESCRIPTION:3/5 TJ ABC Braník\, z.s. - SK PROSEK B 2:0 (14\,23)
DTSTART;TZID=Europe/Berlin:20251109T110000
DTEND;TZID=Europe/Berlin:20251109T130000
LOCATION:FZŠ Brdičkova\, Brdičkova 1878 Praha - Stodůlky
SUMMARY:PP-U16M-T2-1: TJ ABC Braník\, z.s.-SK PROSEK B
END:VEVENT
BEGIN:VEVENT
UID:37383837-3235-4565-b962-613330636462
DTSTAMP:20260421T223119Z
DESCRIPTION:1/1 SK PROSEK B - Vršovice 2:0 (15\,15)
DTSTART;TZID=Europe/Berlin:20251214T090000
DTEND;TZID=Europe/Berlin:20251214T110000
LOCATION:Sokol Bubeneč\, Korunovační 630 Praha - Bubeneč
SUMMARY:PP-U16M-T3-2: SK PROSEK B-Vršovice
END:VEVENT
BEGIN:VEVENT
UID:61646634-6636-4235-a161-336461363162
DTSTAMP:20260421T223119Z
DESCRIPTION:3/3 BVSP Koráb - SK PROSEK B 1:2 (-22\,20\,-12)
DTSTART;TZID=Europe/Berlin:20251214T110000
DTEND;TZID=Europe/Berlin:20251214T130000
LOCATION:Sokol Bubeneč\, Korunovační 630 Praha - Bubeneč
SUMMARY:PP-U16M-T3-2: BVSP Koráb-SK PROSEK B
END:VEVENT
BEGIN:VEVENT
UID:39623330-3033-4231-b934-373132643066
DTSTAMP:20260421T223119Z
DESCRIPTION:5/5 SK Dansport Praha\, z.s. - SK PROSEK B 1:2 (22\,-20\,-13)
DTSTART;TZID=Europe/Berlin:20251214T130000
DTEND;TZID=Europe/Berlin:20251214T150000
LOCATION:Sokol Bubeneč\, Korunovační 630 Praha - Bubeneč
SUMMARY:PP-U16M-T3-2: SK Dansport Praha\, z.s.-SK PROSEK B
END:VEVENT
BEGIN:VEVENT
UID:61646430-6331-4632-a134-363832656133
DTSTAMP:20260421T223119Z
DESCRIPTION:1/1 SK PROSEK B - VK Lvi Praha A 0:2 (-11\,-12)
DTSTART;TZID=Europe/Berlin:20260118T090000
DTEND;TZID=Europe/Berlin:20260118T110000
LOCATION:FZŠ Brdičkova\, Brdičkova 1878 Praha - Stodůlky
SUMMARY:PP-U16M-T4-1: SK PROSEK B-VK Lvi Praha A
END:VEVENT
BEGIN:VEVENT
UID:61333163-6536-4561-a639-343136336165
DTSTAMP:20260421T223119Z
DESCRIPTION:3/5 SK PROSEK B - Orion A 0:2 (-18\,-14)
DTSTART;TZID=Europe/Berlin:20260118T110000
DTEND;TZID=Europe/Berlin:20260118T130000
LOCATION:FZŠ Brdičkova\, Brdičkova 1878 Praha - Stodůlky
SUMMARY:PP-U16M-T4-1: SK PROSEK B-Orion A
END:VEVENT
BEGIN:VEVENT
UID:36333763-6533-4237-b837-313332613237
DTSTAMP:20260421T223119Z
DESCRIPTION:2/3 SK PROSEK A - SK PROSEK B 2:0 (13\,20)
DTSTART;TZID=Europe/Berlin:20260118T100000
DTEND;TZID=Europe/Berlin:20260118T120000
LOCATION:FZŠ Brdičkova\, Brdičkova 1878 Praha - Stodůlky
SUMMARY:PP-U16M-T4-1: SK PROSEK A-SK PROSEK B
END:VEVENT
BEGIN:VEVENT
UID:37616662-6639-4065-b861-346636613133
DTSTAMP:20260421T223119Z
DESCRIPTION:5/9 TJ ABC Braník\, z.s. - SK PROSEK B 2:0 (26\,15)
DTSTART;TZID=Europe/Berlin:20260118T130000
DTEND;TZID=Europe/Berlin:20260118T150000
LOCATION:FZŠ Brdičkova\, Brdičkova 1878 Praha - Stodůlky
SUMMARY:PP-U16M-T4-1: TJ ABC Braník\, z.s.-SK PROSEK B
END:VEVENT
BEGIN:VEVENT
UID:31383234-3935-4538-b830-653830643031
DTSTAMP:20260421T223119Z
DESCRIPTION:1/1 SK PROSEK B - SK Meteor Praha A 2:0 (25\,18)
DTSTART;TZID=Europe/Berlin:20260315T090000
DTEND;TZID=Europe/Berlin:20260315T110000
LOCATION:Sokol Bubeneč\, Korunovační 630 Praha - Bubeneč
SUMMARY:PP-U16M-T5-2: SK PROSEK B-SK Meteor Praha A
END:VEVENT
BEGIN:VEVENT
UID:34363138-3537-4138-a361-643232646666
DTSTAMP:20260421T223119Z
DESCRIPTION:3/3 Vršovice - SK PROSEK B 0:2 (-19\,-14)
DTSTART;TZID=Europe/Berlin:20260315T110000
DTEND;TZID=Europe/Berlin:20260315T130000
LOCATION:Sokol Bubeneč\, Korunovační 630 Praha - Bubeneč
SUMMARY:PP-U16M-T5-2: Vršovice-SK PROSEK B
END:VEVENT
BEGIN:VEVENT
UID:63663361-6266-4435-a436-663866303564
DTSTAMP:20260421T223119Z
DESCRIPTION:5/5 SK Dansport Praha\, z.s. - SK PROSEK B 0:2 (-14\,-12)
DTSTART;TZID=Europe/Berlin:20260315T130000
DTEND;TZID=Europe/Berlin:20260315T150000
LOCATION:Sokol Bubeneč\, Korunovační 630 Praha - Bubeneč
SUMMARY:PP-U16M-T5-2: SK Dansport Praha\, z.s.-SK PROSEK B
END:VEVENT
END:VCALENDAR
