BEGIN:VCALENDAR
VERSION:2.0
PRODID:-//Meteor Praha A90793//NONSGML kigkonsult.se iCalcreator 2.41.80//
CALSCALE:GREGORIAN
UID:33653466-6436-4266-a561-313062313965
BEGIN:VEVENT
UID:33396431-6634-4862-b638-323964623766
DTSTAMP:20260422T183205Z
DESCRIPTION:1/2 SK Meteor Praha A - SK PROSEK C 0:0 ()
DTSTART;TZID=Europe/Berlin:20250914T110000
DTEND;TZID=Europe/Berlin:20250914T130000
LOCATION:, U Meteoru 29 Praha - Libeň
SUMMARY:PP-U16M-Q-B: SK Meteor Praha A-SK PROSEK C
END:VEVENT
BEGIN:VEVENT
UID:37393262-3139-4636-b739-343263343763
DTSTAMP:20260422T183205Z
DESCRIPTION:2/3 VK Lvi Praha A - SK Meteor Praha AMásilko Zdeněk
DTSTART;TZID=Europe/Berlin:20250914T120000
DTEND;TZID=Europe/Berlin:20250914T140000
LOCATION:, U Meteoru 29 Praha - Libeň
SUMMARY:PP-U16M-Q-B: VK Lvi Praha A-SK Meteor Praha A
END:VEVENT
BEGIN:VEVENT
UID:34643966-3763-4434-b565-393833313766
DTSTAMP:20260422T183205Z
DESCRIPTION:3/6 SK PROSEK B - SK Meteor Praha AKvasnička Tomáš
DTSTART;TZID=Europe/Berlin:20250914T130000
DTEND;TZID=Europe/Berlin:20250914T150000
LOCATION:, U Meteoru 29 Praha - Libeň
SUMMARY:PP-U16M-Q-B: SK PROSEK B-SK Meteor Praha A
END:VEVENT
BEGIN:VEVENT
UID:64333736-3064-4232-a234-336334303137
DTSTAMP:20260422T183205Z
DESCRIPTION:1/2 SK Meteor Praha A - SK Dansport Praha\, z.s.Vokáč Tomáš
DTSTART;TZID=Europe/Berlin:20250914T180000
DTEND;TZID=Europe/Berlin:20250914T200000
LOCATION:, U Meteoru 29 Praha - Libeň
SUMMARY:PP-U16M-Q-D: SK Meteor Praha A-SK Dansport Praha\, z.s.
END:VEVENT
BEGIN:VEVENT
UID:65363631-3233-4534-b832-633536333536
DTSTAMP:20260422T183205Z
DESCRIPTION:2/3 TJ ABC Braník\, z.s. - SK Meteor Praha AVokáč Tomáš
DTSTART;TZID=Europe/Berlin:20250914T160000
DTEND;TZID=Europe/Berlin:20250914T180000
LOCATION:, U Meteoru 29 Praha - Libeň
SUMMARY:PP-U16M-Q-D: TJ ABC Braník\, z.s.-SK Meteor Praha A
END:VEVENT
BEGIN:VEVENT
UID:39333263-6463-4465-a531-326664313931
DTSTAMP:20260422T183205Z
DESCRIPTION:3/6 BVSP Koráb - SK Meteor Praha AVaněk Jan
DTSTART;TZID=Europe/Berlin:20250914T170000
DTEND;TZID=Europe/Berlin:20250914T190000
LOCATION:, U Meteoru 29 Praha - Libeň
SUMMARY:PP-U16M-Q-D: BVSP Koráb-SK Meteor Praha A
END:VEVENT
BEGIN:VEVENT
UID:61326636-3563-4461-a333-656661653561
DTSTAMP:20260422T183205Z
DESCRIPTION:6/6 SK Meteor Praha A - TJ ABC Braník\, z.s. 0:2 (-17\,-22)
DTSTART;TZID=Europe/Berlin:20251012T140000
DTEND;TZID=Europe/Berlin:20251012T160000
LOCATION:ZŠ Žernosecká\, Žernosecká 1597 Praha - Kobylisy
SUMMARY:PP-U16M-T1-2: SK Meteor Praha A-TJ ABC Braník\, z.s.
END:VEVENT
BEGIN:VEVENT
UID:61356362-6165-4735-a232-313961353237
DTSTAMP:20260422T183205Z
DESCRIPTION:1/1 BVSP Koráb - SK Meteor Praha A 2:1 (15\,-22\,12)
DTSTART;TZID=Europe/Berlin:20251012T090000
DTEND;TZID=Europe/Berlin:20251012T110000
LOCATION:ZŠ Žernosecká\, Žernosecká 1597 Praha - Kobylisy
SUMMARY:PP-U16M-T1-2: BVSP Koráb-SK Meteor Praha A
END:VEVENT
BEGIN:VEVENT
UID:62373535-3262-4039-b336-623862376365
DTSTAMP:20260422T183205Z
DESCRIPTION:4/4 Vršovice - SK Meteor Praha A 0:2 (-20\,-18)
DTSTART;TZID=Europe/Berlin:20251012T120000
DTEND;TZID=Europe/Berlin:20251012T140000
LOCATION:ZŠ Žernosecká\, Žernosecká 1597 Praha - Kobylisy
SUMMARY:PP-U16M-T1-2: Vršovice-SK Meteor Praha A
END:VEVENT
BEGIN:VEVENT
UID:33623636-6537-4630-b733-333433636336
DTSTAMP:20260422T183205Z
DESCRIPTION:2/4 SK Meteor Praha A - Vršovice 2:0 (19\,12)
DTSTART;TZID=Europe/Berlin:20251109T130000
DTEND;TZID=Europe/Berlin:20251109T150000
LOCATION:Sokol Bubeneč\, Korunovační 630 Praha - Bubeneč
SUMMARY:PP-U16M-T2-2: SK Meteor Praha A-Vršovice
END:VEVENT
BEGIN:VEVENT
UID:36373261-3863-4134-b338-393336376138
DTSTAMP:20260422T183205Z
DESCRIPTION:3/5 SK Meteor Praha A - SK Dansport Praha\, z.s. 2:0 (21\,6)
DTSTART;TZID=Europe/Berlin:20251109T140000
DTEND;TZID=Europe/Berlin:20251109T160000
LOCATION:Sokol Bubeneč\, Korunovační 630 Praha - Bubeneč
SUMMARY:PP-U16M-T2-2: SK Meteor Praha A-SK Dansport Praha\, z.s.
END:VEVENT
BEGIN:VEVENT
UID:63343661-6630-4330-a134-666139313261
DTSTAMP:20260422T183205Z
DESCRIPTION:1/2 VK Lvi Praha B - SK Meteor Praha A 0:2 (-23\,-17)
DTSTART;TZID=Europe/Berlin:20251109T120000
DTEND;TZID=Europe/Berlin:20251109T140000
LOCATION:Sokol Bubeneč\, Korunovační 630 Praha - Bubeneč
SUMMARY:PP-U16M-T2-2: VK Lvi Praha B-SK Meteor Praha A
END:VEVENT
BEGIN:VEVENT
UID:39373332-6662-4933-b362-326361333530
DTSTAMP:20260422T183205Z
DESCRIPTION:1/1 SK Meteor Praha A - VK Lvi Praha A 0:2 (-11\,-15)
DTSTART;TZID=Europe/Berlin:20251214T090000
DTEND;TZID=Europe/Berlin:20251214T110000
LOCATION:FZŠ Brdičkova\, Brdičkova 1878 Praha - Stodůlky
SUMMARY:PP-U16M-T3-1: SK Meteor Praha A-VK Lvi Praha A
END:VEVENT
BEGIN:VEVENT
UID:37323637-6631-4466-a361-366236343934
DTSTAMP:20260422T183205Z
DESCRIPTION:3/5 SK Meteor Praha A - Orion A 1:2 (22\,-12\,-9)
DTSTART;TZID=Europe/Berlin:20251214T110000
DTEND;TZID=Europe/Berlin:20251214T130000
LOCATION:FZŠ Brdičkova\, Brdičkova 1878 Praha - Stodůlky
SUMMARY:PP-U16M-T3-1: SK Meteor Praha A-Orion A
END:VEVENT
BEGIN:VEVENT
UID:61333434-6362-4366-b039-663464363465
DTSTAMP:20260422T183205Z
DESCRIPTION:2/3 SK PROSEK A - SK Meteor Praha A 2:0 (20\,16)
DTSTART;TZID=Europe/Berlin:20251214T100000
DTEND;TZID=Europe/Berlin:20251214T120000
LOCATION:FZŠ Brdičkova\, Brdičkova 1878 Praha - Stodůlky
SUMMARY:PP-U16M-T3-1: SK PROSEK A-SK Meteor Praha A
END:VEVENT
BEGIN:VEVENT
UID:63353030-3532-4266-b865-616336626230
DTSTAMP:20260422T183205Z
DESCRIPTION:5/9 TJ ABC Braník\, z.s. - SK Meteor Praha A 2:0 (16\,12)
DTSTART;TZID=Europe/Berlin:20251214T130000
DTEND;TZID=Europe/Berlin:20251214T150000
LOCATION:FZŠ Brdičkova\, Brdičkova 1878 Praha - Stodůlky
SUMMARY:PP-U16M-T3-1: TJ ABC Braník\, z.s.-SK Meteor Praha A
END:VEVENT
BEGIN:VEVENT
UID:34666134-6639-4430-b639-353338393636
DTSTAMP:20260422T183205Z
DESCRIPTION:6/6 SK Meteor Praha A - SK Dansport Praha\, z.s. 2:0 (14\,23)
DTSTART;TZID=Europe/Berlin:20260118T140000
DTEND;TZID=Europe/Berlin:20260118T160000
LOCATION:ZŠ Žernosecká\, Žernosecká 1597 Praha - Kobylisy
SUMMARY:PP-U16M-T4-2: SK Meteor Praha A-SK Dansport Praha\, z.s.
END:VEVENT
BEGIN:VEVENT
UID:66663164-3865-4662-b564-393633633166
DTSTAMP:20260422T183205Z
DESCRIPTION:1/1 VK Lvi Praha B - SK Meteor Praha A 0:2 (-23\,-23)
DTSTART;TZID=Europe/Berlin:20260118T090000
DTEND;TZID=Europe/Berlin:20260118T110000
LOCATION:ZŠ Žernosecká\, Žernosecká 1597 Praha - Kobylisy
SUMMARY:PP-U16M-T4-2: VK Lvi Praha B-SK Meteor Praha A
END:VEVENT
BEGIN:VEVENT
UID:38323534-3162-4131-a339-656530383536
DTSTAMP:20260422T183205Z
DESCRIPTION:4/4 BVSP Koráb - SK Meteor Praha A 2:1 (12\,-23\,13)
DTSTART;TZID=Europe/Berlin:20260118T120000
DTEND;TZID=Europe/Berlin:20260118T140000
LOCATION:ZŠ Žernosecká\, Žernosecká 1597 Praha - Kobylisy
SUMMARY:PP-U16M-T4-2: BVSP Koráb-SK Meteor Praha A
END:VEVENT
BEGIN:VEVENT
UID:34303534-3136-4764-a461-636466636531
DTSTAMP:20260422T183205Z
DESCRIPTION:6/6 SK Meteor Praha A - Vršovice 2:1 (-23\,19\,3)
DTSTART;TZID=Europe/Berlin:20260315T140000
DTEND;TZID=Europe/Berlin:20260315T160000
LOCATION:Sokol Bubeneč\, Korunovační 630 Praha - Bubeneč
SUMMARY:PP-U16M-T5-2: SK Meteor Praha A-Vršovice
END:VEVENT
BEGIN:VEVENT
UID:64333561-3861-4936-b833-663830323336
DTSTAMP:20260422T183205Z
DESCRIPTION:1/1 SK PROSEK B - SK Meteor Praha A 2:0 (25\,18)
DTSTART;TZID=Europe/Berlin:20260315T090000
DTEND;TZID=Europe/Berlin:20260315T110000
LOCATION:Sokol Bubeneč\, Korunovační 630 Praha - Bubeneč
SUMMARY:PP-U16M-T5-2: SK PROSEK B-SK Meteor Praha A
END:VEVENT
BEGIN:VEVENT
UID:63623064-3366-4166-b035-656161633337
DTSTAMP:20260422T183205Z
DESCRIPTION:4/4 SK Dansport Praha\, z.s. - SK Meteor Praha A 1:2 (20\,-19\,
 -10)
DTSTART;TZID=Europe/Berlin:20260315T120000
DTEND;TZID=Europe/Berlin:20260315T140000
LOCATION:Sokol Bubeneč\, Korunovační 630 Praha - Bubeneč
SUMMARY:PP-U16M-T5-2: SK Dansport Praha\, z.s.-SK Meteor Praha A
END:VEVENT
END:VCALENDAR
