BEGIN:VCALENDAR
VERSION:2.0
PRODID:-//Meteor Praha B90794//NONSGML kigkonsult.se iCalcreator 2.41.80//
CALSCALE:GREGORIAN
UID:31376165-3862-4336-a361-343738393636
BEGIN:VEVENT
UID:63353861-3561-4561-a236-333539663032
DTSTAMP:20260422T205248Z
DESCRIPTION:2/4 SK Meteor Praha B - BVSP KorábVaněk Jan
DTSTART;TZID=Europe/Berlin:20250914T120000
DTEND;TZID=Europe/Berlin:20250914T140000
LOCATION:, U Meteoru 29 Praha - Libeň
SUMMARY:PP-U16M-Q-A: SK Meteor Praha B-BVSP Koráb
END:VEVENT
BEGIN:VEVENT
UID:37323661-3632-4561-b830-393865366564
DTSTAMP:20260422T205248Z
DESCRIPTION:5/10 SK Meteor Praha B - SK PROSEK AVaněk Jan
DTSTART;TZID=Europe/Berlin:20250914T150000
DTEND;TZID=Europe/Berlin:20250914T170000
LOCATION:, U Meteoru 29 Praha - Libeň
SUMMARY:PP-U16M-Q-A: SK Meteor Praha B-SK PROSEK A
END:VEVENT
BEGIN:VEVENT
UID:38303735-3464-4331-b336-333239396465
DTSTAMP:20260422T205248Z
DESCRIPTION:1/1 TJ ABC Braník\, z.s. - SK Meteor Praha B 0:0 ()
DTSTART;TZID=Europe/Berlin:20250914T110000
DTEND;TZID=Europe/Berlin:20250914T130000
LOCATION:, U Meteoru 29 Praha - Libeň
SUMMARY:PP-U16M-Q-A: TJ ABC Braník\, z.s.-SK Meteor Praha B
END:VEVENT
BEGIN:VEVENT
UID:63643637-6564-4536-a664-646633373162
DTSTAMP:20260422T205248Z
DESCRIPTION:4/7 Orion B - SK Meteor Praha BVokáč Tomáš
DTSTART;TZID=Europe/Berlin:20250914T140000
DTEND;TZID=Europe/Berlin:20250914T160000
LOCATION:, U Meteoru 29 Praha - Libeň
SUMMARY:PP-U16M-Q-A: Orion B-SK Meteor Praha B
END:VEVENT
BEGIN:VEVENT
UID:35616531-3934-4739-b364-353639373333
DTSTAMP:20260422T205248Z
DESCRIPTION:2/4 SK Meteor Praha B - Orion B 0:2 (-10\,-13)
DTSTART;TZID=Europe/Berlin:20251012T100000
DTEND;TZID=Europe/Berlin:20251012T120000
LOCATION:ZŠ Angel\, Angelovova 3183 Praha - Modřany
SUMMARY:PP-U16M-T1-3: SK Meteor Praha B-Orion B
END:VEVENT
BEGIN:VEVENT
UID:39393963-3666-4463-a364-616466646631
DTSTAMP:20260422T205248Z
DESCRIPTION:3/5 SK Meteor Praha B - VK Lvi Praha B 0:2 (-14\,-3)
DTSTART;TZID=Europe/Berlin:20251012T110000
DTEND;TZID=Europe/Berlin:20251012T130000
LOCATION:ZŠ Angel\, Angelovova 3183 Praha - Modřany
SUMMARY:PP-U16M-T1-3: SK Meteor Praha B-VK Lvi Praha B
END:VEVENT
BEGIN:VEVENT
UID:33623534-3738-4162-a630-363034623835
DTSTAMP:20260422T205248Z
DESCRIPTION:1/2 SK PROSEK C - SK Meteor Praha B 2:0 (8\,14)
DTSTART;TZID=Europe/Berlin:20251012T090000
DTEND;TZID=Europe/Berlin:20251012T110000
LOCATION:ZŠ Angel\, Angelovova 3183 Praha - Modřany
SUMMARY:PP-U16M-T1-3: SK PROSEK C-SK Meteor Praha B
END:VEVENT
BEGIN:VEVENT
UID:65306632-3737-4032-b832-326663356262
DTSTAMP:20260422T205248Z
DESCRIPTION:1/2 SK Meteor Praha B - SK PROSEK C 0:2 (-8\,-20)
DTSTART;TZID=Europe/Berlin:20251109T150000
DTEND;TZID=Europe/Berlin:20251109T170000
LOCATION:Sokol Bubeneč\, Korunovační 630 Praha - Bubeneč
SUMMARY:PP-U16M-T2-3: SK Meteor Praha B-SK PROSEK C
END:VEVENT
BEGIN:VEVENT
UID:37386335-6564-4134-b662-343631323131
DTSTAMP:20260422T205248Z
DESCRIPTION:2/3 SK Meteor Praha B - BVSP Koráb 0:2 (-13\,-6)
DTSTART;TZID=Europe/Berlin:20251109T160000
DTEND;TZID=Europe/Berlin:20251109T180000
LOCATION:Sokol Bubeneč\, Korunovační 630 Praha - Bubeneč
SUMMARY:PP-U16M-T2-3: SK Meteor Praha B-BVSP Koráb
END:VEVENT
BEGIN:VEVENT
UID:30616665-3535-4536-b065-396537326338
DTSTAMP:20260422T205248Z
DESCRIPTION:3/6 Orion B - SK Meteor Praha B 2:0 (21\,9)
DTSTART;TZID=Europe/Berlin:20251109T170000
DTEND;TZID=Europe/Berlin:20251109T190000
LOCATION:Sokol Bubeneč\, Korunovační 630 Praha - Bubeneč
SUMMARY:PP-U16M-T2-3: Orion B-SK Meteor Praha B
END:VEVENT
BEGIN:VEVENT
UID:36326638-3836-4562-b063-373330323937
DTSTAMP:20260422T205248Z
DESCRIPTION:2/2 SK Meteor Praha B - SK PROSEK C 0:2 (-11\,-9)
DTSTART;TZID=Europe/Berlin:20251214T100000
DTEND;TZID=Europe/Berlin:20251214T120000
LOCATION:Sokol Bubeneč\, Korunovační 630 Praha - Bubeneč
SUMMARY:PP-U16M-T3-3: SK Meteor Praha B-SK PROSEK C
END:VEVENT
BEGIN:VEVENT
UID:32326635-6236-4663-b734-373832626438
DTSTAMP:20260422T205248Z
DESCRIPTION:3/3 SK Meteor Praha B - VK Lvi Praha B 0:2 (-11\,-5)
DTSTART;TZID=Europe/Berlin:20251214T110000
DTEND;TZID=Europe/Berlin:20251214T130000
LOCATION:Sokol Bubeneč\, Korunovační 630 Praha - Bubeneč
SUMMARY:PP-U16M-T3-3: SK Meteor Praha B-VK Lvi Praha B
END:VEVENT
BEGIN:VEVENT
UID:32613932-3831-4332-b730-373032623134
DTSTAMP:20260422T205248Z
DESCRIPTION:6/6 Orion B - SK Meteor Praha B 2:0 (6\,8)
DTSTART;TZID=Europe/Berlin:20251214T140000
DTEND;TZID=Europe/Berlin:20251214T160000
LOCATION:Sokol Bubeneč\, Korunovační 630 Praha - Bubeneč
SUMMARY:PP-U16M-T3-3: Orion B-SK Meteor Praha B
END:VEVENT
BEGIN:VEVENT
UID:66336432-3536-4261-b534-626236636530
DTSTAMP:20260422T205248Z
DESCRIPTION:2/4 SK Meteor Praha B - SK PROSEK C 0:2 (-12\,-9)
DTSTART;TZID=Europe/Berlin:20260118T100000
DTEND;TZID=Europe/Berlin:20260118T120000
LOCATION:ZŠ Angel\, Angelovova 3183 Praha - Modřany
SUMMARY:PP-U16M-T4-3: SK Meteor Praha B-SK PROSEK C
END:VEVENT
BEGIN:VEVENT
UID:30306535-3237-4339-b461-613361306131
DTSTAMP:20260422T205248Z
DESCRIPTION:3/5 SK Meteor Praha B - Vršovice 0:2 (-15\,-8)
DTSTART;TZID=Europe/Berlin:20260118T110000
DTEND;TZID=Europe/Berlin:20260118T130000
LOCATION:ZŠ Angel\, Angelovova 3183 Praha - Modřany
SUMMARY:PP-U16M-T4-3: SK Meteor Praha B-Vršovice
END:VEVENT
BEGIN:VEVENT
UID:65623335-6638-4137-a636-633538366565
DTSTAMP:20260422T205248Z
DESCRIPTION:1/2 Orion B - SK Meteor Praha B 2:0 (18\,20)
DTSTART;TZID=Europe/Berlin:20260118T090000
DTEND;TZID=Europe/Berlin:20260118T110000
LOCATION:ZŠ Angel\, Angelovova 3183 Praha - Modřany
SUMMARY:PP-U16M-T4-3: Orion B-SK Meteor Praha B
END:VEVENT
BEGIN:VEVENT
UID:32343762-3534-4636-b836-366239363465
DTSTAMP:20260422T205248Z
DESCRIPTION:6/6 SK Meteor Praha B - Orion B 0:2 (-11\,-18)
DTSTART;TZID=Europe/Berlin:20260315T140000
DTEND;TZID=Europe/Berlin:20260315T160000
LOCATION:Sokol Bubeneč\, Korunovační 630 Praha - Bubeneč
SUMMARY:PP-U16M-T5-3: SK Meteor Praha B-Orion B
END:VEVENT
BEGIN:VEVENT
UID:34653964-3937-4265-a366-393339663639
DTSTAMP:20260422T205248Z
DESCRIPTION:1/1 VK Lvi Praha B - SK Meteor Praha B 2:0 (13\,7)
DTSTART;TZID=Europe/Berlin:20260315T090000
DTEND;TZID=Europe/Berlin:20260315T110000
LOCATION:Sokol Bubeneč\, Korunovační 630 Praha - Bubeneč
SUMMARY:PP-U16M-T5-3: VK Lvi Praha B-SK Meteor Praha B
END:VEVENT
BEGIN:VEVENT
UID:64613331-6665-4530-b538-353536346163
DTSTAMP:20260422T205248Z
DESCRIPTION:4/4 SK PROSEK C - SK Meteor Praha B 2:0 (10\,11)
DTSTART;TZID=Europe/Berlin:20260315T120000
DTEND;TZID=Europe/Berlin:20260315T140000
LOCATION:Sokol Bubeneč\, Korunovační 630 Praha - Bubeneč
SUMMARY:PP-U16M-T5-3: SK PROSEK C-SK Meteor Praha B
END:VEVENT
END:VCALENDAR
