BEGIN:VCALENDAR
VERSION:2.0
PRODID:-//Kometa Praha B90809//NONSGML kigkonsult.se iCalcreator 2.41.80//
CALSCALE:GREGORIAN
UID:37353037-6635-4663-b437-323639643532
BEGIN:VEVENT
UID:36643833-3637-4332-b665-366333636162
DTSTAMP:20260423T050034Z
DESCRIPTION:1/2 SK Kometa Praha B - Mikulova C 2:0 (13\,20)
DTSTART;TZID=Europe/Berlin:20250920T090000
DTEND;TZID=Europe/Berlin:20250920T110000
LOCATION:tělocvičny ZŠ Mikulova\, Mikulova 1594 Praha - Chodov
SUMMARY:PP-U18Z-Q-C: SK Kometa Praha B-Mikulova C
END:VEVENT
BEGIN:VEVENT
UID:32376436-3436-4661-b832-343163613730
DTSTAMP:20260423T050034Z
DESCRIPTION:4/8 SK Kometa Praha B - Mikulova D 1:2 (-18\,20\,-13)
DTSTART;TZID=Europe/Berlin:20250920T120000
DTEND;TZID=Europe/Berlin:20250920T140000
LOCATION:tělocvičny ZŠ Mikulova\, Mikulova 1594 Praha - Chodov
SUMMARY:PP-U18Z-Q-C: SK Kometa Praha B-Mikulova D
END:VEVENT
BEGIN:VEVENT
UID:38333531-3739-4734-a336-623066306634
DTSTAMP:20260423T050034Z
DESCRIPTION:2/4 SK Kometa Praha C - SK Kometa Praha B 0:2 (-15\,-6)
DTSTART;TZID=Europe/Berlin:20250920T100000
DTEND;TZID=Europe/Berlin:20250920T120000
LOCATION:tělocvičny ZŠ Mikulova\, Mikulova 1594 Praha - Chodov
SUMMARY:PP-U18Z-Q-C: SK Kometa Praha C-SK Kometa Praha B
END:VEVENT
BEGIN:VEVENT
UID:63363062-3361-4936-a435-613633353430
DTSTAMP:20260423T050034Z
DESCRIPTION:3/6 Vršovice B - SK Kometa Praha B 2:1 (-22\,23\,7)
DTSTART;TZID=Europe/Berlin:20250920T110000
DTEND;TZID=Europe/Berlin:20250920T130000
LOCATION:tělocvičny ZŠ Mikulova\, Mikulova 1594 Praha - Chodov
SUMMARY:PP-U18Z-Q-C: Vršovice B-SK Kometa Praha B
END:VEVENT
BEGIN:VEVENT
UID:36623661-6333-4135-b839-613730323435
DTSTAMP:20260423T050034Z
DESCRIPTION:4/8 SK Kometa Praha B - SC Braník 0:2 (-14\,-16)
DTSTART;TZID=Europe/Berlin:20250927T161500
DTEND;TZID=Europe/Berlin:20250927T181500
LOCATION:ZŠ Dolní Břežany\, Na Vršku 290 Dolní Břežany
SUMMARY:CP-U18Z-KD: SK Kometa Praha B-SC Braník
END:VEVENT
BEGIN:VEVENT
UID:38323930-6331-4362-b062-326237326631
DTSTAMP:20260423T050034Z
DESCRIPTION:6/15 SK Kometa Praha B - VK Sever Žatec\, z.s. 0:2 (-16\,-13)
DTSTART;TZID=Europe/Berlin:20250928T113000
DTEND;TZID=Europe/Berlin:20250928T133000
LOCATION:ZŠ Dolní Břežany\, Na Vršku 290 Dolní Břežany
SUMMARY:CP-U18Z-KD: SK Kometa Praha B-VK Sever Žatec\, z.s.
END:VEVENT
BEGIN:VEVENT
UID:38313866-6435-4232-b564-633438376139
DTSTAMP:20260423T050034Z
DESCRIPTION:2/2 VK Karlovy Vary z.s. - SK Kometa Praha B 2:0 (13\,12)
DTSTART;TZID=Europe/Berlin:20250927T111500
DTEND;TZID=Europe/Berlin:20250927T131500
LOCATION:ZŠ Dolní Břežany\, Na Vršku 290 Dolní Břežany
SUMMARY:CP-U18Z-KD: VK Karlovy Vary z.s.-SK Kometa Praha B
END:VEVENT
BEGIN:VEVENT
UID:38623934-3562-4665-a138-393337336564
DTSTAMP:20260423T050034Z
DESCRIPTION:3/6 Sportovní klub Meteor Praha - SK Kometa Praha B 1:2 (23\,-1
 7\,-2)
DTSTART;TZID=Europe/Berlin:20250927T134500
DTEND;TZID=Europe/Berlin:20250927T154500
LOCATION:ZŠ Dolní Břežany\, Na Vršku 290 Dolní Břežany
SUMMARY:CP-U18Z-KD: Sportovní klub Meteor Praha-SK Kometa Praha B
END:VEVENT
BEGIN:VEVENT
UID:65353535-6432-4139-a632-623033613736
DTSTAMP:20260423T050034Z
DESCRIPTION:5/13 SK Třebín - SK Kometa Praha B 2:0 (12\,14)
DTSTART;TZID=Europe/Berlin:20250928T090000
DTEND;TZID=Europe/Berlin:20250928T110000
LOCATION:ZŠ Dolní Břežany\, Na Vršku 290 Dolní Břežany
SUMMARY:CP-U18Z-KD: SK Třebín-SK Kometa Praha B
END:VEVENT
BEGIN:VEVENT
UID:33666264-6565-4662-b166-616666613739
DTSTAMP:20260423T050034Z
DESCRIPTION:6/6 SK Kometa Praha B - VK Lvi Praha B 2:1 (12\,-22\,9)
DTSTART;TZID=Europe/Berlin:20251011T140000
DTEND;TZID=Europe/Berlin:20251011T160000
LOCATION:SKŠ ZŠ Mikulova Praha\, Mikulova 1594 Praha - Chodov
SUMMARY:PP-U18Z-1-C: SK Kometa Praha B-VK Lvi Praha B
END:VEVENT
BEGIN:VEVENT
UID:64663634-3230-4761-b164-333839333038
DTSTAMP:20260423T050034Z
DESCRIPTION:2/2 Dansport A - SK Kometa Praha B 2:1 (23\,-15\,11)
DTSTART;TZID=Europe/Berlin:20251011T100000
DTEND;TZID=Europe/Berlin:20251011T120000
LOCATION:SKŠ ZŠ Mikulova Praha\, Mikulova 1594 Praha - Chodov
SUMMARY:PP-U18Z-1-C: Dansport A-SK Kometa Praha B
END:VEVENT
BEGIN:VEVENT
UID:63633733-3433-4366-b638-323731353361
DTSTAMP:20260423T050034Z
DESCRIPTION:3/3 Sokol HP B - SK Kometa Praha B 2:1 (-21\,23\,10)
DTSTART;TZID=Europe/Berlin:20251011T110000
DTEND;TZID=Europe/Berlin:20251011T130000
LOCATION:SKŠ ZŠ Mikulova Praha\, Mikulova 1594 Praha - Chodov
SUMMARY:PP-U18Z-1-C: Sokol HP B-SK Kometa Praha B
END:VEVENT
BEGIN:VEVENT
UID:34653762-3635-4662-a138-393138306536
DTSTAMP:20260423T050034Z
DESCRIPTION:6/6 SK Kometa Praha B - Mikulova D 2:0 (17\,18)
DTSTART;TZID=Europe/Berlin:20251108T143000
DTEND;TZID=Europe/Berlin:20251108T163000
LOCATION:tělocvičny ZŠ Mikulova\, Mikulova 1594 Praha - Chodov
SUMMARY:PP-U18Z-2-C: SK Kometa Praha B-Mikulova D
END:VEVENT
BEGIN:VEVENT
UID:30303934-3664-4362-b065-313139313037
DTSTAMP:20260423T050034Z
DESCRIPTION:2/2 VK Lvi Praha B - SK Kometa Praha B 2:0 (27\,7)
DTSTART;TZID=Europe/Berlin:20251108T123000
DTEND;TZID=Europe/Berlin:20251108T143000
LOCATION:tělocvičny ZŠ Mikulova\, Mikulova 1594 Praha - Chodov
SUMMARY:PP-U18Z-2-C: VK Lvi Praha B-SK Kometa Praha B
END:VEVENT
BEGIN:VEVENT
UID:32616631-6466-4938-b536-643631326336
DTSTAMP:20260423T050034Z
DESCRIPTION:3/3 Studio Sport - SK Kometa Praha B 2:1 (-24\,27\,14)
DTSTART;TZID=Europe/Berlin:20251108T133000
DTEND;TZID=Europe/Berlin:20251108T153000
LOCATION:tělocvičny ZŠ Mikulova\, Mikulova 1594 Praha - Chodov
SUMMARY:PP-U18Z-2-C: Studio Sport-SK Kometa Praha B
END:VEVENT
BEGIN:VEVENT
UID:30323561-6662-4135-b133-313664316330
DTSTAMP:20260423T050034Z
DESCRIPTION:10/19 SK Kometa Praha B - TJ JUNIOR Brno-Líšeň 2:1 (19\,-13\,9)
DTSTART;TZID=Europe/Berlin:20251116T113000
DTEND;TZID=Europe/Berlin:20251116T133000
LOCATION:Tělocvična ZŠ Na Šutce\, Na Šutce 440 Praha - Troja
SUMMARY:CP-U18Z-1C: SK Kometa Praha B-TJ JUNIOR Brno-Líšeň
END:VEVENT
BEGIN:VEVENT
UID:35646262-3463-4263-b761-333336346562
DTSTAMP:20260423T050034Z
DESCRIPTION:1/2 Tělocvičná jednota Sokol Česká Třebová - SK Kometa Praha B 
 0:2 (-19\,-16)
DTSTART;TZID=Europe/Berlin:20251115T090000
DTEND;TZID=Europe/Berlin:20251115T110000
LOCATION:Základní škola Česká Třebová Habrmanova\, Na Skále\, Na Skále 566 
 Česká Třebová
SUMMARY:CP-U18Z-1C: Tělocvičná jednota Sokol Česká Třebová-SK Kometa Praha 
 B
END:VEVENT
BEGIN:VEVENT
UID:38623862-6365-4662-a165-373463643961
DTSTAMP:20260423T050034Z
DESCRIPTION:3/6 Volejbalový klub Tuchlovice z.s. - SK Kometa Praha B 2:0 (1
 8\,23)
DTSTART;TZID=Europe/Berlin:20251115T113000
DTEND;TZID=Europe/Berlin:20251115T133000
LOCATION:ZŠ Tuchlovice\, Školní 277 Tuchlovice
SUMMARY:CP-U18Z-1C: Volejbalový klub Tuchlovice z.s.-SK Kometa Praha B
END:VEVENT
BEGIN:VEVENT
UID:65393339-3239-4563-b639-623462313062
DTSTAMP:20260423T050034Z
DESCRIPTION:5/9 St.M.-Náchod - SK Kometa Praha B 2:1 (9\,-14\,13)
DTSTART;TZID=Europe/Berlin:20251115T140000
DTEND;TZID=Europe/Berlin:20251115T160000
LOCATION:Sportovni hala TJ. Sokol Staré Město - Náchod\, Na Skalce 263 Nách
 od - Staré Město nad Metují
SUMMARY:CP-U18Z-1C: St.M.-Náchod-SK Kometa Praha B
END:VEVENT
BEGIN:VEVENT
UID:34306636-3031-4464-b238-373238306634
DTSTAMP:20260423T050034Z
DESCRIPTION:7/13 VK Karviná - SK Kometa Praha B 2:1 (-19\,18\,10)
DTSTART;TZID=Europe/Berlin:20251115T160000
DTEND;TZID=Europe/Berlin:20251115T180000
LOCATION:Tělocvična ZŠ Družby\, tř. Družby 1383 Karviná - Nové Město
SUMMARY:CP-U18Z-1C: VK Karviná-SK Kometa Praha B
END:VEVENT
BEGIN:VEVENT
UID:37363165-3139-4263-b462-653964623833
DTSTAMP:20260423T050034Z
DESCRIPTION:8/16 Sokol Šlapanice - SK Kometa Praha B 2:0 (24\,15)
DTSTART;TZID=Europe/Berlin:20251116T090000
DTEND;TZID=Europe/Berlin:20251116T110000
LOCATION:ZŠ Na Zahrádkách \, Na Zahrádkách 1716 Šlapanice
SUMMARY:CP-U18Z-1C: Sokol Šlapanice-SK Kometa Praha B
END:VEVENT
BEGIN:VEVENT
UID:31663135-3039-4537-b030-356232326564
DTSTAMP:20260423T050034Z
DESCRIPTION:6/6 SK Kometa Praha B - Sokol HP B 0:2 (-21\,-15)
DTSTART;TZID=Europe/Berlin:20251206T110000
DTEND;TZID=Europe/Berlin:20251206T130000
LOCATION:Sportovní hala Radotín\, U starého stadiónu 1585 Praha - Radotín
SUMMARY:PP-U18Z-3-C: SK Kometa Praha B-Sokol HP B
END:VEVENT
BEGIN:VEVENT
UID:35346136-6363-4433-b862-373034333030
DTSTAMP:20260423T050034Z
DESCRIPTION:2/2 Studio Sport - SK Kometa Praha B 0:2 (-19\,-23)
DTSTART;TZID=Europe/Berlin:20251206T090000
DTEND;TZID=Europe/Berlin:20251206T110000
LOCATION:Sportovní hala Radotín\, U starého stadiónu 1585 Praha - Radotín
SUMMARY:PP-U18Z-3-C: Studio Sport-SK Kometa Praha B
END:VEVENT
BEGIN:VEVENT
UID:62353333-6337-4365-a138-343037653266
DTSTAMP:20260423T050034Z
DESCRIPTION:3/3 Radotín - SK Kometa Praha B 2:0 (22\,19)
DTSTART;TZID=Europe/Berlin:20251206T100000
DTEND;TZID=Europe/Berlin:20251206T120000
LOCATION:Sportovní hala Radotín\, U starého stadiónu 1585 Praha - Radotín
SUMMARY:PP-U18Z-3-C: Radotín-SK Kometa Praha B
END:VEVENT
BEGIN:VEVENT
UID:32306464-6361-4638-b334-623335313136
DTSTAMP:20260423T050034Z
DESCRIPTION:1/1 SK Kometa Praha B - TJ Šumperk 2:1 (22\,-17\,4)
DTSTART;TZID=Europe/Berlin:20251213T103000
DTEND;TZID=Europe/Berlin:20251213T123000
LOCATION:Tělocvična ZŠ Na Šutce\, Na Šutce 440 Praha - Troja
SUMMARY:CP-U18Z-2C: SK Kometa Praha B-TJ Šumperk
END:VEVENT
BEGIN:VEVENT
UID:34323563-3933-4362-b265-343635353638
DTSTAMP:20260423T050034Z
DESCRIPTION:5/7 SK Kometa Praha B - VAM Havířov 0:2 (-11\,-14)
DTSTART;TZID=Europe/Berlin:20251213T153000
DTEND;TZID=Europe/Berlin:20251213T173000
LOCATION:Tělocvična ZŠ Na Šutce\, Na Šutce 440 Praha - Troja
SUMMARY:CP-U18Z-2C: SK Kometa Praha B-VAM Havířov
END:VEVENT
BEGIN:VEVENT
UID:61363161-3138-4361-a434-653034616438
DTSTAMP:20260423T050034Z
DESCRIPTION:7/11 SK Kometa Praha B - SK Třebín 0:2 (-22\,-16)
DTSTART;TZID=Europe/Berlin:20251213T180000
DTEND;TZID=Europe/Berlin:20251213T200000
LOCATION:Tělocvična ZŠ Na Šutce\, Na Šutce 440 Praha - Troja
SUMMARY:CP-U18Z-2C: SK Kometa Praha B-SK Třebín
END:VEVENT
BEGIN:VEVENT
UID:30313563-3934-4862-a235-666262363838
DTSTAMP:20260423T050034Z
DESCRIPTION:10/18 SK Kometa Praha B - Sokol Šlapanice 2:1 (-12\,26\,13)
DTSTART;TZID=Europe/Berlin:20251214T114500
DTEND;TZID=Europe/Berlin:20251214T134500
LOCATION:Tělocvična ZŠ Na Šutce\, Na Šutce 440 Praha - Troja
SUMMARY:CP-U18Z-2C: SK Kometa Praha B-Sokol Šlapanice
END:VEVENT
BEGIN:VEVENT
UID:65386665-3030-4963-a237-653831316461
DTSTAMP:20260423T050034Z
DESCRIPTION:11/20 SK Kometa Praha B - St.M.-Náchod 2:0 (22\,15)
DTSTART;TZID=Europe/Berlin:20251214T130000
DTEND;TZID=Europe/Berlin:20251214T150000
LOCATION:Tělocvična ZŠ Na Šutce\, Na Šutce 440 Praha - Troja
SUMMARY:CP-U18Z-2C: SK Kometa Praha B-St.M.-Náchod
END:VEVENT
BEGIN:VEVENT
UID:61373136-3733-4134-b863-323766623339
DTSTAMP:20260423T050034Z
DESCRIPTION:8/15 Tělovýchovná jednota SLAVIA Liberec\, z.s. - SK Kometa Pra
 ha B 0:2 (-18\,-12)
DTSTART;TZID=Europe/Berlin:20251214T090000
DTEND;TZID=Europe/Berlin:20251214T110000
LOCATION:Základní škola\, Liberec\, Sokolovská \, Sokolovská 328 Liberec - 
 Liberec XIII-Nové Pavlovice
SUMMARY:CP-U18Z-2C: Tělovýchovná jednota SLAVIA Liberec\, z.s.-SK Kometa Pr
 aha B
END:VEVENT
BEGIN:VEVENT
UID:33333630-3930-4530-b361-656234323434
DTSTAMP:20260423T050034Z
DESCRIPTION:6/6 SK Kometa Praha B - SK Kometa Praha D 2:1 (-19\,16\,5)
DTSTART;TZID=Europe/Berlin:20260124T140000
DTEND;TZID=Europe/Berlin:20260124T160000
LOCATION:Sokol Bubeneč\, Korunovační 630 Praha - Bubeneč
SUMMARY:PP-U18Z-4-C: SK Kometa Praha B-SK Kometa Praha D
END:VEVENT
BEGIN:VEVENT
UID:36356365-3835-4131-b037-313130363162
DTSTAMP:20260423T050034Z
DESCRIPTION:2/2 Sokol HP B - SK Kometa Praha B 0:2 (-19\,-17)
DTSTART;TZID=Europe/Berlin:20260124T100000
DTEND;TZID=Europe/Berlin:20260124T120000
LOCATION:Sokol Bubeneč\, Korunovační 630 Praha - Bubeneč
SUMMARY:PP-U18Z-4-C: Sokol HP B-SK Kometa Praha B
END:VEVENT
BEGIN:VEVENT
UID:39616366-3939-4366-b631-396439353935
DTSTAMP:20260423T050034Z
DESCRIPTION:3/3 Vršovice A - SK Kometa Praha B 1:2 (-21\,23\,-12)
DTSTART;TZID=Europe/Berlin:20260124T110000
DTEND;TZID=Europe/Berlin:20260124T130000
LOCATION:Sokol Bubeneč\, Korunovační 630 Praha - Bubeneč
SUMMARY:PP-U18Z-4-C: Vršovice A-SK Kometa Praha B
END:VEVENT
BEGIN:VEVENT
UID:61356631-3036-4839-b539-343339326464
DTSTAMP:20260423T050034Z
DESCRIPTION:4/7 SK Kometa Praha B - Volejbalový klub Tuchlovice z.s. 2:0 (2
 0\,22)
DTSTART;TZID=Europe/Berlin:20260110T124500
DTEND;TZID=Europe/Berlin:20260110T144500
LOCATION:Tělocvična ZŠ Na Šutce\, Na Šutce 440 Praha - Troja
SUMMARY:CP-U18Z-3C: SK Kometa Praha B-Volejbalový klub Tuchlovice z.s.
END:VEVENT
BEGIN:VEVENT
UID:33373732-3737-4336-b136-393232313262
DTSTAMP:20260423T050034Z
DESCRIPTION:6/11 SK Kometa Praha B - Sokol Šlapanice 0:2 (-22\,-18)
DTSTART;TZID=Europe/Berlin:20260110T151500
DTEND;TZID=Europe/Berlin:20260110T171500
LOCATION:Tělocvična ZŠ Na Šutce\, Na Šutce 440 Praha - Troja
SUMMARY:CP-U18Z-3C: SK Kometa Praha B-Sokol Šlapanice
END:VEVENT
BEGIN:VEVENT
UID:63393233-3061-4366-b865-623461346561
DTSTAMP:20260423T050034Z
DESCRIPTION:9/18 SK Kometa Praha B - VK Karviná 0:2 (-16\,-6)
DTSTART;TZID=Europe/Berlin:20260111T101500
DTEND;TZID=Europe/Berlin:20260111T121500
LOCATION:Tělocvična ZŠ Na Šutce\, Na Šutce 440 Praha - Troja
SUMMARY:CP-U18Z-3C: SK Kometa Praha B-VK Karviná
END:VEVENT
BEGIN:VEVENT
UID:30613833-6133-4735-b264-396531366130
DTSTAMP:20260423T050034Z
DESCRIPTION:10/20 SK Kometa Praha B - Tělovýchovná jednota SLAVIA Liberec\,
  z.s. 2:0 (22\,13)
DTSTART;TZID=Europe/Berlin:20260111T113000
DTEND;TZID=Europe/Berlin:20260111T133000
LOCATION:Tělocvična ZŠ Na Šutce\, Na Šutce 440 Praha - Troja
SUMMARY:CP-U18Z-3C: SK Kometa Praha B-Tělovýchovná jednota SLAVIA Liberec\,
  z.s.
END:VEVENT
BEGIN:VEVENT
UID:35333236-3733-4538-a361-653839626538
DTSTAMP:20260423T050034Z
DESCRIPTION:2/4 TJ JUNIOR Brno-Líšeň - SK Kometa Praha B 1:2 (12\,-20\,-7)
DTSTART;TZID=Europe/Berlin:20260110T101500
DTEND;TZID=Europe/Berlin:20260110T121500
LOCATION:tělocvičny ZŠ Novolíšeňská\, Brno\, Novolíšeňská 2411 Brno - Líšeň
SUMMARY:CP-U18Z-3C: TJ JUNIOR Brno-Líšeň-SK Kometa Praha B
END:VEVENT
BEGIN:VEVENT
UID:61643936-3863-4431-b533-653964356136
DTSTAMP:20260423T050034Z
DESCRIPTION:7/14 Volejbalový klub Třebíč - SK Kometa Praha B 0:2 (-23\,-12)
DTSTART;TZID=Europe/Berlin:20260110T163000
DTEND;TZID=Europe/Berlin:20260110T183000
LOCATION:hala ZŠ TGM\, Komenského nám. 61 Třebíč - Horka-Domky
SUMMARY:CP-U18Z-3C: Volejbalový klub Třebíč-SK Kometa Praha B
END:VEVENT
BEGIN:VEVENT
UID:38316262-6361-4365-a565-663731386438
DTSTAMP:20260423T050034Z
DESCRIPTION:3/3 SK Kometa Praha B - VK Lvi Praha B 2:1 (-19\,22\,10)
DTSTART;TZID=Europe/Berlin:20260307T110000
DTEND;TZID=Europe/Berlin:20260307T130000
LOCATION:Tělocvična ZŠ\, Španielova 1111 Praha - Řepy
SUMMARY:PP-U18Z-5-B: SK Kometa Praha B-VK Lvi Praha B
END:VEVENT
BEGIN:VEVENT
UID:62613335-6461-4235-b461-336536393334
DTSTAMP:20260423T050034Z
DESCRIPTION:1/1 SC Braník - SK Kometa Praha B 2:1 (-21\,23\,6)
DTSTART;TZID=Europe/Berlin:20260307T090000
DTEND;TZID=Europe/Berlin:20260307T110000
LOCATION:Tělocvična ZŠ\, Španielova 1111 Praha - Řepy
SUMMARY:PP-U18Z-5-B: SC Braník-SK Kometa Praha B
END:VEVENT
BEGIN:VEVENT
UID:36336535-3865-4166-b532-633934663633
DTSTAMP:20260423T050034Z
DESCRIPTION:5/5 Španielka A - SK Kometa Praha B 2:0 (15\,5)
DTSTART;TZID=Europe/Berlin:20260307T130000
DTEND;TZID=Europe/Berlin:20260307T150000
LOCATION:Tělocvična ZŠ\, Španielova 1111 Praha - Řepy
SUMMARY:PP-U18Z-5-B: Španielka A-SK Kometa Praha B
END:VEVENT
BEGIN:VEVENT
UID:30353731-3135-4661-b130-646266663634
DTSTAMP:20260423T050034Z
DESCRIPTION:6/6 SK Kometa Praha B - Vršovice B 0:2 (-11\,-22)
DTSTART;TZID=Europe/Berlin:20260418T140000
DTEND;TZID=Europe/Berlin:20260418T160000
LOCATION:Tělocvična ZŠ Na Šutce\, Na Šutce 440 Praha - Troja
SUMMARY:PP-U18Z-6-B: SK Kometa Praha B-Vršovice B
END:VEVENT
BEGIN:VEVENT
UID:35356333-3235-4134-a137-623134373435
DTSTAMP:20260423T050034Z
DESCRIPTION:2/2 Španielka A - SK Kometa Praha B 2:0 (14\,21)
DTSTART;TZID=Europe/Berlin:20260418T100000
DTEND;TZID=Europe/Berlin:20260418T120000
LOCATION:Tělocvična ZŠ Na Šutce\, Na Šutce 440 Praha - Troja
SUMMARY:PP-U18Z-6-B: Španielka A-SK Kometa Praha B
END:VEVENT
BEGIN:VEVENT
UID:32633931-3566-4236-a538-646433313765
DTSTAMP:20260423T050034Z
DESCRIPTION:3/3 Střešovice C - SK Kometa Praha B 2:0 (18\,20)
DTSTART;TZID=Europe/Berlin:20260418T110000
DTEND;TZID=Europe/Berlin:20260418T130000
LOCATION:Tělocvična ZŠ Na Šutce\, Na Šutce 440 Praha - Troja
SUMMARY:PP-U18Z-6-B: Střešovice C-SK Kometa Praha B
END:VEVENT
BEGIN:VEVENT
UID:38303564-3766-4338-b634-343063393832
DTSTAMP:20260423T050034Z
DESCRIPTION:2/4 SK Kometa Praha B - Radotín 0:2 (-17\,-25)
DTSTART;TZID=Europe/Berlin:20260411T113000
DTEND;TZID=Europe/Berlin:20260411T133000
LOCATION:, U starého stadiónu 1585 Praha - Radotín
SUMMARY:CP-U18Z-4C: SK Kometa Praha B-Radotín
END:VEVENT
BEGIN:VEVENT
UID:66646439-3830-4663-b837-663366653961
DTSTAMP:20260423T050034Z
DESCRIPTION:3/9 SK Kometa Praha B - TJ Šumperk 0:2 (-15\,-25)
DTSTART;TZID=Europe/Berlin:20260411T143000
DTEND;TZID=Europe/Berlin:20260411T163000
LOCATION:, U starého stadiónu 1585 Praha - Radotín
SUMMARY:CP-U18Z-4C: SK Kometa Praha B-TJ Šumperk
END:VEVENT
BEGIN:VEVENT
UID:33376634-6164-4962-a331-623538366430
DTSTAMP:20260423T050034Z
DESCRIPTION:1/2 SK Třebín - SK Kometa Praha B 2:0 (18\,20)
DTSTART;TZID=Europe/Berlin:20260411T100000
DTEND;TZID=Europe/Berlin:20260411T120000
LOCATION:, U starého stadiónu 1585 Praha - Radotín
SUMMARY:CP-U18Z-4C: SK Třebín-SK Kometa Praha B
END:VEVENT
BEGIN:VEVENT
UID:36363330-3561-4239-b261-376263303763
DTSTAMP:20260423T050034Z
DESCRIPTION:4/12 Volejbalový klub Tuchlovice z.s. - SK Kometa Praha B 2:0 (
 20\,17)
DTSTART;TZID=Europe/Berlin:20260411T163000
DTEND;TZID=Europe/Berlin:20260411T183000
LOCATION:, U starého stadiónu 1585 Praha - Radotín
SUMMARY:CP-U18Z-4C: Volejbalový klub Tuchlovice z.s.-SK Kometa Praha B
END:VEVENT
BEGIN:VEVENT
UID:32613563-3633-4464-a365-633664346631
DTSTAMP:20260423T050034Z
DESCRIPTION:6/18 Tělovýchovná jednota SLAVIA Liberec\, z.s. - SK Kometa Pra
 ha B 0:2 (-16\,-20)
DTSTART;TZID=Europe/Berlin:20260412T103000
DTEND;TZID=Europe/Berlin:20260412T123000
LOCATION:, U starého stadiónu 1585 Praha - Radotín
SUMMARY:CP-U18Z-4C: Tělovýchovná jednota SLAVIA Liberec\, z.s.-SK Kometa Pr
 aha B
END:VEVENT
BEGIN:VEVENT
UID:36666637-6165-4539-b433-646535333730
DTSTAMP:20260423T050034Z
DESCRIPTION:7/21 Tělocvičná jednota Sokol Česká Třebová - SK Kometa Praha B
  0:2 (-19\,-23)
DTSTART;TZID=Europe/Berlin:20260412T120000
DTEND;TZID=Europe/Berlin:20260412T140000
LOCATION:, U starého stadiónu 1585 Praha - Radotín
SUMMARY:CP-U18Z-4C: Tělocvičná jednota Sokol Česká Třebová-SK Kometa Praha 
 B
END:VEVENT
END:VCALENDAR
