BEGIN:VCALENDAR
VERSION:2.0
PRODID:-//Radotín90842//NONSGML kigkonsult.se iCalcreator 2.41.80//
CALSCALE:GREGORIAN
UID:66623265-6439-4061-b931-366461363863
BEGIN:VEVENT
UID:61373737-3935-4136-b734-353434666235
DTSTAMP:20260421T210102Z
DESCRIPTION:6/6 Radotín - Orion Praha B 0:2 (-10\,-12)
DTSTART;TZID=Europe/Berlin:20250920T140000
DTEND;TZID=Europe/Berlin:20250920T160000
LOCATION:Tělocvična ZŠ Na Šutce\, Na Šutce 440 Praha - Troja
SUMMARY:PP-U22Z-Q-A: Radotín-Orion Praha B
END:VEVENT
BEGIN:VEVENT
UID:38663737-3562-4563-b463-646561663239
DTSTAMP:20260421T210102Z
DESCRIPTION:2/2 SK Dansport Praha\, z.s. - Radotín 2:0 (13\,11)
DTSTART;TZID=Europe/Berlin:20250920T100000
DTEND;TZID=Europe/Berlin:20250920T120000
LOCATION:Tělocvična ZŠ Na Šutce\, Na Šutce 440 Praha - Troja
SUMMARY:PP-U22Z-Q-A: SK Dansport Praha\, z.s.-Radotín
END:VEVENT
BEGIN:VEVENT
UID:38343336-6365-4032-b131-633235653162
DTSTAMP:20260421T210102Z
DESCRIPTION:3/3 SK Kometa Praha A - Radotín 2:0 (9\,14)
DTSTART;TZID=Europe/Berlin:20250920T110000
DTEND;TZID=Europe/Berlin:20250920T130000
LOCATION:Tělocvična ZŠ Na Šutce\, Na Šutce 440 Praha - Troja
SUMMARY:PP-U22Z-Q-A: SK Kometa Praha A-Radotín
END:VEVENT
BEGIN:VEVENT
UID:66333939-3563-4435-b132-666531333736
DTSTAMP:20260421T210102Z
DESCRIPTION:3/3 Radotín - Španielka 0:2 (-22\,-7)
DTSTART;TZID=Europe/Berlin:20251011T110000
DTEND;TZID=Europe/Berlin:20251011T130000
LOCATION:Tělocvična ZŠ\, Španielova 1111 Praha - Řepy
SUMMARY:PP-U22Z-1-B: Radotín-Španielka
END:VEVENT
BEGIN:VEVENT
UID:65653161-3138-4836-b837-326132616430
DTSTAMP:20260421T210102Z
DESCRIPTION:1/1 SK Dansport Praha\, z.s. - Radotín 2:0 (12\,19)
DTSTART;TZID=Europe/Berlin:20251011T090000
DTEND;TZID=Europe/Berlin:20251011T110000
LOCATION:Tělocvična ZŠ\, Španielova 1111 Praha - Řepy
SUMMARY:PP-U22Z-1-B: SK Dansport Praha\, z.s.-Radotín
END:VEVENT
BEGIN:VEVENT
UID:32643262-6438-4166-b064-653261643064
DTSTAMP:20260421T210102Z
DESCRIPTION:5/5 SK Kometa Praha B - Radotín 2:0 (19\,20)
DTSTART;TZID=Europe/Berlin:20251011T130000
DTEND;TZID=Europe/Berlin:20251011T150000
LOCATION:Tělocvična ZŠ\, Španielova 1111 Praha - Řepy
SUMMARY:PP-U22Z-1-B: SK Kometa Praha B-Radotín
END:VEVENT
BEGIN:VEVENT
UID:66633932-3230-4465-a661-396164333034
DTSTAMP:20260421T210102Z
DESCRIPTION:3/3 Radotín - SK Kometa Praha B 0:2 (-11\,-18)
DTSTART;TZID=Europe/Berlin:20251108T110000
DTEND;TZID=Europe/Berlin:20251108T130000
LOCATION:Tělocvična ZŠ\, Španielova 1111 Praha - Řepy
SUMMARY:PP-U22Z-2-B: Radotín-SK Kometa Praha B
END:VEVENT
BEGIN:VEVENT
UID:65633961-3736-4961-a265-363536326431
DTSTAMP:20260421T210102Z
DESCRIPTION:1/1 SK Kometa Praha A - Radotín 2:0 (12\,7)
DTSTART;TZID=Europe/Berlin:20251108T090000
DTEND;TZID=Europe/Berlin:20251108T110000
LOCATION:Tělocvična ZŠ\, Španielova 1111 Praha - Řepy
SUMMARY:PP-U22Z-2-B: SK Kometa Praha A-Radotín
END:VEVENT
BEGIN:VEVENT
UID:35346230-3665-4134-b532-366665396463
DTSTAMP:20260421T210102Z
DESCRIPTION:5/5 SK Dansport Praha\, z.s. - Radotín 2:0 (12\,22)
DTSTART;TZID=Europe/Berlin:20251108T130000
DTEND;TZID=Europe/Berlin:20251108T150000
LOCATION:Tělocvična ZŠ\, Španielova 1111 Praha - Řepy
SUMMARY:PP-U22Z-2-B: SK Dansport Praha\, z.s.-Radotín
END:VEVENT
BEGIN:VEVENT
UID:36326163-3938-4537-b961-333134393861
DTSTAMP:20260421T210102Z
DESCRIPTION:3/3 Radotín - SK Kometa Praha B 0:2 (-20\,-12)
DTSTART;TZID=Europe/Berlin:20251129T110000
DTEND;TZID=Europe/Berlin:20251129T130000
LOCATION:Sportovní hala Gymnázia Jana Keplera\, Parléřova 118 Praha - Hradč
 any
SUMMARY:PP-U22Z-3-B: Radotín-SK Kometa Praha B
END:VEVENT
BEGIN:VEVENT
UID:37613666-6564-4261-b762-643733626135
DTSTAMP:20260421T210102Z
DESCRIPTION:1/1 Španielka - Radotín 2:0 (19\,22)
DTSTART;TZID=Europe/Berlin:20251129T090000
DTEND;TZID=Europe/Berlin:20251129T110000
LOCATION:Sportovní hala Gymnázia Jana Keplera\, Parléřova 118 Praha - Hradč
 any
SUMMARY:PP-U22Z-3-B: Španielka-Radotín
END:VEVENT
BEGIN:VEVENT
UID:30653833-3330-4761-a563-316431616339
DTSTAMP:20260421T210102Z
DESCRIPTION:5/5 SK Dansport Praha\, z.s. - Radotín 2:0 (18\,13)
DTSTART;TZID=Europe/Berlin:20251129T130000
DTEND;TZID=Europe/Berlin:20251129T150000
LOCATION:Sportovní hala Gymnázia Jana Keplera\, Parléřova 118 Praha - Hradč
 any
SUMMARY:PP-U22Z-3-B: SK Dansport Praha\, z.s.-Radotín
END:VEVENT
BEGIN:VEVENT
UID:63336466-6166-4737-a633-373330333165
DTSTAMP:20260421T210102Z
DESCRIPTION:2/3 Radotín - Španielka 0:2 (-15\,-18)
DTSTART;TZID=Europe/Berlin:20260117T110000
DTEND;TZID=Europe/Berlin:20260117T130000
LOCATION:FZŠ Mezi Školami\, Mezi školami 2322 Praha - Stodůlky
SUMMARY:PP-U22Z-4-B: Radotín-Španielka
END:VEVENT
BEGIN:VEVENT
UID:38663530-6330-4432-b663-363164376436
DTSTAMP:20260421T210102Z
DESCRIPTION:1/1 SAVO - Radotín 2:0 (1\,12)
DTSTART;TZID=Europe/Berlin:20260117T090000
DTEND;TZID=Europe/Berlin:20260117T110000
LOCATION:FZŠ Mezi Školami\, Mezi školami 2322 Praha - Stodůlky
SUMMARY:PP-U22Z-4-B: SAVO-Radotín
END:VEVENT
BEGIN:VEVENT
UID:66633635-3537-4133-b438-336135353530
DTSTAMP:20260421T210102Z
DESCRIPTION:3/5 SK Kometa Praha B - Radotín 2:1 (-23\,14\,10)
DTSTART;TZID=Europe/Berlin:20260117T120000
DTEND;TZID=Europe/Berlin:20260117T140000
LOCATION:FZŠ Mezi Školami\, Mezi školami 2322 Praha - Stodůlky
SUMMARY:PP-U22Z-4-B: SK Kometa Praha B-Radotín
END:VEVENT
BEGIN:VEVENT
UID:31646466-3463-4662-b637-383338373761
DTSTAMP:20260421T210102Z
DESCRIPTION:3/3 Radotín - SK Kometa Praha B 0:2 (-8\,-23)
DTSTART;TZID=Europe/Berlin:20260307T110000
DTEND;TZID=Europe/Berlin:20260307T130000
LOCATION:Tělocvična ZŠ\, Španielova 1111 Praha - Řepy
SUMMARY:PP-U22Z-5-B: Radotín-SK Kometa Praha B
END:VEVENT
BEGIN:VEVENT
UID:32373039-3634-4738-b338-333139633866
DTSTAMP:20260421T210102Z
DESCRIPTION:1/1 Orion Praha B - Radotín 2:0 (16\,9)
DTSTART;TZID=Europe/Berlin:20260307T090000
DTEND;TZID=Europe/Berlin:20260307T110000
LOCATION:Tělocvična ZŠ\, Španielova 1111 Praha - Řepy
SUMMARY:PP-U22Z-5-B: Orion Praha B-Radotín
END:VEVENT
BEGIN:VEVENT
UID:61663736-3765-4465-b036-663364633862
DTSTAMP:20260421T210102Z
DESCRIPTION:5/5 Španielka - Radotín 2:0 (20\,21)
DTSTART;TZID=Europe/Berlin:20260307T130000
DTEND;TZID=Europe/Berlin:20260307T150000
LOCATION:Tělocvična ZŠ\, Španielova 1111 Praha - Řepy
SUMMARY:PP-U22Z-5-B: Španielka-Radotín
END:VEVENT
BEGIN:VEVENT
UID:61366439-3234-4266-b763-356430653032
DTSTAMP:20260421T210102Z
DESCRIPTION:2/3 Radotín - SK Kometa Praha B 1:2 (-19\,19\,-11)
DTSTART;TZID=Europe/Berlin:20260418T100000
DTEND;TZID=Europe/Berlin:20260418T120000
LOCATION:Sportovní hala Radotín\, U starého stadiónu 1585 Praha - Radotín
SUMMARY:PP-U22Z-6-B: Radotín-SK Kometa Praha B
END:VEVENT
BEGIN:VEVENT
UID:32306633-6435-4239-b765-666337313466
DTSTAMP:20260421T210102Z
DESCRIPTION:1/1 SK Dansport Praha\, z.s. - Radotín 2:1 (9\,-20\,10)
DTSTART;TZID=Europe/Berlin:20260418T090000
DTEND;TZID=Europe/Berlin:20260418T110000
LOCATION:Sportovní hala Radotín\, U starého stadiónu 1585 Praha - Radotín
SUMMARY:PP-U22Z-6-B: SK Dansport Praha\, z.s.-Radotín
END:VEVENT
BEGIN:VEVENT
UID:32633366-3639-4632-a235-613165663265
DTSTAMP:20260421T210102Z
DESCRIPTION:3/5 Španielka - Radotín 2:0 (12\,7)
DTSTART;TZID=Europe/Berlin:20260418T110000
DTEND;TZID=Europe/Berlin:20260418T130000
LOCATION:Sportovní hala Radotín\, U starého stadiónu 1585 Praha - Radotín
SUMMARY:PP-U22Z-6-B: Španielka-Radotín
END:VEVENT
END:VCALENDAR
