BEGIN:VCALENDAR
VERSION:2.0
PRODID:-//Sokol HP B90848//NONSGML kigkonsult.se iCalcreator 2.41.80//
CALSCALE:GREGORIAN
UID:32623963-6434-4363-a138-356439303437
BEGIN:VEVENT
UID:30393732-6361-4438-b332-376563353731
DTSTAMP:20260422T202234Z
DESCRIPTION:5/9 Sokol HP B - Vršovice B 0:2 (-22\,-16)
DTSTART;TZID=Europe/Berlin:20250907T130000
DTEND;TZID=Europe/Berlin:20250907T150000
LOCATION:Sportovní hala Horní Počernice TěloCvič!\, Jívanská 3226 Praha - H
 orní Počernice
SUMMARY:PP-U16Z-Q1-D: Sokol HP B-Vršovice B
END:VEVENT
BEGIN:VEVENT
UID:31313363-3731-4836-b634-666532303363
DTSTAMP:20260422T202234Z
DESCRIPTION:6/11 Sokol HP B - SK JOKY Újezd 0:2 (-17\,-13)
DTSTART;TZID=Europe/Berlin:20250907T140000
DTEND;TZID=Europe/Berlin:20250907T160000
LOCATION:Sportovní hala Horní Počernice TěloCvič!\, Jívanská 3226 Praha - H
 orní Počernice
SUMMARY:PP-U16Z-Q1-D: Sokol HP B-SK JOKY Újezd
END:VEVENT
BEGIN:VEVENT
UID:36666434-3334-4037-b963-636366323962
DTSTAMP:20260422T202234Z
DESCRIPTION:2/3 SK Kometa Praha D - Sokol HP B 0:2 (-4\,-13)
DTSTART;TZID=Europe/Berlin:20250907T100000
DTEND;TZID=Europe/Berlin:20250907T120000
LOCATION:Sportovní hala Horní Počernice TěloCvič!\, Jívanská 3226 Praha - H
 orní Počernice
SUMMARY:PP-U16Z-Q1-D: SK Kometa Praha D-Sokol HP B
END:VEVENT
BEGIN:VEVENT
UID:33653535-3366-4139-b039-303966333839
DTSTAMP:20260422T202234Z
DESCRIPTION:3/5 SK Slavia Praha  A - Sokol HP B 2:0 (10\,9)
DTSTART;TZID=Europe/Berlin:20250907T110000
DTEND;TZID=Europe/Berlin:20250907T130000
LOCATION:Sportovní hala Horní Počernice TěloCvič!\, Jívanská 3226 Praha - H
 orní Počernice
SUMMARY:PP-U16Z-Q1-D: SK Slavia Praha  A-Sokol HP B
END:VEVENT
BEGIN:VEVENT
UID:35663162-6434-4632-b866-633866343531
DTSTAMP:20260422T202234Z
DESCRIPTION:7/13 SK Španielka Řepy A - Sokol HP B 2:0 (12\,19)
DTSTART;TZID=Europe/Berlin:20250907T150000
DTEND;TZID=Europe/Berlin:20250907T170000
LOCATION:Sportovní hala Horní Počernice TěloCvič!\, Jívanská 3226 Praha - H
 orní Počernice
SUMMARY:PP-U16Z-Q1-D: SK Španielka Řepy A-Sokol HP B
END:VEVENT
BEGIN:VEVENT
UID:65386136-3162-4436-b962-373062373430
DTSTAMP:20260422T202234Z
DESCRIPTION:2/2 Sokol HP B - SK Meteor Praha B 2:0 (17\,23)
DTSTART;TZID=Europe/Berlin:20251005T093000
DTEND;TZID=Europe/Berlin:20251005T113000
LOCATION:Sportovní hala Horní Počernice TěloCvič!\, Jívanská 3226 Praha - H
 orní Počernice
SUMMARY:PP-U16Z-Q2-J: Sokol HP B-SK Meteor Praha B
END:VEVENT
BEGIN:VEVENT
UID:66393535-3332-4531-b164-333366626564
DTSTAMP:20260422T202234Z
DESCRIPTION:3/3 Sokol HP B - SK Kometa Praha E 1:2 (18\,-19\,-11)
DTSTART;TZID=Europe/Berlin:20251005T103000
DTEND;TZID=Europe/Berlin:20251005T123000
LOCATION:Sportovní hala Horní Počernice TěloCvič!\, Jívanská 3226 Praha - H
 orní Počernice
SUMMARY:PP-U16Z-Q2-J: Sokol HP B-SK Kometa Praha E
END:VEVENT
BEGIN:VEVENT
UID:66366135-3961-4439-a663-623531666234
DTSTAMP:20260422T202234Z
DESCRIPTION:6/6 SAVO - Sokol HP B 2:1 (14\,-22\,10)
DTSTART;TZID=Europe/Berlin:20251005T123000
DTEND;TZID=Europe/Berlin:20251005T143000
LOCATION:Sportovní hala Horní Počernice TěloCvič!\, Jívanská 3226 Praha - H
 orní Počernice
SUMMARY:PP-U16Z-Q2-J: SAVO-Sokol HP B
END:VEVENT
BEGIN:VEVENT
UID:31643037-3832-4838-a536-356236336566
DTSTAMP:20260422T202234Z
DESCRIPTION:3/3 Sokol HP B - SK Dansport Praha B 0:2 (-18\,-26)
DTSTART;TZID=Europe/Berlin:20251102T100000
DTEND;TZID=Europe/Berlin:20251102T120000
LOCATION:Sportovní hala Horní Počernice TěloCvič!\, Jívanská 3226 Praha - H
 orní Počernice
SUMMARY:PP-U16Z-1-H: Sokol HP B-SK Dansport Praha B
END:VEVENT
BEGIN:VEVENT
UID:65663636-6130-4434-a461-613237616539
DTSTAMP:20260422T202234Z
DESCRIPTION:1/1 Mikulova C - Sokol HP B 2:0 (14\,9)
DTSTART;TZID=Europe/Berlin:20251102T090000
DTEND;TZID=Europe/Berlin:20251102T110000
LOCATION:Sportovní hala Horní Počernice TěloCvič!\, Jívanská 3226 Praha - H
 orní Počernice
SUMMARY:PP-U16Z-1-H: Mikulova C-Sokol HP B
END:VEVENT
BEGIN:VEVENT
UID:39326639-6238-4339-b963-343839323937
DTSTAMP:20260422T202234Z
DESCRIPTION:4/4 SAVO - Sokol HP B 1:2 (16\,-14\,-10)
DTSTART;TZID=Europe/Berlin:20251102T110000
DTEND;TZID=Europe/Berlin:20251102T130000
LOCATION:Sportovní hala Horní Počernice TěloCvič!\, Jívanská 3226 Praha - H
 orní Počernice
SUMMARY:PP-U16Z-1-H: SAVO-Sokol HP B
END:VEVENT
BEGIN:VEVENT
UID:39346537-6131-4432-b137-656366333338
DTSTAMP:20260422T202234Z
DESCRIPTION:3/6 Sokol HP B - Mikulova D 2:0 (19\,22)
DTSTART;TZID=Europe/Berlin:20251123T120000
DTEND;TZID=Europe/Berlin:20251123T140000
LOCATION:SKŠ ZŠ Mikulova Praha\, Mikulova 1594 Praha - Chodov
SUMMARY:PP-U16Z-2-H: Sokol HP B-Mikulova D
END:VEVENT
BEGIN:VEVENT
UID:39643030-3565-4537-b034-316262373032
DTSTAMP:20260422T202234Z
DESCRIPTION:1/2 SK Dansport Praha B - Sokol HP B 2:0 (18\,20)
DTSTART;TZID=Europe/Berlin:20251123T100000
DTEND;TZID=Europe/Berlin:20251123T120000
LOCATION:SKŠ ZŠ Mikulova Praha\, Mikulova 1594 Praha - Chodov
SUMMARY:PP-U16Z-2-H: SK Dansport Praha B-Sokol HP B
END:VEVENT
BEGIN:VEVENT
UID:34383138-3530-4130-b436-336139323535
DTSTAMP:20260422T202234Z
DESCRIPTION:2/3 SK Kometa Praha E - Sokol HP B 2:0 (12\,12)
DTSTART;TZID=Europe/Berlin:20251123T110000
DTEND;TZID=Europe/Berlin:20251123T130000
LOCATION:SKŠ ZŠ Mikulova Praha\, Mikulova 1594 Praha - Chodov
SUMMARY:PP-U16Z-2-H: SK Kometa Praha E-Sokol HP B
END:VEVENT
BEGIN:VEVENT
UID:62343464-6162-4965-b334-353832333061
DTSTAMP:20260422T202234Z
DESCRIPTION:3/5 Sokol HP B - Wizards DDM Praha 10 0:2 (-26\,-20)
DTSTART;TZID=Europe/Berlin:20251207T110000
DTEND;TZID=Europe/Berlin:20251207T130000
LOCATION:Sportovní hala Horní Počernice TěloCvič!\, Jívanská 3226 Praha - H
 orní Počernice
SUMMARY:PP-U16Z-3-H: Sokol HP B-Wizards DDM Praha 10
END:VEVENT
BEGIN:VEVENT
UID:62393338-6239-4633-b038-626462366639
DTSTAMP:20260422T202234Z
DESCRIPTION:1/2 SK Dansport Praha B - Sokol HP B 2:1 (-16\,19\,13)
DTSTART;TZID=Europe/Berlin:20251207T090000
DTEND;TZID=Europe/Berlin:20251207T110000
LOCATION:Sportovní hala Horní Počernice TěloCvič!\, Jívanská 3226 Praha - H
 orní Počernice
SUMMARY:PP-U16Z-3-H: SK Dansport Praha B-Sokol HP B
END:VEVENT
BEGIN:VEVENT
UID:63393439-3630-4233-b333-393735383831
DTSTAMP:20260422T202234Z
DESCRIPTION:2/3 SK Španielka Řepy B - Sokol HP B 2:0 (22\,18)
DTSTART;TZID=Europe/Berlin:20251207T100000
DTEND;TZID=Europe/Berlin:20251207T120000
LOCATION:Sportovní hala Horní Počernice TěloCvič!\, Jívanská 3226 Praha - H
 orní Počernice
SUMMARY:PP-U16Z-3-H: SK Španielka Řepy B-Sokol HP B
END:VEVENT
BEGIN:VEVENT
UID:39363735-6461-4834-b834-303533303332
DTSTAMP:20260422T202234Z
DESCRIPTION:1/2 Sokol HP B - SK Meteor Praha B 0:2 (-22\,-16)
DTSTART;TZID=Europe/Berlin:20260111T100000
DTEND;TZID=Europe/Berlin:20260111T120000
LOCATION:Sokol Bubeneč\, Korunovační 630 Praha - Bubeneč
SUMMARY:PP-U16Z-4-I: Sokol HP B-SK Meteor Praha B
END:VEVENT
BEGIN:VEVENT
UID:62376337-3766-4236-a236-623161333063
DTSTAMP:20260422T202234Z
DESCRIPTION:2/5 Sokol HP B - SK Meteor Praha B 0:2 (-22\,-17)
DTSTART;TZID=Europe/Berlin:20260111T130000
DTEND;TZID=Europe/Berlin:20260111T150000
LOCATION:Sokol Bubeneč\, Korunovační 630 Praha - Bubeneč
SUMMARY:PP-U16Z-4-I: Sokol HP B-SK Meteor Praha B
END:VEVENT
BEGIN:VEVENT
UID:35366661-6532-4637-a564-393133363063
DTSTAMP:20260422T202234Z
DESCRIPTION:1/3 SAVO - Sokol HP B 1:2 (-24\,24\,-10)
DTSTART;TZID=Europe/Berlin:20260111T110000
DTEND;TZID=Europe/Berlin:20260111T130000
LOCATION:Sokol Bubeneč\, Korunovační 630 Praha - Bubeneč
SUMMARY:PP-U16Z-4-I: SAVO-Sokol HP B
END:VEVENT
BEGIN:VEVENT
UID:63633761-3637-4665-b137-383038313231
DTSTAMP:20260422T202234Z
DESCRIPTION:2/6 SAVO - Sokol HP B 1:2 (-21\,17\,-10)
DTSTART;TZID=Europe/Berlin:20260111T140000
DTEND;TZID=Europe/Berlin:20260111T160000
LOCATION:Sokol Bubeneč\, Korunovační 630 Praha - Bubeneč
SUMMARY:PP-U16Z-4-I: SAVO-Sokol HP B
END:VEVENT
BEGIN:VEVENT
UID:33633764-6435-4237-a135-303761316563
DTSTAMP:20260422T202234Z
DESCRIPTION:1/2 Sokol HP B - SK Kometa Praha D 2:0 (14\,19)
DTSTART;TZID=Europe/Berlin:20260125T100000
DTEND;TZID=Europe/Berlin:20260125T120000
LOCATION:Sokol Bubeneč\, Korunovační 630 Praha - Bubeneč
SUMMARY:PP-U16Z-5-J: Sokol HP B-SK Kometa Praha D
END:VEVENT
BEGIN:VEVENT
UID:64356561-3633-4235-b138-393836396137
DTSTAMP:20260422T202234Z
DESCRIPTION:2/5 Sokol HP B - SK Kometa Praha D 2:0 (15\,16)
DTSTART;TZID=Europe/Berlin:20260125T130000
DTEND;TZID=Europe/Berlin:20260125T150000
LOCATION:Sokol Bubeneč\, Korunovační 630 Praha - Bubeneč
SUMMARY:PP-U16Z-5-J: Sokol HP B-SK Kometa Praha D
END:VEVENT
BEGIN:VEVENT
UID:38626135-6538-4862-a363-393461346461
DTSTAMP:20260422T202234Z
DESCRIPTION:1/3 SK Meteor Praha C - Sokol HP B 0:2 (-5\,-12)
DTSTART;TZID=Europe/Berlin:20260125T110000
DTEND;TZID=Europe/Berlin:20260125T130000
LOCATION:Sokol Bubeneč\, Korunovační 630 Praha - Bubeneč
SUMMARY:PP-U16Z-5-J: SK Meteor Praha C-Sokol HP B
END:VEVENT
BEGIN:VEVENT
UID:66303130-3763-4732-a461-386232323965
DTSTAMP:20260422T202234Z
DESCRIPTION:2/6 SK Meteor Praha C - Sokol HP B 0:2 (-12\,-5)
DTSTART;TZID=Europe/Berlin:20260125T140000
DTEND;TZID=Europe/Berlin:20260125T160000
LOCATION:Sokol Bubeneč\, Korunovační 630 Praha - Bubeneč
SUMMARY:PP-U16Z-5-J: SK Meteor Praha C-Sokol HP B
END:VEVENT
BEGIN:VEVENT
UID:64623964-3762-4336-a536-346665623662
DTSTAMP:20260422T202234Z
DESCRIPTION:1/3 Sokol HP B - SK Meteor Praha B 2:0 (14\,15)
DTSTART;TZID=Europe/Berlin:20260315T110000
DTEND;TZID=Europe/Berlin:20260315T130000
LOCATION:ZŠ Žernosecká\, Žernosecká 1597 Praha - Kobylisy
SUMMARY:PP-U16Z-6-I: Sokol HP B-SK Meteor Praha B
END:VEVENT
BEGIN:VEVENT
UID:63303432-3431-4564-b737-653536363732
DTSTAMP:20260422T202234Z
DESCRIPTION:2/6 Sokol HP B - SK Meteor Praha B 2:1 (20\,-16\,3)
DTSTART;TZID=Europe/Berlin:20260315T140000
DTEND;TZID=Europe/Berlin:20260315T160000
LOCATION:ZŠ Žernosecká\, Žernosecká 1597 Praha - Kobylisy
SUMMARY:PP-U16Z-6-I: Sokol HP B-SK Meteor Praha B
END:VEVENT
BEGIN:VEVENT
UID:34646461-3137-4562-b938-353564323265
DTSTAMP:20260422T202234Z
DESCRIPTION:1/1 VK Lvi Praha C - Sokol HP B 1:2 (-14\,22\,-14)
DTSTART;TZID=Europe/Berlin:20260315T090000
DTEND;TZID=Europe/Berlin:20260315T110000
LOCATION:ZŠ Žernosecká\, Žernosecká 1597 Praha - Kobylisy
SUMMARY:PP-U16Z-6-I: VK Lvi Praha C-Sokol HP B
END:VEVENT
BEGIN:VEVENT
UID:34636336-3635-4765-b061-323265623631
DTSTAMP:20260422T202234Z
DESCRIPTION:2/4 VK Lvi Praha C - Sokol HP B 1:2 (18\,-18\,-11)
DTSTART;TZID=Europe/Berlin:20260315T120000
DTEND;TZID=Europe/Berlin:20260315T140000
LOCATION:ZŠ Žernosecká\, Žernosecká 1597 Praha - Kobylisy
SUMMARY:PP-U16Z-6-I: VK Lvi Praha C-Sokol HP B
END:VEVENT
END:VCALENDAR
