BEGIN:VCALENDAR
VERSION:2.0
PRODID:-//Střešovice B90861//NONSGML kigkonsult.se iCalcreator 2.41.80//
CALSCALE:GREGORIAN
UID:36313065-3363-4238-b866-323864333331
BEGIN:VEVENT
UID:35366464-6332-4335-b530-643764306438
DTSTAMP:20260422T183004Z
DESCRIPTION:1/2 Střešovice B - SK Kometa Praha B 2:0 (11\,10)
DTSTART;TZID=Europe/Berlin:20250921T090000
DTEND;TZID=Europe/Berlin:20250921T110000
LOCATION:Tělocvična ZŠ\, Španielova 1111 Praha - Řepy
SUMMARY:PP-U20Z-Q-A: Střešovice B-SK Kometa Praha B
END:VEVENT
BEGIN:VEVENT
UID:64316634-3531-4539-a163-633630646631
DTSTAMP:20260422T183004Z
DESCRIPTION:4/8 Střešovice B - Braník 0:2 (-11\,-10)
DTSTART;TZID=Europe/Berlin:20250921T120000
DTEND;TZID=Europe/Berlin:20250921T140000
LOCATION:Tělocvična ZŠ\, Španielova 1111 Praha - Řepy
SUMMARY:PP-U20Z-Q-A: Střešovice B-Braník
END:VEVENT
BEGIN:VEVENT
UID:35653536-3631-4236-a136-343937386439
DTSTAMP:20260422T183004Z
DESCRIPTION:2/4 Radotín - Střešovice B 0:2 (-13\,-15)
DTSTART;TZID=Europe/Berlin:20250921T100000
DTEND;TZID=Europe/Berlin:20250921T120000
LOCATION:Tělocvična ZŠ\, Španielova 1111 Praha - Řepy
SUMMARY:PP-U20Z-Q-A: Radotín-Střešovice B
END:VEVENT
BEGIN:VEVENT
UID:61383538-3264-4434-a435-316130363736
DTSTAMP:20260422T183004Z
DESCRIPTION:3/6 Španielka - Střešovice B 1:2 (-19\,13\,-13)
DTSTART;TZID=Europe/Berlin:20250921T110000
DTEND;TZID=Europe/Berlin:20250921T130000
LOCATION:Tělocvična ZŠ\, Španielova 1111 Praha - Řepy
SUMMARY:PP-U20Z-Q-A: Španielka-Střešovice B
END:VEVENT
BEGIN:VEVENT
UID:32386135-6466-4434-a431-313534393065
DTSTAMP:20260422T183004Z
DESCRIPTION:6/6 Střešovice B - VK Lvi Praha B 0:2 (-19\,-17)
DTSTART;TZID=Europe/Berlin:20251012T140000
DTEND;TZID=Europe/Berlin:20251012T160000
LOCATION:ZŠ Dolní Břežany\, Na Vršku 290 Dolní Břežany
SUMMARY:PP-U20Z-1-B: Střešovice B-VK Lvi Praha B
END:VEVENT
BEGIN:VEVENT
UID:63646635-3733-4939-b939-633964653266
DTSTAMP:20260422T183004Z
DESCRIPTION:2/2 Orion Praha C - Střešovice B 2:1 (17\,-23\,12)
DTSTART;TZID=Europe/Berlin:20251012T100000
DTEND;TZID=Europe/Berlin:20251012T120000
LOCATION:ZŠ Dolní Břežany\, Na Vršku 290 Dolní Břežany
SUMMARY:PP-U20Z-1-B: Orion Praha C-Střešovice B
END:VEVENT
BEGIN:VEVENT
UID:66346465-3261-4831-b034-313039643431
DTSTAMP:20260422T183004Z
DESCRIPTION:3/3 Sokol HP - Střešovice B 2:0 (10\,29)
DTSTART;TZID=Europe/Berlin:20251012T110000
DTEND;TZID=Europe/Berlin:20251012T130000
LOCATION:ZŠ Dolní Břežany\, Na Vršku 290 Dolní Břežany
SUMMARY:PP-U20Z-1-B: Sokol HP-Střešovice B
END:VEVENT
BEGIN:VEVENT
UID:37633534-3633-4934-a265-353066323738
DTSTAMP:20260422T183004Z
DESCRIPTION:1/1 Střešovice B - Orion Praha B 2:1 (-23\,18\,10)
DTSTART;TZID=Europe/Berlin:20251109T090000
DTEND;TZID=Europe/Berlin:20251109T110000
LOCATION:Tělocvična ZŠ\, Španielova 1111 Praha - Řepy
SUMMARY:PP-U20Z-2-C: Střešovice B-Orion Praha B
END:VEVENT
BEGIN:VEVENT
UID:66613334-6462-4930-a431-653734333332
DTSTAMP:20260422T183004Z
DESCRIPTION:4/4 Střešovice B - Mikulova B 1:2 (-27\,21\,-10)
DTSTART;TZID=Europe/Berlin:20251109T120000
DTEND;TZID=Europe/Berlin:20251109T140000
LOCATION:Tělocvična ZŠ\, Španielova 1111 Praha - Řepy
SUMMARY:PP-U20Z-2-C: Střešovice B-Mikulova B
END:VEVENT
BEGIN:VEVENT
UID:64613962-6166-4835-a338-333262623336
DTSTAMP:20260422T183004Z
DESCRIPTION:6/6 Španielka - Střešovice B 1:2 (16\,-19\,-9)
DTSTART;TZID=Europe/Berlin:20251109T140000
DTEND;TZID=Europe/Berlin:20251109T160000
LOCATION:Tělocvična ZŠ\, Španielova 1111 Praha - Řepy
SUMMARY:PP-U20Z-2-C: Španielka-Střešovice B
END:VEVENT
BEGIN:VEVENT
UID:30666130-3262-4564-b935-326431363061
DTSTAMP:20260422T183004Z
DESCRIPTION:3/6 Střešovice B - Orion Praha C 2:0 (16\,10)
DTSTART;TZID=Europe/Berlin:20251130T110000
DTEND;TZID=Europe/Berlin:20251130T130000
LOCATION:ZŠ Dolní Břežany\, Na Vršku 290 Dolní Břežany
SUMMARY:PP-U20Z-3-C: Střešovice B-Orion Praha C
END:VEVENT
BEGIN:VEVENT
UID:35626337-6430-4134-b735-356263383333
DTSTAMP:20260422T183004Z
DESCRIPTION:1/2 Orion Praha B - Střešovice B 2:0 (22\,16)
DTSTART;TZID=Europe/Berlin:20251130T090000
DTEND;TZID=Europe/Berlin:20251130T110000
LOCATION:ZŠ Dolní Břežany\, Na Vršku 290 Dolní Břežany
SUMMARY:PP-U20Z-3-C: Orion Praha B-Střešovice B
END:VEVENT
BEGIN:VEVENT
UID:63363330-3132-4163-b462-376336306531
DTSTAMP:20260422T183004Z
DESCRIPTION:2/3 SK Slavia Praha - Střešovice B 2:1 (-23\,14\,7)
DTSTART;TZID=Europe/Berlin:20251130T100000
DTEND;TZID=Europe/Berlin:20251130T120000
LOCATION:ZŠ Dolní Břežany\, Na Vršku 290 Dolní Břežany
SUMMARY:PP-U20Z-3-C: SK Slavia Praha-Střešovice B
END:VEVENT
BEGIN:VEVENT
UID:65626363-3636-4463-a261-653934633565
DTSTAMP:20260422T183004Z
DESCRIPTION:3/6 Střešovice B - Mikulova B 0:2 (-21\,-24)
DTSTART;TZID=Europe/Berlin:20260118T110000
DTEND;TZID=Europe/Berlin:20260118T130000
LOCATION:SKŠ ZŠ Mikulova Praha\, Mikulova 1594 Praha - Chodov
SUMMARY:PP-U20Z-4-C: Střešovice B-Mikulova B
END:VEVENT
BEGIN:VEVENT
UID:32313164-6630-4135-b232-636438353465
DTSTAMP:20260422T183004Z
DESCRIPTION:1/2 SK Slavia Praha - Střešovice B 0:2 (-22\,-9)
DTSTART;TZID=Europe/Berlin:20260118T090000
DTEND;TZID=Europe/Berlin:20260118T110000
LOCATION:SKŠ ZŠ Mikulova Praha\, Mikulova 1594 Praha - Chodov
SUMMARY:PP-U20Z-4-C: SK Slavia Praha-Střešovice B
END:VEVENT
BEGIN:VEVENT
UID:66643866-6235-4835-b262-313038653833
DTSTAMP:20260422T183004Z
DESCRIPTION:2/3 Španielka - Střešovice B 2:0 (21\,24)
DTSTART;TZID=Europe/Berlin:20260118T100000
DTEND;TZID=Europe/Berlin:20260118T120000
LOCATION:SKŠ ZŠ Mikulova Praha\, Mikulova 1594 Praha - Chodov
SUMMARY:PP-U20Z-4-C: Španielka-Střešovice B
END:VEVENT
BEGIN:VEVENT
UID:66303166-3436-4961-b161-303639386430
DTSTAMP:20260422T183004Z
DESCRIPTION:6/6 Střešovice B - VK Lvi Praha B 0:2 (-24\,-19)
DTSTART;TZID=Europe/Berlin:20260308T140000
DTEND;TZID=Europe/Berlin:20260308T160000
LOCATION:Tělocvična ZŠ\, Španielova 1111 Praha - Řepy
SUMMARY:PP-U20Z-5-C: Střešovice B-VK Lvi Praha B
END:VEVENT
BEGIN:VEVENT
UID:39393135-6333-4334-b161-633230313139
DTSTAMP:20260422T183004Z
DESCRIPTION:2/2 Španielka - Střešovice B 1:2 (17\,-18\,-10)
DTSTART;TZID=Europe/Berlin:20260308T100000
DTEND;TZID=Europe/Berlin:20260308T120000
LOCATION:Tělocvična ZŠ\, Španielova 1111 Praha - Řepy
SUMMARY:PP-U20Z-5-C: Španielka-Střešovice B
END:VEVENT
BEGIN:VEVENT
UID:38393339-3135-4663-b465-623537666566
DTSTAMP:20260422T183004Z
DESCRIPTION:3/3 Orion Praha C - Střešovice B 2:1 (23\,-30\,7)
DTSTART;TZID=Europe/Berlin:20260308T110000
DTEND;TZID=Europe/Berlin:20260308T130000
LOCATION:Tělocvična ZŠ\, Španielova 1111 Praha - Řepy
SUMMARY:PP-U20Z-5-C: Orion Praha C-Střešovice B
END:VEVENT
BEGIN:VEVENT
UID:37383135-3762-4966-b538-346661393439
DTSTAMP:20260422T183004Z
DESCRIPTION:6/6 Střešovice B - SK Španielka Řepy - B 0:2 (-18\,-15)
DTSTART;TZID=Europe/Berlin:20260419T140000
DTEND;TZID=Europe/Berlin:20260419T160000
LOCATION:Tělocvična ZŠ\, Španielova 1111 Praha - Řepy
SUMMARY:PP-U20Z-6-C: Střešovice B-SK Španielka Řepy - B
END:VEVENT
BEGIN:VEVENT
UID:37613462-3266-4135-b231-343439306436
DTSTAMP:20260422T183004Z
DESCRIPTION:2/2 VK Lvi Praha B - Střešovice B 2:0 (24\,24)
DTSTART;TZID=Europe/Berlin:20260419T100000
DTEND;TZID=Europe/Berlin:20260419T120000
LOCATION:Tělocvična ZŠ\, Španielova 1111 Praha - Řepy
SUMMARY:PP-U20Z-6-C: VK Lvi Praha B-Střešovice B
END:VEVENT
BEGIN:VEVENT
UID:31656436-3566-4137-b937-326435613530
DTSTAMP:20260422T183004Z
DESCRIPTION:3/3 SK Meteor Praha C - Střešovice B 0:2 (-10\,-24)
DTSTART;TZID=Europe/Berlin:20260419T110000
DTEND;TZID=Europe/Berlin:20260419T130000
LOCATION:Tělocvična ZŠ\, Španielova 1111 Praha - Řepy
SUMMARY:PP-U20Z-6-C: SK Meteor Praha C-Střešovice B
END:VEVENT
END:VCALENDAR
