BEGIN:VCALENDAR
VERSION:2.0
PRODID:-//VS Drásov90871//NONSGML kigkonsult.se iCalcreator 2.41.80//
CALSCALE:GREGORIAN
UID:64616266-6234-4636-a663-363437626134
BEGIN:VEVENT
UID:37343862-6461-4631-b230-636132633963
DTSTAMP:20260422T070120Z
DESCRIPTION:3/15 VS Drásov - Moravská Slávia Brno 0:3 (-23\,-18\,-18)
DTSTART;TZID=Europe/Berlin:20250906T100000
DTEND;TZID=Europe/Berlin:20250906T120000
LOCATION:, Všechovická 51 Drásov
SUMMARY:JM-M-2: VS Drásov-Moravská Slávia Brno
END:VEVENT
BEGIN:VEVENT
UID:37663837-6565-4437-b435-373561623364
DTSTAMP:20260422T070120Z
DESCRIPTION:4/20 VS Drásov - Moravská Slávia Brno 2:3 (23\,-20\,22\,-21\,-9
 )
DTSTART;TZID=Europe/Berlin:20250906T130000
DTEND;TZID=Europe/Berlin:20250906T150000
LOCATION:, Všechovická 51 Drásov
SUMMARY:JM-M-2: VS Drásov-Moravská Slávia Brno
END:VEVENT
BEGIN:VEVENT
UID:36643030-3633-4262-a461-343161363730
DTSTAMP:20260422T070120Z
DESCRIPTION:7/34 VS Drásov - Orel jednota Pozořice 0:3 (-24\,-29\,-19)
DTSTART;TZID=Europe/Berlin:20250921T100000
DTEND;TZID=Europe/Berlin:20250921T120000
LOCATION:, Všechovická 51 Drásov
SUMMARY:JM-M-2: VS Drásov-Orel jednota Pozořice
END:VEVENT
BEGIN:VEVENT
UID:30326132-3330-4532-a436-613135363438
DTSTAMP:20260422T070120Z
DESCRIPTION:8/39 VS Drásov - Orel jednota Pozořice 3:2 (23\,18\,-14\,-20\,1
 3)
DTSTART;TZID=Europe/Berlin:20250921T130000
DTEND;TZID=Europe/Berlin:20250921T150000
LOCATION:, Všechovická 51 Drásov
SUMMARY:JM-M-2: VS Drásov-Orel jednota Pozořice
END:VEVENT
BEGIN:VEVENT
UID:61323734-3864-4530-b562-313536663937
DTSTAMP:20260422T070120Z
DESCRIPTION:11/53 VS Drásov - Sokol Šlapanice D 3:1 (18\,-20\,19\,20)
DTSTART;TZID=Europe/Berlin:20260118T100000
DTEND;TZID=Europe/Berlin:20260118T120000
LOCATION:, Všechovická 51 Drásov
SUMMARY:JM-M-2: VS Drásov-Sokol Šlapanice D
END:VEVENT
BEGIN:VEVENT
UID:39346437-6631-4439-b335-356130643238
DTSTAMP:20260422T070120Z
DESCRIPTION:12/58 VS Drásov - Sokol Šlapanice D 3:1 (-14\,20\,24\,23)
DTSTART;TZID=Europe/Berlin:20260118T130000
DTEND;TZID=Europe/Berlin:20260118T150000
LOCATION:, Všechovická 51 Drásov
SUMMARY:JM-M-2: VS Drásov-Sokol Šlapanice D
END:VEVENT
BEGIN:VEVENT
UID:37646265-6433-4432-a232-663934646662
DTSTAMP:20260422T070120Z
DESCRIPTION:15/72 VS Drásov - Tělocvičná jednota Sokol Marefy 0:3 (-22\,-17
 \,-21)
DTSTART;TZID=Europe/Berlin:20260308T100000
DTEND;TZID=Europe/Berlin:20260308T120000
LOCATION:, Všechovická 51 Drásov
SUMMARY:JM-M-2: VS Drásov-Tělocvičná jednota Sokol Marefy
END:VEVENT
BEGIN:VEVENT
UID:62333030-6236-4165-b365-316237336566
DTSTAMP:20260422T070120Z
DESCRIPTION:16/77 VS Drásov - Tělocvičná jednota Sokol Marefy 3:0 (21\,22\,
 17)
DTSTART;TZID=Europe/Berlin:20260308T130000
DTEND;TZID=Europe/Berlin:20260308T150000
LOCATION:, Všechovická 51 Drásov
SUMMARY:JM-M-2: VS Drásov-Tělocvičná jednota Sokol Marefy
END:VEVENT
BEGIN:VEVENT
UID:39636362-6234-4664-b934-326637363161
DTSTAMP:20260422T070120Z
DESCRIPTION:23/112 VS Drásov - Sokol Šlapanice C
DTSTART;TZID=Europe/Berlin:20260509T100000
DTEND;TZID=Europe/Berlin:20260509T120000
LOCATION:, Všechovická 51 Drásov
SUMMARY:JM-M-2: VS Drásov-Sokol Šlapanice C
END:VEVENT
BEGIN:VEVENT
UID:64623265-3165-4763-b037-353436613261
DTSTAMP:20260422T070120Z
DESCRIPTION:24/117 VS Drásov - Sokol Šlapanice C
DTSTART;TZID=Europe/Berlin:20260509T130000
DTEND;TZID=Europe/Berlin:20260509T150000
LOCATION:, Všechovická 51 Drásov
SUMMARY:JM-M-2: VS Drásov-Sokol Šlapanice C
END:VEVENT
BEGIN:VEVENT
UID:36646635-3238-4838-b836-346664613566
DTSTAMP:20260422T070120Z
DESCRIPTION:27/133 VS Drásov - VK Znojmo - Přímětice
DTSTART;TZID=Europe/Berlin:20260530T100000
DTEND;TZID=Europe/Berlin:20260530T120000
LOCATION:, Všechovická 51 Drásov
SUMMARY:JM-M-2: VS Drásov-VK Znojmo - Přímětice
END:VEVENT
BEGIN:VEVENT
UID:34396235-3235-4735-a266-303964386538
DTSTAMP:20260422T070120Z
DESCRIPTION:28/138 VS Drásov - VK Znojmo - Přímětice
DTSTART;TZID=Europe/Berlin:20260530T130000
DTEND;TZID=Europe/Berlin:20260530T150000
LOCATION:, Všechovická 51 Drásov
SUMMARY:JM-M-2: VS Drásov-VK Znojmo - Přímětice
END:VEVENT
BEGIN:VEVENT
UID:39613362-6230-4265-b562-343261316363
DTSTAMP:20260422T070120Z
DESCRIPTION:31/154 VS Drásov - Slovácký sportovní klub Břeclav
DTSTART;TZID=Europe/Berlin:20260613T100000
DTEND;TZID=Europe/Berlin:20260613T120000
LOCATION:, Všechovická 51 Drásov
SUMMARY:JM-M-2: VS Drásov-Slovácký sportovní klub Břeclav
END:VEVENT
BEGIN:VEVENT
UID:30616661-6233-4363-a437-656135643237
DTSTAMP:20260422T070120Z
DESCRIPTION:32/159 VS Drásov - Slovácký sportovní klub Břeclav
DTSTART;TZID=Europe/Berlin:20260613T130000
DTEND;TZID=Europe/Berlin:20260613T150000
LOCATION:, Všechovická 51 Drásov
SUMMARY:JM-M-2: VS Drásov-Slovácký sportovní klub Břeclav
END:VEVENT
BEGIN:VEVENT
UID:34626539-6235-4130-b730-303035646466
DTSTAMP:20260422T070120Z
DESCRIPTION:35/175 VS Drásov - Sportovní klub Rájec - Jestřebí\, z.s. 3:X
DTSTART;TZID=Europe/Berlin:20260627T100000
DTEND;TZID=Europe/Berlin:20260627T120000
LOCATION:, Všechovická 51 Drásov
SUMMARY:JM-M-2: VS Drásov-Sportovní klub Rájec - Jestřebí\, z.s.
END:VEVENT
BEGIN:VEVENT
UID:66643762-3837-4738-a366-313866346235
DTSTAMP:20260422T070120Z
DESCRIPTION:36/180 VS Drásov - Sportovní klub Rájec - Jestřebí\, z.s. 3:X
DTSTART;TZID=Europe/Berlin:20260627T130000
DTEND;TZID=Europe/Berlin:20260627T150000
LOCATION:, Všechovická 51 Drásov
SUMMARY:JM-M-2: VS Drásov-Sportovní klub Rájec - Jestřebí\, z.s.
END:VEVENT
BEGIN:VEVENT
UID:38346566-3534-4539-b137-633938316130
DTSTAMP:20260422T070120Z
DESCRIPTION:5/22 Sokol Šlapanice C - VS Drásov 3:0 (15\,27\,25)
DTSTART;TZID=Europe/Berlin:20250923T173000
DTEND;TZID=Europe/Berlin:20250923T193000
LOCATION:Sokolovna TJ Sokol Šlapanice\, Nádražní 706 Šlapanice
SUMMARY:JM-M-2: Sokol Šlapanice C-VS Drásov
END:VEVENT
BEGIN:VEVENT
UID:64383466-3264-4530-b739-636165386164
DTSTAMP:20260422T070120Z
DESCRIPTION:6/27 Sokol Šlapanice C - VS Drásov 3:2 (18\,-24\,24\,-19\,12)
DTSTART;TZID=Europe/Berlin:20250930T173000
DTEND;TZID=Europe/Berlin:20250930T193000
LOCATION:Sokolovna TJ Sokol Šlapanice\, Nádražní 706 Šlapanice
SUMMARY:JM-M-2: Sokol Šlapanice C-VS Drásov
END:VEVENT
BEGIN:VEVENT
UID:39373861-6632-4435-b335-313466306236
DTSTAMP:20260422T070120Z
DESCRIPTION:9/43 VK Znojmo - Přímětice - VS Drásov 3:0 (16\,16\,19)
DTSTART;TZID=Europe/Berlin:20250928T100000
DTEND;TZID=Europe/Berlin:20250928T120000
LOCATION:, Sokolská 1277 Znojmo
SUMMARY:JM-M-2: VK Znojmo - Přímětice-VS Drásov
END:VEVENT
BEGIN:VEVENT
UID:66373363-6639-4535-a664-383433616131
DTSTAMP:20260422T070120Z
DESCRIPTION:10/48 VK Znojmo - Přímětice - VS Drásov 3:1 (16\,20\,-22\,18)
DTSTART;TZID=Europe/Berlin:20250928T130000
DTEND;TZID=Europe/Berlin:20250928T150000
LOCATION:, Sokolská 1277 Znojmo
SUMMARY:JM-M-2: VK Znojmo - Přímětice-VS Drásov
END:VEVENT
BEGIN:VEVENT
UID:30303166-3432-4830-b938-396463633933
DTSTAMP:20260422T070120Z
DESCRIPTION:13/64 Slovácký sportovní klub Břeclav - VS Drásov 3:1 (-19\,18\
 ,12\,17)
DTSTART;TZID=Europe/Berlin:20251011T100000
DTEND;TZID=Europe/Berlin:20251011T120000
LOCATION:, Haškova 3536 Břeclav
SUMMARY:JM-M-2: Slovácký sportovní klub Břeclav-VS Drásov
END:VEVENT
BEGIN:VEVENT
UID:63346437-3433-4138-a234-346230323535
DTSTAMP:20260422T070120Z
DESCRIPTION:14/69 Slovácký sportovní klub Břeclav - VS Drásov 3:2 (-20\,18\
 ,-18\,17\,9)
DTSTART;TZID=Europe/Berlin:20251011T130000
DTEND;TZID=Europe/Berlin:20251011T150000
LOCATION:, Haškova 3536 Břeclav
SUMMARY:JM-M-2: Slovácký sportovní klub Břeclav-VS Drásov
END:VEVENT
BEGIN:VEVENT
UID:31653463-6438-4137-b735-633030653462
DTSTAMP:20260422T070120Z
DESCRIPTION:17/85 Sportovní klub Rájec - Jestřebí\, z.s. - VS Drásov X:3
DTSTART;TZID=Europe/Berlin:20251025T100000
DTEND;TZID=Europe/Berlin:20251025T120000
LOCATION:ZŠ a MŠ Rájec-Jestřebí\, Školní 446 Rájec-Jestřebí - Rájec
SUMMARY:JM-M-2: Sportovní klub Rájec - Jestřebí\, z.s.-VS Drásov
END:VEVENT
BEGIN:VEVENT
UID:61316338-6437-4639-b938-613234376663
DTSTAMP:20260422T070120Z
DESCRIPTION:18/90 Sportovní klub Rájec - Jestřebí\, z.s. - VS Drásov X:3
DTSTART;TZID=Europe/Berlin:20251025T130000
DTEND;TZID=Europe/Berlin:20251025T150000
LOCATION:ZŠ a MŠ Rájec-Jestřebí\, Školní 446 Rájec-Jestřebí - Rájec
SUMMARY:JM-M-2: Sportovní klub Rájec - Jestřebí\, z.s.-VS Drásov
END:VEVENT
BEGIN:VEVENT
UID:38633134-3763-4464-b335-653130383730
DTSTAMP:20260422T070120Z
DESCRIPTION:21/105 Moravská Slávia Brno - VS DrásovŘezáč Miroslav
DTSTART;TZID=Europe/Berlin:20260502T100000
DTEND;TZID=Europe/Berlin:20260502T120000
LOCATION:, Údolní 527 Brno - Brno-město
SUMMARY:JM-M-2: Moravská Slávia Brno-VS Drásov
END:VEVENT
BEGIN:VEVENT
UID:64376665-3236-4664-a631-306433656566
DTSTAMP:20260422T070120Z
DESCRIPTION:22/110 Moravská Slávia Brno - VS DrásovŘezáč Miroslav
DTSTART;TZID=Europe/Berlin:20260502T130000
DTEND;TZID=Europe/Berlin:20260502T150000
LOCATION:, Údolní 527 Brno - Brno-město
SUMMARY:JM-M-2: Moravská Slávia Brno-VS Drásov
END:VEVENT
BEGIN:VEVENT
UID:65353536-6430-4562-b161-386131363534
DTSTAMP:20260422T070120Z
DESCRIPTION:25/124 Orel jednota Pozořice - VS Drásov
DTSTART;TZID=Europe/Berlin:20260517T100000
DTEND;TZID=Europe/Berlin:20260517T120000
LOCATION:Školní tělocvična\,  Sivice131
SUMMARY:JM-M-2: Orel jednota Pozořice-VS Drásov
END:VEVENT
BEGIN:VEVENT
UID:30306131-3066-4730-a265-303763376135
DTSTAMP:20260422T070120Z
DESCRIPTION:26/129 Orel jednota Pozořice - VS Drásov
DTSTART;TZID=Europe/Berlin:20260517T130000
DTEND;TZID=Europe/Berlin:20260517T150000
LOCATION:Školní tělocvična\,  Sivice131
SUMMARY:JM-M-2: Orel jednota Pozořice-VS Drásov
END:VEVENT
BEGIN:VEVENT
UID:31666631-3339-4066-b231-363964303465
DTSTAMP:20260422T070120Z
DESCRIPTION:29/143 Sokol Šlapanice D - VS Drásov
DTSTART;TZID=Europe/Berlin:20260606T100000
DTEND;TZID=Europe/Berlin:20260606T120000
LOCATION:Hala TJ Sokol Šlapanice\, Smetanova 1662 Šlapanice
SUMMARY:JM-M-2: Sokol Šlapanice D-VS Drásov
END:VEVENT
BEGIN:VEVENT
UID:65326633-3535-4463-b563-653337316132
DTSTAMP:20260422T070120Z
DESCRIPTION:30/148 Sokol Šlapanice D - VS Drásov
DTSTART;TZID=Europe/Berlin:20260606T130000
DTEND;TZID=Europe/Berlin:20260606T150000
LOCATION:Hala TJ Sokol Šlapanice\, Smetanova 1662 Šlapanice
SUMMARY:JM-M-2: Sokol Šlapanice D-VS Drásov
END:VEVENT
BEGIN:VEVENT
UID:36366638-3138-4638-a335-376634376266
DTSTAMP:20260422T070120Z
DESCRIPTION:33/162 Tělocvičná jednota Sokol Marefy - VS Drásov
DTSTART;TZID=Europe/Berlin:20260621T100000
DTEND;TZID=Europe/Berlin:20260621T120000
LOCATION:Víceúčelová sportovní hala při ZŠ Sv. Čecha\, Stromovka  1686\, Sv
 . Čecha 1686 Choceň
SUMMARY:JM-M-2: Tělocvičná jednota Sokol Marefy-VS Drásov
END:VEVENT
BEGIN:VEVENT
UID:31656236-3530-4235-b363-353764363030
DTSTAMP:20260422T070120Z
DESCRIPTION:34/167 Tělocvičná jednota Sokol Marefy - VS Drásov
DTSTART;TZID=Europe/Berlin:20260621T130000
DTEND;TZID=Europe/Berlin:20260621T150000
LOCATION:Víceúčelová sportovní hala při ZŠ Sv. Čecha\, Stromovka  1686\, Sv
 . Čecha 1686 Choceň
SUMMARY:JM-M-2: Tělocvičná jednota Sokol Marefy-VS Drásov
END:VEVENT
END:VCALENDAR
