BEGIN:VCALENDAR
VERSION:2.0
PRODID:-//Volejbal Tábor, z.s.90901//NONSGML kigkonsult.se iCalcreator 2.41.80//
CALSCALE:GREGORIAN
UID:37623461-6166-4137-a266-306531306636
BEGIN:VEVENT
UID:39313061-3230-4532-b963-626239653237
DTSTAMP:20260423T042757Z
DESCRIPTION:1/2 Volejbal Tábor - Klatovy 0:2 (-22\,-12)
DTSTART;TZID=Europe/Berlin:20250913T090000
DTEND;TZID=Europe/Berlin:20250913T110000
LOCATION:Sportovní Hala Mír\, U Stadionu Míru 1579 Tábor
SUMMARY:CP-U16Z-Z1E: Volejbal Tábor-Klatovy
END:VEVENT
BEGIN:VEVENT
UID:65636633-6332-4331-b461-616637313762
DTSTAMP:20260423T042757Z
DESCRIPTION:4/9 Volejbal Tábor - SK Dansport 2:1 (-17\,23\,12)
DTSTART;TZID=Europe/Berlin:20250913T133000
DTEND;TZID=Europe/Berlin:20250913T153000
LOCATION:Sportovní Hala Mír\, U Stadionu Míru 1579 Tábor
SUMMARY:CP-U16Z-Z1E: Volejbal Tábor-SK Dansport
END:VEVENT
BEGIN:VEVENT
UID:65386662-3961-4631-b830-346261633039
DTSTAMP:20260423T042757Z
DESCRIPTION:7/18 Volejbal Tábor - Volejbal Rudolfov 2:1 (-16\,21\,14)
DTSTART;TZID=Europe/Berlin:20250914T090000
DTEND;TZID=Europe/Berlin:20250914T110000
LOCATION:Sportovní Hala Mír\, U Stadionu Míru 1579 Tábor
SUMMARY:CP-U16Z-Z1E: Volejbal Tábor-Volejbal Rudolfov
END:VEVENT
BEGIN:VEVENT
UID:37653361-3761-4939-b366-323630653432
DTSTAMP:20260423T042757Z
DESCRIPTION:8/21 Volejbal Tábor - VK Rokycany 1:2 (-20\,14\,-10)
DTSTART;TZID=Europe/Berlin:20250914T103000
DTEND;TZID=Europe/Berlin:20250914T123000
LOCATION:Sportovní Hala Mír\, U Stadionu Míru 1579 Tábor
SUMMARY:CP-U16Z-Z1E: Volejbal Tábor-VK Rokycany
END:VEVENT
BEGIN:VEVENT
UID:62326531-6435-4538-a330-333266656163
DTSTAMP:20260423T042757Z
DESCRIPTION:9/23 Volejbal Tábor - BVC Chodov 2:0 (17\,22)
DTSTART;TZID=Europe/Berlin:20250914T120000
DTEND;TZID=Europe/Berlin:20250914T140000
LOCATION:Sportovní Hala Mír\, U Stadionu Míru 1579 Tábor
SUMMARY:CP-U16Z-Z1E: Volejbal Tábor-BVC Chodov
END:VEVENT
BEGIN:VEVENT
UID:35363839-6338-4734-b663-363838663964
DTSTAMP:20260423T042757Z
DESCRIPTION:3/6 VSK Baník Sokolov - Volejbal Tábor 0:2 (-16\,-19)
DTSTART;TZID=Europe/Berlin:20250913T120000
DTEND;TZID=Europe/Berlin:20250913T140000
LOCATION:Jiskra\, Maxima Gorkého 280 Sokolov
SUMMARY:CP-U16Z-Z1E: VSK Baník Sokolov-Volejbal Tábor
END:VEVENT
BEGIN:VEVENT
UID:33666232-3837-4866-b737-623933363838
DTSTAMP:20260423T042757Z
DESCRIPTION:6/16 SK TŘEBÍN - Volejbal Tábor 0:2 (-19\,-23)
DTSTART;TZID=Europe/Berlin:20250913T163000
DTEND;TZID=Europe/Berlin:20250913T183000
LOCATION:ZŠ Máj I\, M. Chlajna 1319 České Budějovice - České Budějovice 2
SUMMARY:CP-U16Z-Z1E: SK TŘEBÍN-Volejbal Tábor
END:VEVENT
BEGIN:VEVENT
UID:33326663-6163-4665-a432-653430343365
DTSTAMP:20260423T042757Z
DESCRIPTION:3/9 Volejbal Tábor - Volejbal Vršovice Praha 1:2 (21\,-14\,-12)
DTSTART;TZID=Europe/Berlin:20251018T130000
DTEND;TZID=Europe/Berlin:20251018T150000
LOCATION:Sportovní Hala Mír\, U Stadionu Míru 1579 Tábor
SUMMARY:CP-U16Z-Z2B: Volejbal Tábor-Volejbal Vršovice Praha
END:VEVENT
BEGIN:VEVENT
UID:35643964-6238-4063-a334-303063356432
DTSTAMP:20260423T042757Z
DESCRIPTION:7/18 Volejbal Tábor - Volejbal Ústí n. L. 0:2 (-17\,-19)
DTSTART;TZID=Europe/Berlin:20251019T090000
DTEND;TZID=Europe/Berlin:20251019T110000
LOCATION:Sportovní Hala Mír\, U Stadionu Míru 1579 Tábor
SUMMARY:CP-U16Z-Z2B: Volejbal Tábor-Volejbal Ústí n. L.
END:VEVENT
BEGIN:VEVENT
UID:34646432-6463-4434-a231-663232633961
DTSTAMP:20260423T042757Z
DESCRIPTION:10/28 Volejbal Tábor - VK Jirkov 1:2 (-23\,13\,-13)
DTSTART;TZID=Europe/Berlin:20251019T133000
DTEND;TZID=Europe/Berlin:20251019T153000
LOCATION:Sportovní Hala Mír\, U Stadionu Míru 1579 Tábor
SUMMARY:CP-U16Z-Z2B: Volejbal Tábor-VK Jirkov
END:VEVENT
BEGIN:VEVENT
UID:37333261-6234-4736-b764-343334643338
DTSTAMP:20260423T042757Z
DESCRIPTION:2/4 Madeta Jihostroj ČB - Volejbal Tábor 2:0 (21\,16)
DTSTART;TZID=Europe/Berlin:20251018T113000
DTEND;TZID=Europe/Berlin:20251018T133000
LOCATION:Sportovní hala\, Stromovka 1216 České Budějovice - České Budějovic
 e 2
SUMMARY:CP-U16Z-Z2B: Madeta Jihostroj ČB-Volejbal Tábor
END:VEVENT
BEGIN:VEVENT
UID:34363265-3565-4535-a366-623362336335
DTSTAMP:20260423T042757Z
DESCRIPTION:4/11 TJ Loko Plzeň - Volejbal Tábor 2:0 (19\,19)
DTSTART;TZID=Europe/Berlin:20251018T143000
DTEND;TZID=Europe/Berlin:20251018T163000
LOCATION:Sportovní hala - SG Plzeň\, Vejprnická 663 Plzeň - Skvrňany
SUMMARY:CP-U16Z-Z2B: TJ Loko Plzeň-Volejbal Tábor
END:VEVENT
BEGIN:VEVENT
UID:63363134-3433-4765-b530-326262323564
DTSTAMP:20260423T042757Z
DESCRIPTION:6/16 TJ Slovan Varnsdorf - Volejbal Tábor 1:2 (18\,-19\,-9)
DTSTART;TZID=Europe/Berlin:20251018T173000
DTEND;TZID=Europe/Berlin:20251018T193000
LOCATION:Sportovní hala Varnsdorf\, Západní 2984 Varnsdorf
SUMMARY:CP-U16Z-Z2B: TJ Slovan Varnsdorf-Volejbal Tábor
END:VEVENT
BEGIN:VEVENT
UID:34616662-3836-4134-a263-393431663436
DTSTAMP:20260423T042757Z
DESCRIPTION:9/24 SK Kometa Praha - Volejbal Tábor 2:0 (23\,17)
DTSTART;TZID=Europe/Berlin:20251019T120000
DTEND;TZID=Europe/Berlin:20251019T140000
LOCATION:Tělocvična ZŠ Na Šutce\, Na Šutce 440 Praha - Troja
SUMMARY:CP-U16Z-Z2B: SK Kometa Praha-Volejbal Tábor
END:VEVENT
BEGIN:VEVENT
UID:39343239-6433-4331-b131-376431356336
DTSTAMP:20260423T042757Z
DESCRIPTION:2/4 Volejbal Tábor - Volejbal Rudolfov 0:2 (-18\,-13)
DTSTART;TZID=Europe/Berlin:20251129T113000
DTEND;TZID=Europe/Berlin:20251129T133000
LOCATION:Sportovní Hala Mír\, U Stadionu Míru 1579 Tábor
SUMMARY:CP-U16Z-Z3C: Volejbal Tábor-Volejbal Rudolfov
END:VEVENT
BEGIN:VEVENT
UID:30306165-3537-4931-a466-666566326364
DTSTAMP:20260423T042757Z
DESCRIPTION:3/7 Volejbal Tábor - SC Braník 0:2 (-23\,-20)
DTSTART;TZID=Europe/Berlin:20251129T130000
DTEND;TZID=Europe/Berlin:20251129T150000
LOCATION:Sportovní Hala Mír\, U Stadionu Míru 1579 Tábor
SUMMARY:CP-U16Z-Z3C: Volejbal Tábor-SC Braník
END:VEVENT
BEGIN:VEVENT
UID:39626631-3631-4338-b738-373837646434
DTSTAMP:20260423T042757Z
DESCRIPTION:5/14 Volejbal Tábor - TJ Bižuterie Jablonec n/N 0:2 (-16\,-16)
DTSTART;TZID=Europe/Berlin:20251129T160000
DTEND;TZID=Europe/Berlin:20251129T180000
LOCATION:Sportovní Hala Mír\, U Stadionu Míru 1579 Tábor
SUMMARY:CP-U16Z-Z3C: Volejbal Tábor-TJ Bižuterie Jablonec n/N
END:VEVENT
BEGIN:VEVENT
UID:65323539-3566-4566-a266-366562626436
DTSTAMP:20260423T042757Z
DESCRIPTION:10/27 Volejbal Tábor - VSK Baník Sokolov 2:0 (24\,24)
DTSTART;TZID=Europe/Berlin:20251130T133000
DTEND;TZID=Europe/Berlin:20251130T153000
LOCATION:Sportovní Hala Mír\, U Stadionu Míru 1579 Tábor
SUMMARY:CP-U16Z-Z3C: Volejbal Tábor-VSK Baník Sokolov
END:VEVENT
BEGIN:VEVENT
UID:30343238-3966-4037-b661-643230356465
DTSTAMP:20260423T042757Z
DESCRIPTION:4/12 VK Jirkov - Volejbal Tábor 2:0 (18\,17)
DTSTART;TZID=Europe/Berlin:20251129T143000
DTEND;TZID=Europe/Berlin:20251129T163000
LOCATION:sportovní hala MGZŠ Krušnohorská Jirkov Jirkov\, Krušnohorská 1675
SUMMARY:CP-U16Z-Z3C: VK Jirkov-Volejbal Tábor
END:VEVENT
BEGIN:VEVENT
UID:31616662-6639-4634-b261-393434626431
DTSTAMP:20260423T042757Z
DESCRIPTION:8/21 VK Slavia Plzeň - Volejbal Tábor 2:0 (17\,18)
DTSTART;TZID=Europe/Berlin:20251130T103000
DTEND;TZID=Europe/Berlin:20251130T123000
LOCATION:Tělocvična 15.ZŠ\, Terezie Brzkové 863 Plzeň - Skvrňany
SUMMARY:CP-U16Z-Z3C: VK Slavia Plzeň-Volejbal Tábor
END:VEVENT
BEGIN:VEVENT
UID:36653439-6637-4234-b037-353764373266
DTSTAMP:20260423T042757Z
DESCRIPTION:9/25 S V B C - Volejbal Tábor 2:0 (28\,26)
DTSTART;TZID=Europe/Berlin:20251130T120000
DTEND;TZID=Europe/Berlin:20251130T140000
SUMMARY:CP-U16Z-Z3C: S V B C-Volejbal Tábor
END:VEVENT
BEGIN:VEVENT
UID:61643235-3565-4263-a334-666433653236
DTSTAMP:20260423T042757Z
DESCRIPTION:1/1 Volejbal Tábor - SC Braník 2:0 (20\,23)
DTSTART;TZID=Europe/Berlin:20260117T090000
DTEND;TZID=Europe/Berlin:20260117T110000
LOCATION:Sportovní Hala Mír\, U Stadionu Míru 1579 Tábor
SUMMARY:CP-U16Z4E: Volejbal Tábor-SC Braník
END:VEVENT
BEGIN:VEVENT
UID:63643638-3862-4538-a138-643165663231
DTSTAMP:20260423T042757Z
DESCRIPTION:4/8 Volejbal Tábor - TJ Spartak Polička 2:0 (16\,22)
DTSTART;TZID=Europe/Berlin:20260117T124500
DTEND;TZID=Europe/Berlin:20260117T144500
LOCATION:Sportovní Hala Mír\, U Stadionu Míru 1579 Tábor
SUMMARY:CP-U16Z4E: Volejbal Tábor-TJ Spartak Polička
END:VEVENT
BEGIN:VEVENT
UID:63383266-3734-4465-a461-343634333966
DTSTAMP:20260423T042757Z
DESCRIPTION:7/17 Volejbal Tábor - SVK Nový Jičín 1:2 (-20\,25\,-11)
DTSTART;TZID=Europe/Berlin:20260118T090000
DTEND;TZID=Europe/Berlin:20260118T110000
LOCATION:Sportovní Hala Mír\, U Stadionu Míru 1579 Tábor
SUMMARY:CP-U16Z4E: Volejbal Tábor-SVK Nový Jičín
END:VEVENT
BEGIN:VEVENT
UID:34376134-3631-4633-a238-326366633165
DTSTAMP:20260423T042757Z
DESCRIPTION:3/5 Slavia H.Králové - Volejbal Tábor 2:0 (13\,14)
DTSTART;TZID=Europe/Berlin:20260117T113000
DTEND;TZID=Europe/Berlin:20260117T133000
LOCATION:TJ Slavia Hradec Králové\, Víta Nejedlého 1216 Hradec Králové
SUMMARY:CP-U16Z4E: Slavia H.Králové-Volejbal Tábor
END:VEVENT
BEGIN:VEVENT
UID:37646363-3234-4561-b865-386634653433
DTSTAMP:20260423T042757Z
DESCRIPTION:5/11 VSC Zlín - Volejbal Tábor 2:0 (16\,22)
DTSTART;TZID=Europe/Berlin:20260117T143000
DTEND;TZID=Europe/Berlin:20260117T163000
LOCATION:ZŠ Okružní Zlín\, Okružní 4685 Zlín
SUMMARY:CP-U16Z4E: VSC Zlín-Volejbal Tábor
END:VEVENT
BEGIN:VEVENT
UID:37323239-6538-4064-b463-356666613231
DTSTAMP:20260423T042757Z
DESCRIPTION:9/23 VSK Baník Sokolov - Volejbal Tábor 0:2 (-10\,-13)
DTSTART;TZID=Europe/Berlin:20260118T113000
DTEND;TZID=Europe/Berlin:20260118T133000
LOCATION:Jiskra\, Maxima Gorkého 280 Sokolov
SUMMARY:CP-U16Z4E: VSK Baník Sokolov-Volejbal Tábor
END:VEVENT
BEGIN:VEVENT
UID:33633465-3263-4565-b234-366535366131
DTSTAMP:20260423T042757Z
DESCRIPTION:10/26 VK Slavia Plzeň - Volejbal Tábor 2:1 (-21\,18\,14)
DTSTART;TZID=Europe/Berlin:20260118T124500
DTEND;TZID=Europe/Berlin:20260118T144500
LOCATION:Tělocvična 15.ZŠ\, Terezie Brzkové 863 Plzeň - Skvrňany
SUMMARY:CP-U16Z4E: VK Slavia Plzeň-Volejbal Tábor
END:VEVENT
BEGIN:VEVENT
UID:34356637-6238-4433-b536-386461313036
DTSTAMP:20260423T042757Z
DESCRIPTION:3/6 Volejbal Tábor - VK Jirkov 2:0 (25\,17)
DTSTART;TZID=Europe/Berlin:20260207T113000
DTEND;TZID=Europe/Berlin:20260207T133000
LOCATION:TJ Slavia Hradec Králové\, Víta Nejedlého 1216 Hradec Králové
SUMMARY:CP-U16Z5E: Volejbal Tábor-VK Jirkov
END:VEVENT
BEGIN:VEVENT
UID:35313839-6232-4563-b433-663764363637
DTSTAMP:20260423T042757Z
DESCRIPTION:10/20 Volejbal Tábor - VK Slavia Plzeň 1:2 (-14\,22\,-7)
DTSTART;TZID=Europe/Berlin:20260208T101500
DTEND;TZID=Europe/Berlin:20260208T121500
LOCATION:TJ Slavia Hradec Králové\, Víta Nejedlého 1216 Hradec Králové
SUMMARY:CP-U16Z5E: Volejbal Tábor-VK Slavia Plzeň
END:VEVENT
BEGIN:VEVENT
UID:38323164-6139-4533-b430-356662326534
DTSTAMP:20260423T042757Z
DESCRIPTION:14/27 Volejbal Tábor - S V B C 1:2 (-22\,21\,-9)
DTSTART;TZID=Europe/Berlin:20260208T151500
DTEND;TZID=Europe/Berlin:20260208T171500
LOCATION:TJ Slavia Hradec Králové\, Víta Nejedlého 1216 Hradec Králové
SUMMARY:CP-U16Z5E: Volejbal Tábor-S V B C
END:VEVENT
BEGIN:VEVENT
UID:64323236-6265-4361-a362-663464646339
DTSTAMP:20260423T042757Z
DESCRIPTION:2/3 VSC Zlín - Volejbal Tábor 2:0 (23\,16)
DTSTART;TZID=Europe/Berlin:20260207T101500
DTEND;TZID=Europe/Berlin:20260207T121500
LOCATION:TJ Slavia Hradec Králové\, Víta Nejedlého 1216 Hradec Králové
SUMMARY:CP-U16Z5E: VSC Zlín-Volejbal Tábor
END:VEVENT
BEGIN:VEVENT
UID:35323535-3433-4434-b836-666166313063
DTSTAMP:20260423T042757Z
DESCRIPTION:6/12 VSK  Staré Město - Volejbal Tábor 1:2 (-22\,19\,-14)
DTSTART;TZID=Europe/Berlin:20260207T151500
DTEND;TZID=Europe/Berlin:20260207T171500
LOCATION:TJ Slavia Hradec Králové\, Víta Nejedlého 1216 Hradec Králové
SUMMARY:CP-U16Z5E: VSK  Staré Město-Volejbal Tábor
END:VEVENT
BEGIN:VEVENT
UID:32363436-6464-4365-a530-643961643831
DTSTAMP:20260423T042757Z
DESCRIPTION:7/13 SVK Nový Jičín - Volejbal Tábor 2:0 (16\,22)
DTSTART;TZID=Europe/Berlin:20260207T163000
DTEND;TZID=Europe/Berlin:20260207T183000
LOCATION:TJ Slavia Hradec Králové\, Víta Nejedlého 1216 Hradec Králové
SUMMARY:CP-U16Z5E: SVK Nový Jičín-Volejbal Tábor
END:VEVENT
BEGIN:VEVENT
UID:66336564-3734-4565-b861-386633376634
DTSTAMP:20260423T042757Z
DESCRIPTION:11/22 Třebíč - Volejbal Tábor 0:2 (-24\,-18)
DTSTART;TZID=Europe/Berlin:20260208T113000
DTEND;TZID=Europe/Berlin:20260208T133000
LOCATION:TJ Slavia Hradec Králové\, Víta Nejedlého 1216 Hradec Králové
SUMMARY:CP-U16Z5E: Třebíč-Volejbal Tábor
END:VEVENT
BEGIN:VEVENT
UID:36303332-3166-4666-b762-386433363833
DTSTAMP:20260423T042757Z
DESCRIPTION:4/8 Volejbal Tábor - Slavia H.Králové 1:2 (-23\,14\,-10)
DTSTART;TZID=Europe/Berlin:20260328T124500
DTEND;TZID=Europe/Berlin:20260328T144500
LOCATION:Sportovní Hala Mír\, U Stadionu Míru 1579 Tábor
SUMMARY:CP-U16Z6H: Volejbal Tábor-Slavia H.Králové
END:VEVENT
BEGIN:VEVENT
UID:66323336-3839-4764-b332-656234613537
DTSTAMP:20260423T042757Z
DESCRIPTION:10/20 Volejbal Tábor - SK Volejbal Kolín 0:2 (-20\,-18)
DTSTART;TZID=Europe/Berlin:20260329T101500
DTEND;TZID=Europe/Berlin:20260329T121500
LOCATION:Sportovní Hala Mír\, U Stadionu Míru 1579 Tábor
SUMMARY:CP-U16Z6H: Volejbal Tábor-SK Volejbal Kolín
END:VEVENT
BEGIN:VEVENT
UID:63303130-3337-4236-a361-376337323566
DTSTAMP:20260423T042757Z
DESCRIPTION:14/27 Volejbal Tábor - Klatovy 1:2 (-20\,16\,-13)
DTSTART;TZID=Europe/Berlin:20260329T151500
DTEND;TZID=Europe/Berlin:20260329T171500
LOCATION:Sportovní Hala Mír\, U Stadionu Míru 1579 Tábor
SUMMARY:CP-U16Z6H: Volejbal Tábor-Klatovy
END:VEVENT
BEGIN:VEVENT
UID:39353335-3735-4466-b731-343634616166
DTSTAMP:20260423T042757Z
DESCRIPTION:2/3 SVK Nový Jičín - Volejbal Tábor 2:1 (15\,-22\,12)
DTSTART;TZID=Europe/Berlin:20260328T101500
DTEND;TZID=Europe/Berlin:20260328T121500
LOCATION:Hala ABC\, Purkyňova 116 Nový Jičín
SUMMARY:CP-U16Z6H: SVK Nový Jičín-Volejbal Tábor
END:VEVENT
BEGIN:VEVENT
UID:62336332-3936-4331-a464-326635383565
DTSTAMP:20260423T042757Z
DESCRIPTION:6/12 S V B C - Volejbal Tábor 2:0 (21\,13)
DTSTART;TZID=Europe/Berlin:20260328T151500
DTEND;TZID=Europe/Berlin:20260328T171500
SUMMARY:CP-U16Z6H: S V B C-Volejbal Tábor
END:VEVENT
BEGIN:VEVENT
UID:38363263-6339-4634-b634-373035643538
DTSTAMP:20260423T042757Z
DESCRIPTION:7/13 KP Brno B - Volejbal Tábor 2:0 (18\,12)
DTSTART;TZID=Europe/Berlin:20260328T163000
DTEND;TZID=Europe/Berlin:20260328T183000
LOCATION:Sportovní gymnázium Ludvíka Daňka\, Botanická 63 Brno - Ponava
SUMMARY:CP-U16Z6H: KP Brno B-Volejbal Tábor
END:VEVENT
BEGIN:VEVENT
UID:32383435-3633-4231-b565-343464373261
DTSTAMP:20260423T042757Z
DESCRIPTION:13/26 VK Jirkov - Volejbal Tábor 2:1 (-20\,20\,9)
DTSTART;TZID=Europe/Berlin:20260329T140000
DTEND;TZID=Europe/Berlin:20260329T160000
LOCATION:sportovní hala MGZŠ Krušnohorská Jirkov Jirkov\, Krušnohorská 1675
SUMMARY:CP-U16Z6H: VK Jirkov-Volejbal Tábor
END:VEVENT
END:VCALENDAR
