BEGIN:VCALENDAR
VERSION:2.0
PRODID:-//Volejbalový klub Roudnice nad Labem, z.s.90921//NONSGML kigkonsult.se iCalcreator 2.41.80//
CALSCALE:GREGORIAN
UID:36383161-3666-4437-a139-316438633833
BEGIN:VEVENT
UID:37653931-6439-4734-b265-626266356461
DTSTAMP:20260423T105818Z
DESCRIPTION:5/15 VK Roudnice nad Labem - Universitní sportovní klub Slávie 
 3:1 (14\,17\,-14\,24)
DTSTART;TZID=Europe/Berlin:20251101T100000
DTEND;TZID=Europe/Berlin:20251101T120000
LOCATION:Hala ZŠ Karla Jeřábka\, Roudnice n.L. Karla Jeřábka 941\, Roudnice
  nad Labem
SUMMARY:US-M: VK Roudnice nad Labem-Universitní sportovní klub Slávie
END:VEVENT
BEGIN:VEVENT
UID:32363130-6164-4066-a661-316333346536
DTSTAMP:20260423T105818Z
DESCRIPTION:6/18 VK Roudnice nad Labem - Universitní sportovní klub Slávie 
 3:1 (19\,20\,-24\,22)
DTSTART;TZID=Europe/Berlin:20251101T140000
DTEND;TZID=Europe/Berlin:20251101T160000
LOCATION:Hala ZŠ Karla Jeřábka\, Roudnice n.L. Karla Jeřábka 941\, Roudnice
  nad Labem
SUMMARY:US-M: VK Roudnice nad Labem-Universitní sportovní klub Slávie
END:VEVENT
BEGIN:VEVENT
UID:37343639-6235-4333-a663-326563633964
DTSTAMP:20260423T105818Z
DESCRIPTION:9/26 VK Roudnice nad Labem - TJ Slovan Chabařovice\, z.s. 0:3 (
 -22\,-23\,-14)
DTSTART;TZID=Europe/Berlin:20251129T100000
DTEND;TZID=Europe/Berlin:20251129T120000
LOCATION:Hala ZŠ Karla Jeřábka\, Roudnice n.L. Karla Jeřábka 941\, Roudnice
  nad Labem
SUMMARY:US-M: VK Roudnice nad Labem-TJ Slovan Chabařovice\, z.s.
END:VEVENT
BEGIN:VEVENT
UID:64353732-3730-4163-a266-613764316261
DTSTAMP:20260423T105818Z
DESCRIPTION:10/29 VK Roudnice nad Labem - TJ Slovan Chabařovice\, z.s. 0:3 
 (-15\,-15\,-22)
DTSTART;TZID=Europe/Berlin:20251129T140000
DTEND;TZID=Europe/Berlin:20251129T160000
LOCATION:Hala ZŠ Karla Jeřábka\, Roudnice n.L. Karla Jeřábka 941\, Roudnice
  nad Labem
SUMMARY:US-M: VK Roudnice nad Labem-TJ Slovan Chabařovice\, z.s.
END:VEVENT
BEGIN:VEVENT
UID:64353765-6639-4233-b430-646165613537
DTSTAMP:20260423T105818Z
DESCRIPTION:11/33 VK Roudnice nad Labem - VK Jirkov 1:3 (-21\,-23\,20\,-17)
DTSTART;TZID=Europe/Berlin:20260110T100000
DTEND;TZID=Europe/Berlin:20260110T120000
LOCATION:Hala ZŠ Karla Jeřábka\, Roudnice n.L. Karla Jeřábka 941\, Roudnice
  nad Labem
SUMMARY:US-M: VK Roudnice nad Labem-VK Jirkov
END:VEVENT
BEGIN:VEVENT
UID:66633162-3635-4332-b962-316664303639
DTSTAMP:20260423T105818Z
DESCRIPTION:12/36 VK Roudnice nad Labem - VK Jirkov 0:3 (-19\,-13\,-18)
DTSTART;TZID=Europe/Berlin:20260110T140000
DTEND;TZID=Europe/Berlin:20260110T160000
LOCATION:Hala ZŠ Karla Jeřábka\, Roudnice n.L. Karla Jeřábka 941\, Roudnice
  nad Labem
SUMMARY:US-M: VK Roudnice nad Labem-VK Jirkov
END:VEVENT
BEGIN:VEVENT
UID:37326463-6636-4131-a539-363835663835
DTSTAMP:20260423T105818Z
DESCRIPTION:13/37 VK Roudnice nad Labem - VK Litvínov\, z.s. 3:1 (23\,23\,-
 18\,14)
DTSTART;TZID=Europe/Berlin:20260124T100000
DTEND;TZID=Europe/Berlin:20260124T120000
LOCATION:Hala ZŠ Karla Jeřábka\, Roudnice n.L. Karla Jeřábka 941\, Roudnice
  nad Labem
SUMMARY:US-M: VK Roudnice nad Labem-VK Litvínov\, z.s.
END:VEVENT
BEGIN:VEVENT
UID:37386336-6533-4931-b230-353162346339
DTSTAMP:20260423T105818Z
DESCRIPTION:14/40 VK Roudnice nad Labem - VK Litvínov\, z.s. 2:3 (-23\,23\,
 20\,-22\,-12)
DTSTART;TZID=Europe/Berlin:20260124T140000
DTEND;TZID=Europe/Berlin:20260124T160000
LOCATION:Hala ZŠ Karla Jeřábka\, Roudnice n.L. Karla Jeřábka 941\, Roudnice
  nad Labem
SUMMARY:US-M: VK Roudnice nad Labem-VK Litvínov\, z.s.
END:VEVENT
BEGIN:VEVENT
UID:64306561-3338-4838-b062-633736333034
DTSTAMP:20260423T105818Z
DESCRIPTION:17/50 VK Roudnice nad Labem - Chlumecká sportovní\, z.s. 1:3 (-
 22\,21\,-21\,-13)
DTSTART;TZID=Europe/Berlin:20260307T100000
DTEND;TZID=Europe/Berlin:20260307T120000
LOCATION:Hala ZŠ Karla Jeřábka\, Roudnice n.L. Karla Jeřábka 941\, Roudnice
  nad Labem
SUMMARY:US-M: VK Roudnice nad Labem-Chlumecká sportovní\, z.s.
END:VEVENT
BEGIN:VEVENT
UID:39613231-3031-4336-b732-623965373037
DTSTAMP:20260423T105818Z
DESCRIPTION:18/53 VK Roudnice nad Labem - Chlumecká sportovní\, z.s. 3:1 (1
 7\,20\,-25\,21)
DTSTART;TZID=Europe/Berlin:20260307T140000
DTEND;TZID=Europe/Berlin:20260307T160000
LOCATION:Hala ZŠ Karla Jeřábka\, Roudnice n.L. Karla Jeřábka 941\, Roudnice
  nad Labem
SUMMARY:US-M: VK Roudnice nad Labem-Chlumecká sportovní\, z.s.
END:VEVENT
BEGIN:VEVENT
UID:30633462-6132-4431-b765-633864626639
DTSTAMP:20260423T105818Z
DESCRIPTION:1/3 VK Jirkov - VK Roudnice nad Labem 3:0 (20\,26\,26)
DTSTART;TZID=Europe/Berlin:20251011T100000
DTEND;TZID=Europe/Berlin:20251011T120000
LOCATION:sportovní hala MGZŠ Krušnohorská Jirkov Jirkov\, Krušnohorská 1675
SUMMARY:US-M: VK Jirkov-VK Roudnice nad Labem
END:VEVENT
BEGIN:VEVENT
UID:31663735-3538-4237-b962-326334393638
DTSTAMP:20260423T105818Z
DESCRIPTION:2/6 VK Jirkov - VK Roudnice nad Labem 3:1 (23\,23\,-20\,20)
DTSTART;TZID=Europe/Berlin:20251011T140000
DTEND;TZID=Europe/Berlin:20251011T160000
LOCATION:sportovní hala MGZŠ Krušnohorská Jirkov Jirkov\, Krušnohorská 1675
SUMMARY:US-M: VK Jirkov-VK Roudnice nad Labem
END:VEVENT
BEGIN:VEVENT
UID:39633266-6330-4063-b536-636661353538
DTSTAMP:20260423T105818Z
DESCRIPTION:3/7 VK Litvínov\, z.s. - VK Roudnice nad Labem 0:3 (-15\,-26\,-
 6)
DTSTART;TZID=Europe/Berlin:20251018T100000
DTEND;TZID=Europe/Berlin:20251018T120000
LOCATION:Tělocvična Sokolovna Litvínov\, Studentská 758\, 43601 Litvínov
SUMMARY:US-M: VK Litvínov\, z.s.-VK Roudnice nad Labem
END:VEVENT
BEGIN:VEVENT
UID:36353834-6232-4164-a162-353565383334
DTSTAMP:20260423T105818Z
DESCRIPTION:4/10 VK Litvínov\, z.s. - VK Roudnice nad Labem 1:3 (-23\,-20\,
 26\,-19)
DTSTART;TZID=Europe/Berlin:20251018T140000
DTEND;TZID=Europe/Berlin:20251018T160000
LOCATION:Tělocvična Sokolovna Litvínov\, Studentská 758\, 43601 Litvínov
SUMMARY:US-M: VK Litvínov\, z.s.-VK Roudnice nad Labem
END:VEVENT
BEGIN:VEVENT
UID:62366235-6334-4461-b363-646162643063
DTSTAMP:20260423T105818Z
DESCRIPTION:7/20 Chlumecká sportovní\, z.s. - VK Roudnice nad Labem 3:1 (-1
 5\,23\,20\,17)
DTSTART;TZID=Europe/Berlin:20251115T100000
DTEND;TZID=Europe/Berlin:20251115T120000
LOCATION:Chlumec Muchocha 228
SUMMARY:US-M: Chlumecká sportovní\, z.s.-VK Roudnice nad Labem
END:VEVENT
BEGIN:VEVENT
UID:38343239-3466-4232-b934-366439353564
DTSTAMP:20260423T105818Z
DESCRIPTION:8/23 Chlumecká sportovní\, z.s. - VK Roudnice nad Labem 0:3 (-2
 0\,-20\,-21)
DTSTART;TZID=Europe/Berlin:20251115T140000
DTEND;TZID=Europe/Berlin:20251115T160000
LOCATION:Chlumec Muchocha 228
SUMMARY:US-M: Chlumecká sportovní\, z.s.-VK Roudnice nad Labem
END:VEVENT
BEGIN:VEVENT
UID:64653536-6337-4262-b832-666566353963
DTSTAMP:20260423T105818Z
DESCRIPTION:15/45 Universitní sportovní klub Slávie - VK Roudnice nad Labem
  3:0 (20\,17\,20)
DTSTART;TZID=Europe/Berlin:20260214T100000
DTEND;TZID=Europe/Berlin:20260214T120000
LOCATION:ZŠ Mojžíř Hlavni 193\, Ústí nad Labem
SUMMARY:US-M: Universitní sportovní klub Slávie-VK Roudnice nad Labem
END:VEVENT
BEGIN:VEVENT
UID:64343737-3432-4835-b739-613830353763
DTSTAMP:20260423T105818Z
DESCRIPTION:16/48 Universitní sportovní klub Slávie - VK Roudnice nad Labem
  3:1 (14\,13\,-20\,14)
DTSTART;TZID=Europe/Berlin:20260214T140000
DTEND;TZID=Europe/Berlin:20260214T160000
LOCATION:ZŠ Mojžíř Hlavni 193\, Ústí nad Labem
SUMMARY:US-M: Universitní sportovní klub Slávie-VK Roudnice nad Labem
END:VEVENT
BEGIN:VEVENT
UID:35313739-3236-4061-b966-636633306131
DTSTAMP:20260423T105818Z
DESCRIPTION:19/56 TJ Slovan Chabařovice\, z.s. - VK Roudnice nad Labem 3:1 
 (-23\,15\,21\,26)
DTSTART;TZID=Europe/Berlin:20260321T090000
DTEND;TZID=Europe/Berlin:20260321T110000
LOCATION:Sportovní hala Chabařovice V Aleji 400\,  403 17 Chabařovice
SUMMARY:US-M: TJ Slovan Chabařovice\, z.s.-VK Roudnice nad Labem
END:VEVENT
BEGIN:VEVENT
UID:66353431-6363-4438-b330-666363386635
DTSTAMP:20260423T105818Z
DESCRIPTION:20/59 TJ Slovan Chabařovice\, z.s. - VK Roudnice nad Labem 3:0 
 (17\,23\,19)
DTSTART;TZID=Europe/Berlin:20260321T130000
DTEND;TZID=Europe/Berlin:20260321T150000
LOCATION:Sportovní hala Chabařovice V Aleji 400\,  403 17 Chabařovice
SUMMARY:US-M: TJ Slovan Chabařovice\, z.s.-VK Roudnice nad Labem
END:VEVENT
END:VCALENDAR
