BEGIN:VCALENDAR
VERSION:2.0
PRODID:-//Volejbalový klub Realistic Karlovy Vary z.s.90951//NONSGML kigkonsult.se iCalcreator 2.41.80//
CALSCALE:GREGORIAN
UID:38323762-3161-4234-a432-623732616131
BEGIN:VEVENT
UID:39633066-6437-4965-b531-656164316362
DTSTAMP:20260422T070105Z
DESCRIPTION:5/20 Volejbalový klub Karlovy Vary z.s. - VK Sever Žatec 2:3 (-
 21\,20\,-8\,22\,-10)
DTSTART;TZID=Europe/Berlin:20251101T100000
DTEND;TZID=Europe/Berlin:20251101T120000
LOCATION:Hala KŘP - Karlovarského kraje Karlovy Vary\, Závodní 386/100
SUMMARY:US-Z-1: Volejbalový klub Karlovy Vary z.s.-VK Sever Žatec
END:VEVENT
BEGIN:VEVENT
UID:62626132-3963-4966-b131-653134633135
DTSTAMP:20260422T070105Z
DESCRIPTION:6/24 Volejbalový klub Karlovy Vary z.s. - VK Sever Žatec 2:3 (2
 2\,-15\,-14\,22\,-11)
DTSTART;TZID=Europe/Berlin:20251101T140000
DTEND;TZID=Europe/Berlin:20251101T160000
LOCATION:Hala KŘP - Karlovarského kraje Karlovy Vary\, Závodní 386/100
SUMMARY:US-Z-1: Volejbalový klub Karlovy Vary z.s.-VK Sever Žatec
END:VEVENT
BEGIN:VEVENT
UID:64376465-3038-4631-a164-376531356462
DTSTAMP:20260422T070105Z
DESCRIPTION:15/60 Volejbalový klub Karlovy Vary z.s. - Volejbal Ústí nad La
 bem 0:3 (-18\,-10\,-15)
DTSTART;TZID=Europe/Berlin:20260214T100000
DTEND;TZID=Europe/Berlin:20260214T120000
LOCATION:Hala KŘP - Karlovarského kraje Karlovy Vary\, Závodní 386/100
SUMMARY:US-Z-1: Volejbalový klub Karlovy Vary z.s.-Volejbal Ústí nad Labem
END:VEVENT
BEGIN:VEVENT
UID:37346665-6337-4732-b337-386363336435
DTSTAMP:20260422T070105Z
DESCRIPTION:16/64 Volejbalový klub Karlovy Vary z.s. - Volejbal Ústí nad La
 bem 1:3 (-14\,14\,-17\,-18)
DTSTART;TZID=Europe/Berlin:20260214T140000
DTEND;TZID=Europe/Berlin:20260214T160000
LOCATION:Hala KŘP - Karlovarského kraje Karlovy Vary\, Závodní 386/100
SUMMARY:US-Z-1: Volejbalový klub Karlovy Vary z.s.-Volejbal Ústí nad Labem
END:VEVENT
BEGIN:VEVENT
UID:38656135-3535-4861-b166-613735616538
DTSTAMP:20260422T070105Z
DESCRIPTION:17/65 Volejbalový klub Karlovy Vary z.s. - ASK Lovosice z.s. 0:
 3 (-18\,-18\,-14)
DTSTART;TZID=Europe/Berlin:20251026T100000
DTEND;TZID=Europe/Berlin:20251026T120000
LOCATION:Hala KŘP - Karlovarského kraje Karlovy Vary\, Závodní 386/100
SUMMARY:US-Z-1: Volejbalový klub Karlovy Vary z.s.-ASK Lovosice z.s.
END:VEVENT
BEGIN:VEVENT
UID:36363039-3665-4365-b534-326361306361
DTSTAMP:20260422T070105Z
DESCRIPTION:18/69 Volejbalový klub Karlovy Vary z.s. - ASK Lovosice z.s. 0:
 3 (-8\,-14\,-24)
DTSTART;TZID=Europe/Berlin:20251026T140000
DTEND;TZID=Europe/Berlin:20251026T160000
LOCATION:Hala KŘP - Karlovarského kraje Karlovy Vary\, Závodní 386/100
SUMMARY:US-Z-1: Volejbalový klub Karlovy Vary z.s.-ASK Lovosice z.s.
END:VEVENT
BEGIN:VEVENT
UID:33666666-3037-4163-b830-333632626536
DTSTAMP:20260422T070105Z
DESCRIPTION:21/82 Volejbalový klub Karlovy Vary z.s. - Sokol Litoměřice 1:3
  (21\,-15\,-23\,-24)
DTSTART;TZID=Europe/Berlin:20260308T100000
DTEND;TZID=Europe/Berlin:20260308T120000
LOCATION:Hala KŘP - Karlovarského kraje Karlovy Vary\, Závodní 386/100
SUMMARY:US-Z-1: Volejbalový klub Karlovy Vary z.s.-Sokol Litoměřice
END:VEVENT
BEGIN:VEVENT
UID:34666161-3833-4537-a433-636162313864
DTSTAMP:20260422T070105Z
DESCRIPTION:22/86 Volejbalový klub Karlovy Vary z.s. - Sokol Litoměřice 1:3
  (13\,-23\,-21\,-14)
DTSTART;TZID=Europe/Berlin:20260308T140000
DTEND;TZID=Europe/Berlin:20260308T160000
LOCATION:Hala KŘP - Karlovarského kraje Karlovy Vary\, Závodní 386/100
SUMMARY:US-Z-1: Volejbalový klub Karlovy Vary z.s.-Sokol Litoměřice
END:VEVENT
BEGIN:VEVENT
UID:39616130-6439-4436-a336-326261616130
DTSTAMP:20260422T070105Z
DESCRIPTION:25/99 Volejbalový klub Karlovy Vary z.s. - VK Litvínov\, z.s. 1
 :3 (-21\,23\,-19\,-10)
DTSTART;TZID=Europe/Berlin:20260321T100000
DTEND;TZID=Europe/Berlin:20260321T120000
LOCATION:Hala KŘP - Karlovarského kraje Karlovy Vary\, Závodní 386/100
SUMMARY:US-Z-1: Volejbalový klub Karlovy Vary z.s.-VK Litvínov\, z.s.
END:VEVENT
BEGIN:VEVENT
UID:63373235-6537-4264-b737-646439353837
DTSTAMP:20260422T070105Z
DESCRIPTION:26/103 Volejbalový klub Karlovy Vary z.s. - VK Litvínov\, z.s. 
 0:3 (-8\,-14\,-18)
DTSTART;TZID=Europe/Berlin:20260321T140000
DTEND;TZID=Europe/Berlin:20260321T160000
LOCATION:Hala KŘP - Karlovarského kraje Karlovy Vary\, Závodní 386/100
SUMMARY:US-Z-1: Volejbalový klub Karlovy Vary z.s.-VK Litvínov\, z.s.
END:VEVENT
BEGIN:VEVENT
UID:61616331-3233-4231-b461-373733356565
DTSTAMP:20260422T070105Z
DESCRIPTION:1/4 Volejbal Ústí nad Labem - Volejbalový klub Karlovy Vary z.s
 . 3:0 (18\,17\,9)
DTSTART;TZID=Europe/Berlin:20251004T100000
DTEND;TZID=Europe/Berlin:20251004T120000
LOCATION:Gymnázium a Střední odborná škola dr. Václava Šmejkala\, Ústí nad 
 Labem Stará 99\, 400 11 Ústí nad Labem-Severní Terasa
SUMMARY:US-Z-1: Volejbal Ústí nad Labem-Volejbalový klub Karlovy Vary z.s.
END:VEVENT
BEGIN:VEVENT
UID:61333335-3766-4562-a138-323737643331
DTSTAMP:20260422T070105Z
DESCRIPTION:2/8 Volejbal Ústí nad Labem - Volejbalový klub Karlovy Vary z.s
 . 3:0 (15\,16\,23)
DTSTART;TZID=Europe/Berlin:20251004T140000
DTEND;TZID=Europe/Berlin:20251004T160000
LOCATION:Gymnázium a Střední odborná škola dr. Václava Šmejkala\, Ústí nad 
 Labem Stará 99\, 400 11 Ústí nad Labem-Severní Terasa
SUMMARY:US-Z-1: Volejbal Ústí nad Labem-Volejbalový klub Karlovy Vary z.s.
END:VEVENT
BEGIN:VEVENT
UID:64633866-3339-4165-b539-633363336332
DTSTAMP:20260422T070105Z
DESCRIPTION:3/9 ASK Lovosice z.s. - Volejbalový klub Karlovy Vary z.s. 3:0 
 (16\,19\,23)
DTSTART;TZID=Europe/Berlin:20251025T100000
DTEND;TZID=Europe/Berlin:20251025T120000
LOCATION:hala U přívozu U Stadionu 1022/2\, 410 02 Lovosice
SUMMARY:US-Z-1: ASK Lovosice z.s.-Volejbalový klub Karlovy Vary z.s.
END:VEVENT
BEGIN:VEVENT
UID:64666539-3331-4334-b166-663135313932
DTSTAMP:20260422T070105Z
DESCRIPTION:4/13 ASK Lovosice z.s. - Volejbalový klub Karlovy Vary z.s. 3:0
  (30\,13\,14)
DTSTART;TZID=Europe/Berlin:20251025T140000
DTEND;TZID=Europe/Berlin:20251025T160000
LOCATION:hala U přívozu U Stadionu 1022/2\, 410 02 Lovosice
SUMMARY:US-Z-1: ASK Lovosice z.s.-Volejbalový klub Karlovy Vary z.s.
END:VEVENT
BEGIN:VEVENT
UID:34353932-3162-4463-a335-616163383337
DTSTAMP:20260422T070105Z
DESCRIPTION:7/26 Sokol Litoměřice - Volejbalový klub Karlovy Vary z.s. 3:0 
 (13\,9\,21)
DTSTART;TZID=Europe/Berlin:20260307T100000
DTEND;TZID=Europe/Berlin:20260307T120000
LOCATION:Sokol Litoměřice Osvobození 17\, Litoměřice\, 41201
SUMMARY:US-Z-1: Sokol Litoměřice-Volejbalový klub Karlovy Vary z.s.
END:VEVENT
BEGIN:VEVENT
UID:65653162-6163-4737-b138-346366663965
DTSTAMP:20260422T070105Z
DESCRIPTION:8/30 Sokol Litoměřice - Volejbalový klub Karlovy Vary z.s. 3:0 
 (16\,18\,14)
DTSTART;TZID=Europe/Berlin:20260307T140000
DTEND;TZID=Europe/Berlin:20260307T160000
LOCATION:Sokol Litoměřice Osvobození 17\, Litoměřice\, 41201
SUMMARY:US-Z-1: Sokol Litoměřice-Volejbalový klub Karlovy Vary z.s.
END:VEVENT
BEGIN:VEVENT
UID:32393931-3234-4133-b365-656538663263
DTSTAMP:20260422T070105Z
DESCRIPTION:9/35 SKVD Ústí B - Volejbalový klub Karlovy Vary z.s. 2:3 (27\,
 -24\,-13\,23\,-11)\nhráno v hale ZŠ Rabasova 3282/3
DTSTART;TZID=Europe/Berlin:20251129T100000
DTEND;TZID=Europe/Berlin:20251129T120000
LOCATION:ZŠ Stříbrnická Stříbrnická 3031\, 400 11 Ústí nad Labem
SUMMARY:US-Z-1: SKVD Ústí B-Volejbalový klub Karlovy Vary z.s.
END:VEVENT
BEGIN:VEVENT
UID:38656164-6236-4835-b966-353632376164
DTSTAMP:20260422T070105Z
DESCRIPTION:10/39 SKVD Ústí B - Volejbalový klub Karlovy Vary z.s. 3:0 (20\
 ,21\,24)\nhráno v hale ZŠ Rabasova 3282/3
DTSTART;TZID=Europe/Berlin:20251129T140000
DTEND;TZID=Europe/Berlin:20251129T160000
LOCATION:ZŠ Stříbrnická Stříbrnická 3031\, 400 11 Ústí nad Labem
SUMMARY:US-Z-1: SKVD Ústí B-Volejbalový klub Karlovy Vary z.s.
END:VEVENT
BEGIN:VEVENT
UID:31316236-6537-4831-a264-623135323334
DTSTAMP:20260422T070105Z
DESCRIPTION:11/43 VK Litvínov\, z.s. - Volejbalový klub Karlovy Vary z.s. 0
 :3 (-11\,-9\,-9)
DTSTART;TZID=Europe/Berlin:20260207T100000
DTEND;TZID=Europe/Berlin:20260207T120000
LOCATION:Tělocvična Sokolovna Studentská 758\, 436 01 Litvínov
SUMMARY:US-Z-1: VK Litvínov\, z.s.-Volejbalový klub Karlovy Vary z.s.
END:VEVENT
BEGIN:VEVENT
UID:30386231-3564-4231-a136-623063363036
DTSTAMP:20260422T070105Z
DESCRIPTION:12/47 VK Litvínov\, z.s. - Volejbalový klub Karlovy Vary z.s. 2
 :3 (20\,15\,-17\,-21\,-9)
DTSTART;TZID=Europe/Berlin:20260207T140000
DTEND;TZID=Europe/Berlin:20260207T160000
LOCATION:Tělocvična Sokolovna Studentská 758\, 436 01 Litvínov
SUMMARY:US-Z-1: VK Litvínov\, z.s.-Volejbalový klub Karlovy Vary z.s.
END:VEVENT
BEGIN:VEVENT
UID:38366639-3335-4661-b562-383535326631
DTSTAMP:20260422T070105Z
DESCRIPTION:13/50 VK Jirkov - Volejbalový klub Karlovy Vary z.s. 3:0 (12\,1
 9\,17)
DTSTART;TZID=Europe/Berlin:20251220T100000
DTEND;TZID=Europe/Berlin:20251220T120000
LOCATION:sportovní hala MGZŠ Krušnohorská Jirkov Jirkov\, Krušnohorská 1675
SUMMARY:US-Z-1: VK Jirkov-Volejbalový klub Karlovy Vary z.s.
END:VEVENT
BEGIN:VEVENT
UID:38323966-3361-4664-a234-346464383733
DTSTAMP:20260422T070105Z
DESCRIPTION:14/54 VK Jirkov - Volejbalový klub Karlovy Vary z.s. 3:0 (16\,1
 9\,20)
DTSTART;TZID=Europe/Berlin:20251220T140000
DTEND;TZID=Europe/Berlin:20251220T160000
LOCATION:sportovní hala MGZŠ Krušnohorská Jirkov Jirkov\, Krušnohorská 1675
SUMMARY:US-Z-1: VK Jirkov-Volejbalový klub Karlovy Vary z.s.
END:VEVENT
BEGIN:VEVENT
UID:32663833-3931-4633-a561-643837656462
DTSTAMP:20260422T070105Z
DESCRIPTION:19/76 VK Sever Žatec - Volejbalový klub Karlovy Vary z.s. 3:0 (
 19\,13\,11)
DTSTART;TZID=Europe/Berlin:20260124T100000
DTEND;TZID=Europe/Berlin:20260124T120000
LOCATION:TJ Sever Žatec Žatec\, Plzeňská 2787
SUMMARY:US-Z-1: VK Sever Žatec-Volejbalový klub Karlovy Vary z.s.
END:VEVENT
BEGIN:VEVENT
UID:65363234-3837-4134-b235-646666316634
DTSTAMP:20260422T070105Z
DESCRIPTION:20/80 VK Sever Žatec - Volejbalový klub Karlovy Vary z.s. 3:0 (
 20\,14\,8)
DTSTART;TZID=Europe/Berlin:20260124T140000
DTEND;TZID=Europe/Berlin:20260124T160000
LOCATION:TJ Sever Žatec Žatec\, Plzeňská 2787
SUMMARY:US-Z-1: VK Sever Žatec-Volejbalový klub Karlovy Vary z.s.
END:VEVENT
BEGIN:VEVENT
UID:31376164-3463-4838-b331-346435643762
DTSTAMP:20260422T070105Z
DESCRIPTION:23/91 SKVD Ústí B - Volejbalový klub Karlovy Vary z.s. 3:1 (23\
 ,-23\,18\,22)
DTSTART;TZID=Europe/Berlin:20260314T100000
DTEND;TZID=Europe/Berlin:20260314T120000
LOCATION:ZŠ Stříbrnická Stříbrnická 3031\, 400 11 Ústí nad Labem
SUMMARY:US-Z-1: SKVD Ústí B-Volejbalový klub Karlovy Vary z.s.
END:VEVENT
BEGIN:VEVENT
UID:31633432-3266-4365-b737-306137656630
DTSTAMP:20260422T070105Z
DESCRIPTION:24/95 SKVD Ústí B - Volejbalový klub Karlovy Vary z.s. 1:3 (-16
 \,-23\,10\,-18)
DTSTART;TZID=Europe/Berlin:20260314T140000
DTEND;TZID=Europe/Berlin:20260314T160000
LOCATION:ZŠ Stříbrnická Stříbrnická 3031\, 400 11 Ústí nad Labem
SUMMARY:US-Z-1: SKVD Ústí B-Volejbalový klub Karlovy Vary z.s.
END:VEVENT
BEGIN:VEVENT
UID:32303866-6664-4235-a337-306337376631
DTSTAMP:20260422T070105Z
DESCRIPTION:27/106 VK Jirkov - Volejbalový klub Karlovy Vary z.s. 3:0 (14\,
 8\,9)
DTSTART;TZID=Europe/Berlin:20260221T100000
DTEND;TZID=Europe/Berlin:20260221T120000
LOCATION:sportovní hala MGZŠ Krušnohorská Jirkov Jirkov\, Krušnohorská 1675
SUMMARY:US-Z-1: VK Jirkov-Volejbalový klub Karlovy Vary z.s.
END:VEVENT
BEGIN:VEVENT
UID:32636165-3661-4136-b230-613939313261
DTSTAMP:20260422T070105Z
DESCRIPTION:28/110 VK Jirkov - Volejbalový klub Karlovy Vary z.s. 3:0 (10\,
 10\,21)
DTSTART;TZID=Europe/Berlin:20260221T140000
DTEND;TZID=Europe/Berlin:20260221T160000
LOCATION:sportovní hala MGZŠ Krušnohorská Jirkov Jirkov\, Krušnohorská 1675
SUMMARY:US-Z-1: VK Jirkov-Volejbalový klub Karlovy Vary z.s.
END:VEVENT
END:VCALENDAR
