BEGIN:VCALENDAR
VERSION:2.0
PRODID:-//SKVD Ústí "B"90960//NONSGML kigkonsult.se iCalcreator 2.41.80//
CALSCALE:GREGORIAN
UID:62363666-6339-4133-a538-656436623232
BEGIN:VEVENT
UID:31343235-3462-4339-a661-326138616163
DTSTAMP:20260422T164716Z
DESCRIPTION:3/15 SKVD Ústí 'B' - VK Šanov Teplice\, z.s. 0:2 (-19\,-9)
DTSTART;TZID=Europe/Berlin:20250921T090200
DTEND;TZID=Europe/Berlin:20250921T110200
LOCATION:ZŠ Stříbrnická\, Ústí nad Labem Stříbrnická 3031/4\, Ústí nad Labe
 m
SUMMARY:US-U16Z-KVAL: SKVD Ústí 'B'-VK Šanov Teplice\, z.s.
END:VEVENT
BEGIN:VEVENT
UID:34613162-3563-4634-b631-363962393262
DTSTAMP:20260422T164716Z
DESCRIPTION:3/13 Ústí n. L. - SKVD Ústí 'B' 2:0 (14\,11)
DTSTART;TZID=Europe/Berlin:20250921T090200
DTEND;TZID=Europe/Berlin:20250921T110200
LOCATION:Gymnázium a Střední odborná škola dr. Václava Šmejkala\, Ústí nad 
 Labem Stará 99\, 400 11 Ústí nad Labem-Severní Terasa
SUMMARY:US-U16Z-KVAL: Ústí n. L.-SKVD Ústí 'B'
END:VEVENT
BEGIN:VEVENT
UID:63316130-3736-4863-b864-656132363938
DTSTAMP:20260422T164716Z
DESCRIPTION:3/17 Volejbalový klub Teplice z.s. - SKVD Ústí 'B' 2:0 (7\,16)
DTSTART;TZID=Europe/Berlin:20250921T090200
DTEND;TZID=Europe/Berlin:20250921T110200
LOCATION:ZŠ Edisonova Edisonova
SUMMARY:US-U16Z-KVAL: Volejbalový klub Teplice z.s.-SKVD Ústí 'B'
END:VEVENT
BEGIN:VEVENT
UID:39616137-3232-4533-a462-356237626230
DTSTAMP:20260422T164716Z
DESCRIPTION:3/18 SKVD Ústí 'B' - VK Sever Žatec B 2:1 (23\,-17\,10)
DTSTART;TZID=Europe/Berlin:20251005T090200
DTEND;TZID=Europe/Berlin:20251005T110200
LOCATION:ZŠ Stříbrnická\, Ústí nad Labem Stříbrnická 3031/4\, Ústí nad Labe
 m
SUMMARY:US-U16Z-1: SKVD Ústí 'B'-VK Sever Žatec B
END:VEVENT
BEGIN:VEVENT
UID:65343664-3066-4930-b666-633432363866
DTSTAMP:20260422T164716Z
DESCRIPTION:3/14 TJ Baník Most - SKVD Ústí 'B' 0:2 (-10\,-22)
DTSTART;TZID=Europe/Berlin:20251005T090200
DTEND;TZID=Europe/Berlin:20251005T110200
LOCATION:Sportovní hala Most Tř. Budovatelů 112/7
SUMMARY:US-U16Z-1: TJ Baník Most-SKVD Ústí 'B'
END:VEVENT
BEGIN:VEVENT
UID:32353334-3733-4639-b837-633163663833
DTSTAMP:20260422T164716Z
DESCRIPTION:3/15 VK Litvínov\, z.s. - SKVD Ústí 'B' 0:2 (-20\,-13)
DTSTART;TZID=Europe/Berlin:20251005T090200
DTEND;TZID=Europe/Berlin:20251005T110200
LOCATION:Sportovní hala Litvínov U Koldomu 2049\, 436 01 Litvínov
SUMMARY:US-U16Z-1: VK Litvínov\, z.s.-SKVD Ústí 'B'
END:VEVENT
BEGIN:VEVENT
UID:36396163-3562-4532-b937-396232653265
DTSTAMP:20260422T164716Z
DESCRIPTION:2/12 SKVD Ústí 'B' - VK Jirkov 0:2 (-20\,-10)
DTSTART;TZID=Europe/Berlin:20251102T090100
DTEND;TZID=Europe/Berlin:20251102T110100
LOCATION:ZŠ Stříbrnická\, Ústí nad Labem Stříbrnická 3031/4\, Ústí nad Labe
 m
SUMMARY:US-U16Z-2: SKVD Ústí 'B'-VK Jirkov
END:VEVENT
BEGIN:VEVENT
UID:38616637-3336-4765-b031-373233346564
DTSTAMP:20260422T164716Z
DESCRIPTION:2/8 VEROS Chomutov - SKVD Ústí 'B' 2:0 (5\,12)
DTSTART;TZID=Europe/Berlin:20251102T090100
DTEND;TZID=Europe/Berlin:20251102T110100
LOCATION:ZŠ Ak. Heyrovského Chomutov Akademika Heyrovského 4539\, 430 03 Ch
 omutov
SUMMARY:US-U16Z-2: VEROS Chomutov-SKVD Ústí 'B'
END:VEVENT
BEGIN:VEVENT
UID:65626239-3165-4365-b162-366266653564
DTSTAMP:20260422T164716Z
DESCRIPTION:2/9 VK Šanov Teplice\, z.s. - SKVD Ústí 'B' 2:0 (9\,18)
DTSTART;TZID=Europe/Berlin:20251102T090100
DTEND;TZID=Europe/Berlin:20251102T110100
LOCATION:ZŠ Koperníkova Koperníkova 2452\, Teplice
SUMMARY:US-U16Z-2: VK Šanov Teplice\, z.s.-SKVD Ústí 'B'
END:VEVENT
BEGIN:VEVENT
UID:39326261-6632-4036-b963-386332396536
DTSTAMP:20260422T164716Z
DESCRIPTION:3/13 SKVD Ústí 'B' - TJ Baník Most 2:1 (-22\,16\,2)
DTSTART;TZID=Europe/Berlin:20251123T090200
DTEND;TZID=Europe/Berlin:20251123T110200
LOCATION:ZŠ Stříbrnická\, Ústí nad Labem Stříbrnická 3031/4\, Ústí nad Labe
 m
SUMMARY:US-U16Z-3: SKVD Ústí 'B'-TJ Baník Most
END:VEVENT
BEGIN:VEVENT
UID:31333239-6261-4130-b938-643732363132
DTSTAMP:20260422T164716Z
DESCRIPTION:3/16 SKVD Ústí 'B' - VK Litvínov\, z.s. 0:2 (-9\,-13)
DTSTART;TZID=Europe/Berlin:20251123T090200
DTEND;TZID=Europe/Berlin:20251123T110200
LOCATION:ZŠ Stříbrnická\, Ústí nad Labem Stříbrnická 3031/4\, Ústí nad Labe
 m
SUMMARY:US-U16Z-3: SKVD Ústí 'B'-VK Litvínov\, z.s.
END:VEVENT
BEGIN:VEVENT
UID:33343663-6336-4265-b361-616263633666
DTSTAMP:20260422T164716Z
DESCRIPTION:3/18 Volejbal Ústí nad Labem B - SKVD Ústí 'B' 2:0 (10\,22)
DTSTART;TZID=Europe/Berlin:20251123T090200
DTEND;TZID=Europe/Berlin:20251123T110200
LOCATION:Gymnázium a Střední odborná škola dr. Václava Šmejkala\, Ústí nad 
 Labem Stará 99\, 400 11 Ústí nad Labem-Severní Terasa
SUMMARY:US-U16Z-3: Volejbal Ústí nad Labem B-SKVD Ústí 'B'
END:VEVENT
BEGIN:VEVENT
UID:32653539-3239-4430-a636-323439656232
DTSTAMP:20260422T164716Z
DESCRIPTION:3/14 SKVD Ústí 'B' - Volejbal Ústí nad Labem B 0:2 (-11\,-18)
DTSTART;TZID=Europe/Berlin:20251214T090200
DTEND;TZID=Europe/Berlin:20251214T110200
LOCATION:ZŠ Stříbrnická\, Ústí nad Labem Stříbrnická 3031/4\, Ústí nad Labe
 m
SUMMARY:US-U16Z-4: SKVD Ústí 'B'-Volejbal Ústí nad Labem B
END:VEVENT
BEGIN:VEVENT
UID:37373733-3538-4633-b662-323462356163
DTSTAMP:20260422T164716Z
DESCRIPTION:3/17 SKVD Ústí 'B' - TJ Baník Most 2:1 (18\,-23\,7)
DTSTART;TZID=Europe/Berlin:20251214T090200
DTEND;TZID=Europe/Berlin:20251214T110200
LOCATION:ZŠ Stříbrnická\, Ústí nad Labem Stříbrnická 3031/4\, Ústí nad Labe
 m
SUMMARY:US-U16Z-4: SKVD Ústí 'B'-TJ Baník Most
END:VEVENT
BEGIN:VEVENT
UID:63656566-3138-4432-b165-636637623061
DTSTAMP:20260422T164716Z
DESCRIPTION:3/16 VEROS Chomutov - SKVD Ústí 'B' 2:0 (11\,14)
DTSTART;TZID=Europe/Berlin:20251214T090200
DTEND;TZID=Europe/Berlin:20251214T110200
LOCATION:ZŠ Ak. Heyrovského Chomutov Akademika Heyrovského 4539\, 430 03 Ch
 omutov
SUMMARY:US-U16Z-4: VEROS Chomutov-SKVD Ústí 'B'
END:VEVENT
BEGIN:VEVENT
UID:39626632-3036-4935-b938-333564653562
DTSTAMP:20260422T164716Z
DESCRIPTION:3/14 SKVD Ústí 'B' - Volejbal Ústí nad Labem B 0:2 (-17\,-21)
DTSTART;TZID=Europe/Berlin:20260125T090200
DTEND;TZID=Europe/Berlin:20260125T110200
LOCATION:ZŠ Stříbrnická\, Ústí nad Labem Stříbrnická 3031/4\, Ústí nad Labe
 m
SUMMARY:US-U16Z-5: SKVD Ústí 'B'-Volejbal Ústí nad Labem B
END:VEVENT
BEGIN:VEVENT
UID:65333338-3738-4363-b263-303562656463
DTSTAMP:20260422T164716Z
DESCRIPTION:3/17 SKVD Ústí 'B' - VK Sever Žatec B 0:2 (-12\,-10)
DTSTART;TZID=Europe/Berlin:20260125T090200
DTEND;TZID=Europe/Berlin:20260125T110200
LOCATION:ZŠ Stříbrnická\, Ústí nad Labem Stříbrnická 3031/4\, Ústí nad Labe
 m
SUMMARY:US-U16Z-5: SKVD Ústí 'B'-VK Sever Žatec B
END:VEVENT
BEGIN:VEVENT
UID:32326337-3831-4266-a663-326462643965
DTSTAMP:20260422T164716Z
DESCRIPTION:3/16 TJ Baník Most - SKVD Ústí 'B' 1:2 (-10\,20\,-7)
DTSTART;TZID=Europe/Berlin:20260125T090200
DTEND;TZID=Europe/Berlin:20260125T110200
LOCATION:Sportovní hala Most Tř. Budovatelů 112/7
SUMMARY:US-U16Z-5: TJ Baník Most-SKVD Ústí 'B'
END:VEVENT
BEGIN:VEVENT
UID:37623336-6432-4562-b566-353061663035
DTSTAMP:20260422T164716Z
DESCRIPTION:3/18 SKVD Ústí 'B' - VK Litvínov\, z.s. 0:2 (-10\,-14)
DTSTART;TZID=Europe/Berlin:20260315T090200
DTEND;TZID=Europe/Berlin:20260315T110200
LOCATION:ZŠ Stříbrnická\, Ústí nad Labem Stříbrnická 3031/4\, Ústí nad Labe
 m
SUMMARY:US-U16Z-6: SKVD Ústí 'B'-VK Litvínov\, z.s.
END:VEVENT
BEGIN:VEVENT
UID:30656661-3832-4334-a337-353535363433
DTSTAMP:20260422T164716Z
DESCRIPTION:3/14 TJ Baník Most - SKVD Ústí 'B' 2:0 (23\,20)
DTSTART;TZID=Europe/Berlin:20260315T090200
DTEND;TZID=Europe/Berlin:20260315T110200
LOCATION:Sportovní hala Most Tř. Budovatelů 112/7
SUMMARY:US-U16Z-6: TJ Baník Most-SKVD Ústí 'B'
END:VEVENT
BEGIN:VEVENT
UID:66366661-3535-4439-b763-326239383536
DTSTAMP:20260422T164716Z
DESCRIPTION:3/15 Volejbal Ústí nad Labem B - SKVD Ústí 'B' 2:0 (10\,17)
DTSTART;TZID=Europe/Berlin:20260315T090200
DTEND;TZID=Europe/Berlin:20260315T110200
LOCATION:Gymnázium a Střední odborná škola dr. Václava Šmejkala\, Ústí nad 
 Labem Stará 99\, 400 11 Ústí nad Labem-Severní Terasa
SUMMARY:US-U16Z-6: Volejbal Ústí nad Labem B-SKVD Ústí 'B'
END:VEVENT
END:VCALENDAR
