BEGIN:VCALENDAR
VERSION:2.0
PRODID:-//SKVD Ústí "A"90961//NONSGML kigkonsult.se iCalcreator 2.41.80//
CALSCALE:GREGORIAN
UID:33393838-6238-4230-a164-323262386537
BEGIN:VEVENT
UID:62393565-6366-4664-a638-343030653133
DTSTAMP:20260422T182946Z
DESCRIPTION:2/8 SKVD Ústí 'A' - TJ Baník Most 2:0 (8\,7)
DTSTART;TZID=Europe/Berlin:20250921T090100
DTEND;TZID=Europe/Berlin:20250921T110100
LOCATION:ZŠ Stříbrnická\, Ústí nad Labem Stříbrnická 3031/4\, Ústí nad Labe
 m
SUMMARY:US-U16Z-KVAL: SKVD Ústí 'A'-TJ Baník Most
END:VEVENT
BEGIN:VEVENT
UID:65333134-6261-4534-b932-356530306435
DTSTAMP:20260422T182946Z
DESCRIPTION:2/11 SKVD Ústí 'A' - Volejbal Ústí nad Labem B 2:0 (20\,11)
DTSTART;TZID=Europe/Berlin:20250921T090100
DTEND;TZID=Europe/Berlin:20250921T110100
LOCATION:ZŠ Stříbrnická\, Ústí nad Labem Stříbrnická 3031/4\, Ústí nad Labe
 m
SUMMARY:US-U16Z-KVAL: SKVD Ústí 'A'-Volejbal Ústí nad Labem B
END:VEVENT
BEGIN:VEVENT
UID:61643933-6630-4836-b762-613631316134
DTSTAMP:20260422T182946Z
DESCRIPTION:2/10 Žatec - SKVD Ústí 'A' 1:2 (11\,-20\,-9)
DTSTART;TZID=Europe/Berlin:20250921T090100
DTEND;TZID=Europe/Berlin:20250921T110100
LOCATION:TJ Sever Žatec Žatec\, Plzeňská 2787
SUMMARY:US-U16Z-KVAL: Žatec-SKVD Ústí 'A'
END:VEVENT
BEGIN:VEVENT
UID:38316134-3430-4638-b639-393534356631
DTSTAMP:20260422T182946Z
DESCRIPTION:1/6 SKVD Ústí 'A' - Ústí n. L. 0:2 (-22\,-20)
DTSTART;TZID=Europe/Berlin:20251005T090000
DTEND;TZID=Europe/Berlin:20251005T110000
LOCATION:ZŠ Stříbrnická\, Ústí nad Labem Stříbrnická 3031/4\, Ústí nad Labe
 m
SUMMARY:US-U16Z-1: SKVD Ústí 'A'-Ústí n. L.
END:VEVENT
BEGIN:VEVENT
UID:30613365-3133-4563-b836-346162353163
DTSTAMP:20260422T182946Z
DESCRIPTION:1/2 VEROS Chomutov - SKVD Ústí 'A' 1:2 (22\,-25\,-14)
DTSTART;TZID=Europe/Berlin:20251005T090000
DTEND;TZID=Europe/Berlin:20251005T110000
LOCATION:ZŠ Ak. Heyrovského Chomutov Akademika Heyrovského 4539\, 430 03 Ch
 omutov
SUMMARY:US-U16Z-1: VEROS Chomutov-SKVD Ústí 'A'
END:VEVENT
BEGIN:VEVENT
UID:65326163-3737-4564-a637-613937316637
DTSTAMP:20260422T182946Z
DESCRIPTION:1/3 Žatec - SKVD Ústí 'A' 2:0 (18\,24)
DTSTART;TZID=Europe/Berlin:20251005T090000
DTEND;TZID=Europe/Berlin:20251005T110000
LOCATION:TJ Sever Žatec Žatec\, Plzeňská 2787
SUMMARY:US-U16Z-1: Žatec-SKVD Ústí 'A'
END:VEVENT
BEGIN:VEVENT
UID:65663633-6332-4666-b630-653665316236
DTSTAMP:20260422T182946Z
DESCRIPTION:1/1 SKVD Ústí 'A' - Žatec 0:2 (-17\,-14)
DTSTART;TZID=Europe/Berlin:20251102T090000
DTEND;TZID=Europe/Berlin:20251102T110000
LOCATION:ZŠ Stříbrnická\, Ústí nad Labem Stříbrnická 3031/4\, Ústí nad Labe
 m
SUMMARY:US-U16Z-2: SKVD Ústí 'A'-Žatec
END:VEVENT
BEGIN:VEVENT
UID:32376233-6137-4762-a630-363531306565
DTSTAMP:20260422T182946Z
DESCRIPTION:1/4 SKVD Ústí 'A' - Ústí n. L. 0:2 (-24\,-15)
DTSTART;TZID=Europe/Berlin:20251102T090000
DTEND;TZID=Europe/Berlin:20251102T110000
LOCATION:ZŠ Stříbrnická\, Ústí nad Labem Stříbrnická 3031/4\, Ústí nad Labe
 m
SUMMARY:US-U16Z-2: SKVD Ústí 'A'-Ústí n. L.
END:VEVENT
BEGIN:VEVENT
UID:65393932-3261-4639-b338-306130333438
DTSTAMP:20260422T182946Z
DESCRIPTION:1/6 Volejbalový klub Teplice z.s. - SKVD Ústí 'A' 2:1 (-24\,21\
 ,7)
DTSTART;TZID=Europe/Berlin:20251102T090000
DTEND;TZID=Europe/Berlin:20251102T110000
LOCATION:ZŠ Edisonova Edisonova
SUMMARY:US-U16Z-2: Volejbalový klub Teplice z.s.-SKVD Ústí 'A'
END:VEVENT
BEGIN:VEVENT
UID:33656264-3665-4362-b165-646163373532
DTSTAMP:20260422T182946Z
DESCRIPTION:2/9 SKVD Ústí 'A' - VK Šanov Teplice\, z.s. 2:0 (13\,17)
DTSTART;TZID=Europe/Berlin:20251123T090100
DTEND;TZID=Europe/Berlin:20251123T110100
LOCATION:ZŠ Stříbrnická\, Ústí nad Labem Stříbrnická 3031/4\, Ústí nad Labe
 m
SUMMARY:US-U16Z-3: SKVD Ústí 'A'-VK Šanov Teplice\, z.s.
END:VEVENT
BEGIN:VEVENT
UID:38313263-6564-4664-b737-323566636566
DTSTAMP:20260422T182946Z
DESCRIPTION:2/7 VEROS Chomutov - SKVD Ústí 'A' 0:2 (-11\,-15)
DTSTART;TZID=Europe/Berlin:20251123T090100
DTEND;TZID=Europe/Berlin:20251123T110100
LOCATION:ZŠ Ak. Heyrovského Chomutov Akademika Heyrovského 4539\, 430 03 Ch
 omutov
SUMMARY:US-U16Z-3: VEROS Chomutov-SKVD Ústí 'A'
END:VEVENT
BEGIN:VEVENT
UID:37646232-3235-4632-a531-643562623638
DTSTAMP:20260422T182946Z
DESCRIPTION:2/11 VK Sever Žatec B - SKVD Ústí 'A' 0:2 (-21\,-12)
DTSTART;TZID=Europe/Berlin:20251123T090100
DTEND;TZID=Europe/Berlin:20251123T110100
LOCATION:TJ Sever Žatec Žatec\, Plzeňská 2787
SUMMARY:US-U16Z-3: VK Sever Žatec B-SKVD Ústí 'A'
END:VEVENT
BEGIN:VEVENT
UID:34633865-6563-4866-b035-343931373563
DTSTAMP:20260422T182946Z
DESCRIPTION:1/3 SKVD Ústí 'A' - Žatec 2:1 (12\,-15\,7)
DTSTART;TZID=Europe/Berlin:20251214T090000
DTEND;TZID=Europe/Berlin:20251214T110000
LOCATION:ZŠ Stříbrnická\, Ústí nad Labem Stříbrnická 3031/4\, Ústí nad Labe
 m
SUMMARY:US-U16Z-4: SKVD Ústí 'A'-Žatec
END:VEVENT
BEGIN:VEVENT
UID:64303038-3530-4931-b861-333265633636
DTSTAMP:20260422T182946Z
DESCRIPTION:1/1 Ústí n. L. - SKVD Ústí 'A' 2:0 (18\,19)
DTSTART;TZID=Europe/Berlin:20251214T090000
DTEND;TZID=Europe/Berlin:20251214T110000
LOCATION:Gymnázium a Střední odborná škola dr. Václava Šmejkala\, Ústí nad 
 Labem Stará 99\, 400 11 Ústí nad Labem-Severní Terasa
SUMMARY:US-U16Z-4: Ústí n. L.-SKVD Ústí 'A'
END:VEVENT
BEGIN:VEVENT
UID:39323437-3966-4036-a438-323337363137
DTSTAMP:20260422T182946Z
DESCRIPTION:1/5 Volejbalový klub Teplice z.s. - SKVD Ústí 'A' 2:0 (10\,12)
DTSTART;TZID=Europe/Berlin:20251214T090000
DTEND;TZID=Europe/Berlin:20251214T110000
LOCATION:ZŠ Edisonova Edisonova
SUMMARY:US-U16Z-4: Volejbalový klub Teplice z.s.-SKVD Ústí 'A'
END:VEVENT
BEGIN:VEVENT
UID:39336435-6362-4237-b662-666465653632
DTSTAMP:20260422T182946Z
DESCRIPTION:1/1 SKVD Ústí 'A' - VK Šanov Teplice\, z.s. 0:2 (-17\,-22)
DTSTART;TZID=Europe/Berlin:20260125T090000
DTEND;TZID=Europe/Berlin:20260125T110000
LOCATION:ZŠ Stříbrnická\, Ústí nad Labem Stříbrnická 3031/4\, Ústí nad Labe
 m
SUMMARY:US-U16Z-5: SKVD Ústí 'A'-VK Šanov Teplice\, z.s.
END:VEVENT
BEGIN:VEVENT
UID:32366438-6439-4161-b434-316138393733
DTSTAMP:20260422T182946Z
DESCRIPTION:1/4 SKVD Ústí 'A' - Ústí n. L. 0:2 (-13\,-15)
DTSTART;TZID=Europe/Berlin:20260125T090000
DTEND;TZID=Europe/Berlin:20260125T110000
LOCATION:ZŠ Stříbrnická\, Ústí nad Labem Stříbrnická 3031/4\, Ústí nad Labe
 m
SUMMARY:US-U16Z-5: SKVD Ústí 'A'-Ústí n. L.
END:VEVENT
BEGIN:VEVENT
UID:62376466-6434-4466-b535-393365623262
DTSTAMP:20260422T182946Z
DESCRIPTION:1/6 Volejbalový klub Teplice z.s. - SKVD Ústí 'A' 1:2 (-15\,24\
 ,-17)
DTSTART;TZID=Europe/Berlin:20260125T090000
DTEND;TZID=Europe/Berlin:20260125T110000
LOCATION:ZŠ Edisonova Edisonova
SUMMARY:US-U16Z-5: Volejbalový klub Teplice z.s.-SKVD Ústí 'A'
END:VEVENT
BEGIN:VEVENT
UID:63383234-3437-4966-b931-623165396262
DTSTAMP:20260422T182946Z
DESCRIPTION:1/2 SKVD Ústí 'A' - Ústí n. L. 0:2 (-11\,-11)
DTSTART;TZID=Europe/Berlin:20260315T090000
DTEND;TZID=Europe/Berlin:20260315T110000
LOCATION:ZŠ Stříbrnická\, Ústí nad Labem Stříbrnická 3031/4\, Ústí nad Labe
 m
SUMMARY:US-U16Z-6: SKVD Ústí 'A'-Ústí n. L.
END:VEVENT
BEGIN:VEVENT
UID:34663937-3836-4938-b130-653563323663
DTSTAMP:20260422T182946Z
DESCRIPTION:1/5 SKVD Ústí 'A' - VK Šanov Teplice\, z.s. 2:0 (25\,16)
DTSTART;TZID=Europe/Berlin:20260315T090000
DTEND;TZID=Europe/Berlin:20260315T110000
LOCATION:ZŠ Stříbrnická\, Ústí nad Labem Stříbrnická 3031/4\, Ústí nad Labe
 m
SUMMARY:US-U16Z-6: SKVD Ústí 'A'-VK Šanov Teplice\, z.s.
END:VEVENT
BEGIN:VEVENT
UID:38663966-3031-4561-a131-646263346566
DTSTAMP:20260422T182946Z
DESCRIPTION:1/4 Žatec - SKVD Ústí 'A' 2:0 (17\,13)
DTSTART;TZID=Europe/Berlin:20260315T090000
DTEND;TZID=Europe/Berlin:20260315T110000
LOCATION:TJ Sever Žatec Žatec\, Plzeňská 2787
SUMMARY:US-U16Z-6: Žatec-SKVD Ústí 'A'
END:VEVENT
END:VCALENDAR
