BEGIN:VCALENDAR
VERSION:2.0
PRODID:-//VK Jirkov90967//NONSGML kigkonsult.se iCalcreator 2.41.80//
CALSCALE:GREGORIAN
UID:35393934-6136-4363-b632-653031343032
BEGIN:VEVENT
UID:62653737-3833-4037-b736-373631663439
DTSTAMP:20260422T230045Z
DESCRIPTION:1/1 VK Jirkov - VK Sever Žatec B 2:0 (11\,13)
DTSTART;TZID=Europe/Berlin:20250921T090000
DTEND;TZID=Europe/Berlin:20250921T110000
LOCATION:sportovní hala MGZŠ Krušnohorská Jirkov Jirkov\, Krušnohorská 1675
SUMMARY:US-U16Z-KVAL: VK Jirkov-VK Sever Žatec B
END:VEVENT
BEGIN:VEVENT
UID:30393064-6131-4333-b437-313466336331
DTSTAMP:20260422T230045Z
DESCRIPTION:1/4 VK Jirkov - VEROS Chomutov 0:2 (-18\,-20)
DTSTART;TZID=Europe/Berlin:20250921T090000
DTEND;TZID=Europe/Berlin:20250921T110000
LOCATION:sportovní hala MGZŠ Krušnohorská Jirkov Jirkov\, Krušnohorská 1675
SUMMARY:US-U16Z-KVAL: VK Jirkov-VEROS Chomutov
END:VEVENT
BEGIN:VEVENT
UID:35626465-6635-4135-b261-336530616234
DTSTAMP:20260422T230045Z
DESCRIPTION:1/6 VK Litvínov\, z.s. - VK Jirkov 0:2 (-25\,-16)
DTSTART;TZID=Europe/Berlin:20250921T090000
DTEND;TZID=Europe/Berlin:20250921T110000
LOCATION:Sportovní hala Litvínov U Koldomu 2049\, 436 01 Litvínov
SUMMARY:US-U16Z-KVAL: VK Litvínov\, z.s.-VK Jirkov
END:VEVENT
BEGIN:VEVENT
UID:35346238-3165-4666-b231-663861663031
DTSTAMP:20260422T230045Z
DESCRIPTION:1/3 VK Jirkov - SK Španielka 2:1 (22\,-23\,9)
DTSTART;TZID=Europe/Berlin:20250913T100000
DTEND;TZID=Europe/Berlin:20250913T120000
LOCATION:sportovní hala MGZŠ Krušnohorská Jirkov Jirkov\, Krušnohorská 1675
SUMMARY:CP-U16Z-Z1C: VK Jirkov-SK Španielka
END:VEVENT
BEGIN:VEVENT
UID:38363761-3662-4161-a532-623335366163
DTSTAMP:20260422T230045Z
DESCRIPTION:4/12 VK Jirkov - SK Kometa Praha 2:0 (19\,12)
DTSTART;TZID=Europe/Berlin:20250913T153000
DTEND;TZID=Europe/Berlin:20250913T173000
LOCATION:sportovní hala MGZŠ Krušnohorská Jirkov Jirkov\, Krušnohorská 1675
SUMMARY:CP-U16Z-Z1C: VK Jirkov-SK Kometa Praha
END:VEVENT
BEGIN:VEVENT
UID:65326561-3134-4231-a665-656638663131
DTSTAMP:20260422T230045Z
DESCRIPTION:6/18 VK Jirkov - Mělník 2:0 (22\,24)
DTSTART;TZID=Europe/Berlin:20250914T103000
DTEND;TZID=Europe/Berlin:20250914T123000
LOCATION:sportovní hala MGZŠ Krušnohorská Jirkov Jirkov\, Krušnohorská 1675
SUMMARY:CP-U16Z-Z1C: VK Jirkov-Mělník
END:VEVENT
BEGIN:VEVENT
UID:31303232-3230-4031-b962-643663383233
DTSTAMP:20260422T230045Z
DESCRIPTION:7/21 VK Jirkov - Kladno A 2:0 (14\,11)
DTSTART;TZID=Europe/Berlin:20250914T120000
DTEND;TZID=Europe/Berlin:20250914T140000
LOCATION:sportovní hala MGZŠ Krušnohorská Jirkov Jirkov\, Krušnohorská 1675
SUMMARY:CP-U16Z-Z1C: VK Jirkov-Kladno A
END:VEVENT
BEGIN:VEVENT
UID:30613961-6636-4332-b530-646234333063
DTSTAMP:20260422T230045Z
DESCRIPTION:2/6 TJ Sokol M. Hradiště - VK Jirkov 1:2 (-21\,24\,-6)
DTSTART;TZID=Europe/Berlin:20250913T113000
DTEND;TZID=Europe/Berlin:20250913T133000
LOCATION:Sportovní hala BIOS\, Sokolovská 254 Mnichovo Hradiště
SUMMARY:CP-U16Z-Z1C: TJ Sokol M. Hradiště-VK Jirkov
END:VEVENT
BEGIN:VEVENT
UID:35373739-6262-4532-a432-663465633562
DTSTAMP:20260422T230045Z
DESCRIPTION:5/15 Nymburk - VK Jirkov 2:0 (15\,17)
DTSTART;TZID=Europe/Berlin:20250914T090000
DTEND;TZID=Europe/Berlin:20250914T110000
LOCATION:Bios\, V Kolonii 1804 Nymburk
SUMMARY:CP-U16Z-Z1C: Nymburk-VK Jirkov
END:VEVENT
BEGIN:VEVENT
UID:39313166-3463-4435-b566-663639643138
DTSTAMP:20260422T230045Z
DESCRIPTION:1/3 VK Jirkov - TJ Slovan Varnsdorf 0:2 (-16\,-10)
DTSTART;TZID=Europe/Berlin:20251018T100000
DTEND;TZID=Europe/Berlin:20251018T120000
LOCATION:sportovní hala MGZŠ Krušnohorská Jirkov Jirkov\, Krušnohorská 1675
SUMMARY:CP-U16Z-Z2B: VK Jirkov-TJ Slovan Varnsdorf
END:VEVENT
BEGIN:VEVENT
UID:63383633-3863-4430-a638-646235666563
DTSTAMP:20260422T230045Z
DESCRIPTION:4/12 VK Jirkov - Madeta Jihostroj ČB 1:2 (18\,-17\,-8)
DTSTART;TZID=Europe/Berlin:20251018T143000
DTEND;TZID=Europe/Berlin:20251018T163000
LOCATION:sportovní hala MGZŠ Krušnohorská Jirkov Jirkov\, Krušnohorská 1675
SUMMARY:CP-U16Z-Z2B: VK Jirkov-Madeta Jihostroj ČB
END:VEVENT
BEGIN:VEVENT
UID:33363561-3135-4432-b864-356236353966
DTSTAMP:20260422T230045Z
DESCRIPTION:5/15 VK Jirkov - Volejbal Ústí n. L. 0:2 (-18\,-18)
DTSTART;TZID=Europe/Berlin:20251018T160000
DTEND;TZID=Europe/Berlin:20251018T180000
LOCATION:sportovní hala MGZŠ Krušnohorská Jirkov Jirkov\, Krušnohorská 1675
SUMMARY:CP-U16Z-Z2B: VK Jirkov-Volejbal Ústí n. L.
END:VEVENT
BEGIN:VEVENT
UID:39646230-6631-4235-b063-636433616231
DTSTAMP:20260422T230045Z
DESCRIPTION:7/19 VK Jirkov - TJ Loko Plzeň 0:2 (-18\,-21)
DTSTART;TZID=Europe/Berlin:20251019T090000
DTEND;TZID=Europe/Berlin:20251019T110000
LOCATION:sportovní hala MGZŠ Krušnohorská Jirkov Jirkov\, Krušnohorská 1675
SUMMARY:CP-U16Z-Z2B: VK Jirkov-TJ Loko Plzeň
END:VEVENT
BEGIN:VEVENT
UID:64646632-3236-4865-a339-636337646433
DTSTAMP:20260422T230045Z
DESCRIPTION:2/6 SK Kometa Praha - VK Jirkov 2:1 (-22\,21\,6)
DTSTART;TZID=Europe/Berlin:20251018T113000
DTEND;TZID=Europe/Berlin:20251018T133000
LOCATION:Tělocvična ZŠ Na Šutce\, Na Šutce 440 Praha - Troja
SUMMARY:CP-U16Z-Z2B: SK Kometa Praha-VK Jirkov
END:VEVENT
BEGIN:VEVENT
UID:38646331-3934-4330-a535-373139373165
DTSTAMP:20260422T230045Z
DESCRIPTION:8/22 Volejbal Vršovice Praha - VK Jirkov 2:0 (10\,11)
DTSTART;TZID=Europe/Berlin:20251019T103000
DTEND;TZID=Europe/Berlin:20251019T123000
LOCATION:Sokolovna Vršovice\, Sportovní 111 Praha - Vršovice
SUMMARY:CP-U16Z-Z2B: Volejbal Vršovice Praha-VK Jirkov
END:VEVENT
BEGIN:VEVENT
UID:39306335-3739-4333-a635-363635346336
DTSTAMP:20260422T230045Z
DESCRIPTION:10/28 Volejbal Tábor - VK Jirkov 1:2 (-23\,13\,-13)
DTSTART;TZID=Europe/Berlin:20251019T133000
DTEND;TZID=Europe/Berlin:20251019T153000
LOCATION:Sportovní Hala Mír\, U Stadionu Míru 1579 Tábor
SUMMARY:CP-U16Z-Z2B: Volejbal Tábor-VK Jirkov
END:VEVENT
BEGIN:VEVENT
UID:65383838-3032-4364-b862-333962303638
DTSTAMP:20260422T230045Z
DESCRIPTION:2/7 VK Jirkov - VK Šanov Teplice\, z.s. 2:0 (7\,21)
DTSTART;TZID=Europe/Berlin:20251005T090100
DTEND;TZID=Europe/Berlin:20251005T110100
LOCATION:sportovní hala MGZŠ Krušnohorská Jirkov Jirkov\, Krušnohorská 1675
SUMMARY:US-U16Z-1: VK Jirkov-VK Šanov Teplice\, z.s.
END:VEVENT
BEGIN:VEVENT
UID:62613135-6564-4966-a236-653732663639
DTSTAMP:20260422T230045Z
DESCRIPTION:2/10 VK Jirkov - Volejbalový klub Teplice z.s. 1:2 (20\,-19\,-1
 3)
DTSTART;TZID=Europe/Berlin:20251005T090100
DTEND;TZID=Europe/Berlin:20251005T110100
LOCATION:sportovní hala MGZŠ Krušnohorská Jirkov Jirkov\, Krušnohorská 1675
SUMMARY:US-U16Z-1: VK Jirkov-Volejbalový klub Teplice z.s.
END:VEVENT
BEGIN:VEVENT
UID:62343133-3663-4534-b662-363865643065
DTSTAMP:20260422T230045Z
DESCRIPTION:2/12 Volejbal Ústí nad Labem B - VK Jirkov 0:2 (-11\,-17)
DTSTART;TZID=Europe/Berlin:20251005T090100
DTEND;TZID=Europe/Berlin:20251005T110100
LOCATION:Gymnázium a Střední odborná škola dr. Václava Šmejkala\, Ústí nad 
 Labem Stará 99\, 400 11 Ústí nad Labem-Severní Terasa
SUMMARY:US-U16Z-1: Volejbal Ústí nad Labem B-VK Jirkov
END:VEVENT
BEGIN:VEVENT
UID:62653532-3938-4134-b065-616436643366
DTSTAMP:20260422T230045Z
DESCRIPTION:1/3 VK Jirkov - SC Braník 0:2 (-22\,-23)
DTSTART;TZID=Europe/Berlin:20251129T100000
DTEND;TZID=Europe/Berlin:20251129T120000
LOCATION:sportovní hala MGZŠ Krušnohorská Jirkov Jirkov\, Krušnohorská 1675
SUMMARY:CP-U16Z-Z3C: VK Jirkov-SC Braník
END:VEVENT
BEGIN:VEVENT
UID:32616635-3161-4330-b064-646632646162
DTSTAMP:20260422T230045Z
DESCRIPTION:4/12 VK Jirkov - Volejbal Tábor 2:0 (18\,17)
DTSTART;TZID=Europe/Berlin:20251129T143000
DTEND;TZID=Europe/Berlin:20251129T163000
LOCATION:sportovní hala MGZŠ Krušnohorská Jirkov Jirkov\, Krušnohorská 1675
SUMMARY:CP-U16Z-Z3C: VK Jirkov-Volejbal Tábor
END:VEVENT
BEGIN:VEVENT
UID:62363336-6431-4161-b535-353736643737
DTSTAMP:20260422T230045Z
DESCRIPTION:5/15 VK Jirkov - VK Slavia Plzeň 2:1 (18\,-19\,3)
DTSTART;TZID=Europe/Berlin:20251129T160000
DTEND;TZID=Europe/Berlin:20251129T180000
LOCATION:sportovní hala MGZŠ Krušnohorská Jirkov Jirkov\, Krušnohorská 1675
SUMMARY:CP-U16Z-Z3C: VK Jirkov-VK Slavia Plzeň
END:VEVENT
BEGIN:VEVENT
UID:37636461-6662-4763-b530-353439393966
DTSTAMP:20260422T230045Z
DESCRIPTION:7/19 VK Jirkov - TJ Bižuterie Jablonec n/N 0:2 (-18\,-19)
DTSTART;TZID=Europe/Berlin:20251130T090000
DTEND;TZID=Europe/Berlin:20251130T110000
LOCATION:sportovní hala MGZŠ Krušnohorská Jirkov Jirkov\, Krušnohorská 1675
SUMMARY:CP-U16Z-Z3C: VK Jirkov-TJ Bižuterie Jablonec n/N
END:VEVENT
BEGIN:VEVENT
UID:61663233-3330-4930-b339-363132343230
DTSTAMP:20260422T230045Z
DESCRIPTION:2/6 VSK Baník Sokolov - VK Jirkov 0:2 (-17\,-14)
DTSTART;TZID=Europe/Berlin:20251129T113000
DTEND;TZID=Europe/Berlin:20251129T133000
LOCATION:Jiskra\, Maxima Gorkého 280 Sokolov
SUMMARY:CP-U16Z-Z3C: VSK Baník Sokolov-VK Jirkov
END:VEVENT
BEGIN:VEVENT
UID:61663030-6637-4661-b262-393130616263
DTSTAMP:20260422T230045Z
DESCRIPTION:8/22 Volejbal Rudolfov - VK Jirkov 2:1 (24\,-19\,12)
DTSTART;TZID=Europe/Berlin:20251130T103000
DTEND;TZID=Europe/Berlin:20251130T123000
LOCATION:Sportovní hala Rudolfov\, Adamovská 511 Rudolfov
SUMMARY:CP-U16Z-Z3C: Volejbal Rudolfov-VK Jirkov
END:VEVENT
BEGIN:VEVENT
UID:39373133-3836-4563-a663-636132623863
DTSTAMP:20260422T230045Z
DESCRIPTION:10/28 S V B C - VK Jirkov 2:0 (23\,20)
DTSTART;TZID=Europe/Berlin:20251130T133000
DTEND;TZID=Europe/Berlin:20251130T153000
SUMMARY:CP-U16Z-Z3C: S V B C-VK Jirkov
END:VEVENT
BEGIN:VEVENT
UID:62656137-3364-4032-b939-323531663738
DTSTAMP:20260422T230045Z
DESCRIPTION:2/7 VK Jirkov - VK Šanov Teplice\, z.s. 2:0 (22\,20)
DTSTART;TZID=Europe/Berlin:20251102T090100
DTEND;TZID=Europe/Berlin:20251102T110100
LOCATION:sportovní hala MGZŠ Krušnohorská Jirkov Jirkov\, Krušnohorská 1675
SUMMARY:US-U16Z-2: VK Jirkov-VK Šanov Teplice\, z.s.
END:VEVENT
BEGIN:VEVENT
UID:34346366-3962-4331-b461-373933653564
DTSTAMP:20260422T230045Z
DESCRIPTION:2/10 VK Jirkov - VEROS Chomutov 2:0 (11\,17)
DTSTART;TZID=Europe/Berlin:20251102T090100
DTEND;TZID=Europe/Berlin:20251102T110100
LOCATION:sportovní hala MGZŠ Krušnohorská Jirkov Jirkov\, Krušnohorská 1675
SUMMARY:US-U16Z-2: VK Jirkov-VEROS Chomutov
END:VEVENT
BEGIN:VEVENT
UID:65306563-6134-4231-b462-353365303363
DTSTAMP:20260422T230045Z
DESCRIPTION:2/12 SKVD Ústí 'B' - VK Jirkov 0:2 (-20\,-10)
DTSTART;TZID=Europe/Berlin:20251102T090100
DTEND;TZID=Europe/Berlin:20251102T110100
LOCATION:ZŠ Stříbrnická\, Ústí nad Labem Stříbrnická 3031/4\, Ústí nad Labe
 m
SUMMARY:US-U16Z-2: SKVD Ústí 'B'-VK Jirkov
END:VEVENT
BEGIN:VEVENT
UID:37323866-3361-4139-b733-666538336235
DTSTAMP:20260422T230045Z
DESCRIPTION:1/6 VK Jirkov - Volejbalový klub Teplice z.s. 0:2 (-18\,-8)
DTSTART;TZID=Europe/Berlin:20251123T090000
DTEND;TZID=Europe/Berlin:20251123T110000
LOCATION:sportovní hala MGZŠ Krušnohorská Jirkov Jirkov\, Krušnohorská 1675
SUMMARY:US-U16Z-3: VK Jirkov-Volejbalový klub Teplice z.s.
END:VEVENT
BEGIN:VEVENT
UID:35626161-3765-4238-b264-313439363531
DTSTAMP:20260422T230045Z
DESCRIPTION:1/2 Ústí n. L. - VK Jirkov 2:0 (4\,15)
DTSTART;TZID=Europe/Berlin:20251123T090000
DTEND;TZID=Europe/Berlin:20251123T110000
LOCATION:Gymnázium a Střední odborná škola dr. Václava Šmejkala\, Ústí nad 
 Labem Stará 99\, 400 11 Ústí nad Labem-Severní Terasa
SUMMARY:US-U16Z-3: Ústí n. L.-VK Jirkov
END:VEVENT
BEGIN:VEVENT
UID:34343563-6232-4661-a261-343062653838
DTSTAMP:20260422T230045Z
DESCRIPTION:1/3 Žatec - VK Jirkov 2:0 (20\,13)
DTSTART;TZID=Europe/Berlin:20251123T090000
DTEND;TZID=Europe/Berlin:20251123T110000
LOCATION:TJ Sever Žatec Žatec\, Plzeňská 2787
SUMMARY:US-U16Z-3: Žatec-VK Jirkov
END:VEVENT
BEGIN:VEVENT
UID:31353931-6564-4238-a262-626631663433
DTSTAMP:20260422T230045Z
DESCRIPTION:1/3 VK Jirkov - TJ Bižuterie Jablonec n/N 0:2 (-24\,-17)
DTSTART;TZID=Europe/Berlin:20260117T100000
DTEND;TZID=Europe/Berlin:20260117T120000
LOCATION:sportovní hala MGZŠ Krušnohorská Jirkov Jirkov\, Krušnohorská 1675
SUMMARY:CP-U16Z4D: VK Jirkov-TJ Bižuterie Jablonec n/N
END:VEVENT
BEGIN:VEVENT
UID:32646263-6133-4663-b734-643037336463
DTSTAMP:20260422T230045Z
DESCRIPTION:4/12 VK Jirkov - Jihlava 0:2 (-15\,-15)
DTSTART;TZID=Europe/Berlin:20260117T143000
DTEND;TZID=Europe/Berlin:20260117T163000
LOCATION:sportovní hala MGZŠ Krušnohorská Jirkov Jirkov\, Krušnohorská 1675
SUMMARY:CP-U16Z4D: VK Jirkov-Jihlava
END:VEVENT
BEGIN:VEVENT
UID:65333934-3632-4435-b463-373634343539
DTSTAMP:20260422T230045Z
DESCRIPTION:5/15 VK Jirkov - TJ Slovan Varnsdorf 2:1 (-20\,15\,10)
DTSTART;TZID=Europe/Berlin:20260117T160000
DTEND;TZID=Europe/Berlin:20260117T180000
LOCATION:sportovní hala MGZŠ Krušnohorská Jirkov Jirkov\, Krušnohorská 1675
SUMMARY:CP-U16Z4D: VK Jirkov-TJ Slovan Varnsdorf
END:VEVENT
BEGIN:VEVENT
UID:36393634-3836-4539-a636-646136356535
DTSTAMP:20260422T230045Z
DESCRIPTION:7/19 VK Jirkov - T.J. Sokol Pardubice I. 0:2 (-23\,-12)
DTSTART;TZID=Europe/Berlin:20260118T090000
DTEND;TZID=Europe/Berlin:20260118T110000
LOCATION:sportovní hala MGZŠ Krušnohorská Jirkov Jirkov\, Krušnohorská 1675
SUMMARY:CP-U16Z4D: VK Jirkov-T.J. Sokol Pardubice I.
END:VEVENT
BEGIN:VEVENT
UID:63383861-3639-4537-a438-316461623430
DTSTAMP:20260422T230045Z
DESCRIPTION:2/6 Střešovice - VK Jirkov 2:1 (20\,-17\,7)
DTSTART;TZID=Europe/Berlin:20260117T113000
DTEND;TZID=Europe/Berlin:20260117T133000
LOCATION:TJ Tatran Střešovice - tělocvična\, Sibeliova 368 Praha - Střešovi
 ce
SUMMARY:CP-U16Z4D: Střešovice-VK Jirkov
END:VEVENT
BEGIN:VEVENT
UID:61356665-3936-4636-a336-383331376331
DTSTAMP:20260422T230045Z
DESCRIPTION:8/22 VK Olomouc - VK Jirkov 2:0 (17\,12)
DTSTART;TZID=Europe/Berlin:20260118T103000
DTEND;TZID=Europe/Berlin:20260118T123000
LOCATION:ZS Tererova \, Tererovo nám. 919 Olomouc - Nová Ulice
SUMMARY:CP-U16Z4D: VK Olomouc-VK Jirkov
END:VEVENT
BEGIN:VEVENT
UID:30336266-3766-4331-a263-653433383331
DTSTAMP:20260422T230045Z
DESCRIPTION:10/28 S V B C - VK Jirkov 2:1 (-19\,12\,12)
DTSTART;TZID=Europe/Berlin:20260118T133000
DTEND;TZID=Europe/Berlin:20260118T153000
SUMMARY:CP-U16Z4D: S V B C-VK Jirkov
END:VEVENT
BEGIN:VEVENT
UID:35303963-3961-4865-b032-366632323635
DTSTAMP:20260422T230045Z
DESCRIPTION:2/8 VK Jirkov - VK Šanov Teplice\, z.s. 1:2 (-19\,22\,-14)
DTSTART;TZID=Europe/Berlin:20251214T090100
DTEND;TZID=Europe/Berlin:20251214T110100
LOCATION:sportovní hala MGZŠ Krušnohorská Jirkov Jirkov\, Krušnohorská 1675
SUMMARY:US-U16Z-4: VK Jirkov-VK Šanov Teplice\, z.s.
END:VEVENT
BEGIN:VEVENT
UID:38373561-3662-4833-b665-323765633739
DTSTAMP:20260422T230045Z
DESCRIPTION:2/11 VK Jirkov - VK Litvínov\, z.s. 2:0 (16\,20)
DTSTART;TZID=Europe/Berlin:20251214T090100
DTEND;TZID=Europe/Berlin:20251214T110100
LOCATION:sportovní hala MGZŠ Krušnohorská Jirkov Jirkov\, Krušnohorská 1675
SUMMARY:US-U16Z-4: VK Jirkov-VK Litvínov\, z.s.
END:VEVENT
BEGIN:VEVENT
UID:37663435-6438-4937-b661-666262666334
DTSTAMP:20260422T230045Z
DESCRIPTION:2/10 VK Sever Žatec B - VK Jirkov 0:2 (-22\,-9)
DTSTART;TZID=Europe/Berlin:20251214T090100
DTEND;TZID=Europe/Berlin:20251214T110100
LOCATION:TJ Sever Žatec Žatec\, Plzeňská 2787
SUMMARY:US-U16Z-4: VK Sever Žatec B-VK Jirkov
END:VEVENT
BEGIN:VEVENT
UID:62383734-3530-4464-a536-386132363566
DTSTAMP:20260422T230045Z
DESCRIPTION:2/7 VK Jirkov - Žatec 0:2 (-14\,-14)
DTSTART;TZID=Europe/Berlin:20260125T090100
DTEND;TZID=Europe/Berlin:20260125T110100
LOCATION:sportovní hala MGZŠ Krušnohorská Jirkov Jirkov\, Krušnohorská 1675
SUMMARY:US-U16Z-5: VK Jirkov-Žatec
END:VEVENT
BEGIN:VEVENT
UID:36343465-6434-4966-b066-346562333335
DTSTAMP:20260422T230045Z
DESCRIPTION:2/10 VK Jirkov - VEROS Chomutov 2:0 (20\,18)
DTSTART;TZID=Europe/Berlin:20260125T090100
DTEND;TZID=Europe/Berlin:20260125T110100
LOCATION:sportovní hala MGZŠ Krušnohorská Jirkov Jirkov\, Krušnohorská 1675
SUMMARY:US-U16Z-5: VK Jirkov-VEROS Chomutov
END:VEVENT
BEGIN:VEVENT
UID:36303263-3537-4765-b065-396461636165
DTSTAMP:20260422T230045Z
DESCRIPTION:2/12 VK Litvínov\, z.s. - VK Jirkov 0:2 (-25\,-21)
DTSTART;TZID=Europe/Berlin:20260125T090100
DTEND;TZID=Europe/Berlin:20260125T110100
LOCATION:Sportovní hala Litvínov U Koldomu 2049\, 436 01 Litvínov
SUMMARY:US-U16Z-5: VK Litvínov\, z.s.-VK Jirkov
END:VEVENT
BEGIN:VEVENT
UID:66323165-3666-4631-b064-613262646330
DTSTAMP:20260422T230045Z
DESCRIPTION:2/4 VK Jirkov - VSK  Staré Město 1:2 (-16\,19\,-13)
DTSTART;TZID=Europe/Berlin:20260207T101500
DTEND;TZID=Europe/Berlin:20260207T121500
LOCATION:TJ Slavia Hradec Králové\, Víta Nejedlého 1216 Hradec Králové
SUMMARY:CP-U16Z5E: VK Jirkov-VSK  Staré Město
END:VEVENT
BEGIN:VEVENT
UID:31633130-3439-4231-a565-356432316365
DTSTAMP:20260422T230045Z
DESCRIPTION:6/11 VK Jirkov - VK Slavia Plzeň 2:1 (18\,-21\,9)
DTSTART;TZID=Europe/Berlin:20260207T151500
DTEND;TZID=Europe/Berlin:20260207T171500
LOCATION:TJ Slavia Hradec Králové\, Víta Nejedlého 1216 Hradec Králové
SUMMARY:CP-U16Z5E: VK Jirkov-VK Slavia Plzeň
END:VEVENT
BEGIN:VEVENT
UID:65636438-3939-4165-b036-653464646463
DTSTAMP:20260422T230045Z
DESCRIPTION:9/18 VK Jirkov - S V B C 2:0 (21\,21)
DTSTART;TZID=Europe/Berlin:20260208T090000
DTEND;TZID=Europe/Berlin:20260208T110000
LOCATION:TJ Slavia Hradec Králové\, Víta Nejedlého 1216 Hradec Králové
SUMMARY:CP-U16Z5E: VK Jirkov-S V B C
END:VEVENT
BEGIN:VEVENT
UID:62303066-3335-4163-b432-396364396638
DTSTAMP:20260422T230045Z
DESCRIPTION:13/25 VK Jirkov - SVK Nový Jičín 0:2 (-23\,-6)
DTSTART;TZID=Europe/Berlin:20260208T140000
DTEND;TZID=Europe/Berlin:20260208T160000
LOCATION:TJ Slavia Hradec Králové\, Víta Nejedlého 1216 Hradec Králové
SUMMARY:CP-U16Z5E: VK Jirkov-SVK Nový Jičín
END:VEVENT
BEGIN:VEVENT
UID:37353137-3738-4030-a332-653862396236
DTSTAMP:20260422T230045Z
DESCRIPTION:3/6 Volejbal Tábor - VK Jirkov 2:0 (25\,17)
DTSTART;TZID=Europe/Berlin:20260207T113000
DTEND;TZID=Europe/Berlin:20260207T133000
LOCATION:TJ Slavia Hradec Králové\, Víta Nejedlého 1216 Hradec Králové
SUMMARY:CP-U16Z5E: Volejbal Tábor-VK Jirkov
END:VEVENT
BEGIN:VEVENT
UID:63646334-3235-4661-b564-396238326334
DTSTAMP:20260422T230045Z
DESCRIPTION:8/15 Třebíč - VK Jirkov 0:2 (-23\,-13)
DTSTART;TZID=Europe/Berlin:20260207T174500
DTEND;TZID=Europe/Berlin:20260207T194500
LOCATION:TJ Slavia Hradec Králové\, Víta Nejedlého 1216 Hradec Králové
SUMMARY:CP-U16Z5E: Třebíč-VK Jirkov
END:VEVENT
BEGIN:VEVENT
UID:35323939-3534-4439-b664-626561353466
DTSTAMP:20260422T230045Z
DESCRIPTION:12/24 VSC Zlín - VK Jirkov 2:0 (26\,13)
DTSTART;TZID=Europe/Berlin:20260208T124500
DTEND;TZID=Europe/Berlin:20260208T144500
LOCATION:TJ Slavia Hradec Králové\, Víta Nejedlého 1216 Hradec Králové
SUMMARY:CP-U16Z5E: VSC Zlín-VK Jirkov
END:VEVENT
BEGIN:VEVENT
UID:61326135-3738-4231-b238-333732616130
DTSTAMP:20260422T230045Z
DESCRIPTION:1/1 VK Jirkov - KP Brno B 0:2 (-15\,-12)
DTSTART;TZID=Europe/Berlin:20260328T090000
DTEND;TZID=Europe/Berlin:20260328T110000
LOCATION:sportovní hala MGZŠ Krušnohorská Jirkov Jirkov\, Krušnohorská 1675
SUMMARY:CP-U16Z6H: VK Jirkov-KP Brno B
END:VEVENT
BEGIN:VEVENT
UID:34306132-3261-4334-b239-656164663932
DTSTAMP:20260422T230045Z
DESCRIPTION:3/6 VK Jirkov - Klatovy 1:2 (-21\,23\,-7)
DTSTART;TZID=Europe/Berlin:20260328T113000
DTEND;TZID=Europe/Berlin:20260328T133000
LOCATION:sportovní hala MGZŠ Krušnohorská Jirkov Jirkov\, Krušnohorská 1675
SUMMARY:CP-U16Z6H: VK Jirkov-Klatovy
END:VEVENT
BEGIN:VEVENT
UID:38356565-3865-4166-b635-303637666635
DTSTAMP:20260422T230045Z
DESCRIPTION:8/15 VK Jirkov - Slavia H.Králové 2:0 (12\,21)
DTSTART;TZID=Europe/Berlin:20260328T174500
DTEND;TZID=Europe/Berlin:20260328T194500
LOCATION:sportovní hala MGZŠ Krušnohorská Jirkov Jirkov\, Krušnohorská 1675
SUMMARY:CP-U16Z6H: VK Jirkov-Slavia H.Králové
END:VEVENT
BEGIN:VEVENT
UID:61623335-6162-4534-b561-333063616561
DTSTAMP:20260422T230045Z
DESCRIPTION:13/26 VK Jirkov - Volejbal Tábor 2:1 (-20\,20\,9)
DTSTART;TZID=Europe/Berlin:20260329T140000
DTEND;TZID=Europe/Berlin:20260329T160000
LOCATION:sportovní hala MGZŠ Krušnohorská Jirkov Jirkov\, Krušnohorská 1675
SUMMARY:CP-U16Z6H: VK Jirkov-Volejbal Tábor
END:VEVENT
BEGIN:VEVENT
UID:61613839-3965-4339-b531-373761623037
DTSTAMP:20260422T230045Z
DESCRIPTION:5/10 SVK Nový Jičín - VK Jirkov 2:0 (19\,20)
DTSTART;TZID=Europe/Berlin:20260328T140000
DTEND;TZID=Europe/Berlin:20260328T160000
LOCATION:Hala ABC\, Purkyňova 116 Nový Jičín
SUMMARY:CP-U16Z6H: SVK Nový Jičín-VK Jirkov
END:VEVENT
BEGIN:VEVENT
UID:37373432-3930-4330-b262-613162613331
DTSTAMP:20260422T230045Z
DESCRIPTION:11/22 S V B C - VK Jirkov 1:2 (18\,-15\,-13)
DTSTART;TZID=Europe/Berlin:20260329T113000
DTEND;TZID=Europe/Berlin:20260329T133000
SUMMARY:CP-U16Z6H: S V B C-VK Jirkov
END:VEVENT
BEGIN:VEVENT
UID:31663666-3361-4933-b730-313461656630
DTSTAMP:20260422T230045Z
DESCRIPTION:14/28 SK Volejbal Kolín - VK Jirkov 2:0 (9\,29)
DTSTART;TZID=Europe/Berlin:20260329T151500
DTEND;TZID=Europe/Berlin:20260329T171500
LOCATION:hala STAV\, SOŠ Kolín\, Brankovická 1417 Kolín - Kolín V
SUMMARY:CP-U16Z6H: SK Volejbal Kolín-VK Jirkov
END:VEVENT
BEGIN:VEVENT
UID:38386365-3839-4138-a634-386334353831
DTSTAMP:20260422T230045Z
DESCRIPTION:2/8 VK Jirkov - Volejbalový klub Teplice z.s. 0:2 (-19\,-9)
DTSTART;TZID=Europe/Berlin:20260315T090100
DTEND;TZID=Europe/Berlin:20260315T110100
LOCATION:sportovní hala MGZŠ Krušnohorská Jirkov Jirkov\, Krušnohorská 1675
SUMMARY:US-U16Z-6: VK Jirkov-Volejbalový klub Teplice z.s.
END:VEVENT
BEGIN:VEVENT
UID:62353931-6133-4365-a435-303161393233
DTSTAMP:20260422T230045Z
DESCRIPTION:2/11 VK Jirkov - VK Sever Žatec B 2:0 (18\,16)
DTSTART;TZID=Europe/Berlin:20260315T090100
DTEND;TZID=Europe/Berlin:20260315T110100
LOCATION:sportovní hala MGZŠ Krušnohorská Jirkov Jirkov\, Krušnohorská 1675
SUMMARY:US-U16Z-6: VK Jirkov-VK Sever Žatec B
END:VEVENT
BEGIN:VEVENT
UID:37623666-6564-4666-a439-633339656337
DTSTAMP:20260422T230045Z
DESCRIPTION:2/10 VEROS Chomutov - VK Jirkov 1:2 (-18\,22\,-6)
DTSTART;TZID=Europe/Berlin:20260315T090100
DTEND;TZID=Europe/Berlin:20260315T110100
LOCATION:ZŠ Ak. Heyrovského Chomutov Akademika Heyrovského 4539\, 430 03 Ch
 omutov
SUMMARY:US-U16Z-6: VEROS Chomutov-VK Jirkov
END:VEVENT
END:VCALENDAR
