BEGIN:VCALENDAR
VERSION:2.0
PRODID:-//SK VOLEJBAL Ústí nad Labem, z.s.90971//NONSGML kigkonsult.se iCalcreator 2.41.80//
CALSCALE:GREGORIAN
UID:66303134-6565-4062-b563-313639306130
BEGIN:VEVENT
UID:65373462-3561-4465-a663-343430663933
DTSTAMP:20260422T205138Z
DESCRIPTION:1/6 SKV Ústí n. L. - VK Karlovarsko\, z.s. 2:0 (16\,23)
DTSTART;TZID=Europe/Berlin:20250914T090000
DTEND;TZID=Europe/Berlin:20250914T110000
LOCATION:ZŠ Rabasova Ústí nad Labem Rabasova 3282/3\, Ústí nad Labem
SUMMARY:US-U16M-K: SKV Ústí n. L.-VK Karlovarsko\, z.s.
END:VEVENT
BEGIN:VEVENT
UID:61663938-3937-4561-b962-346432633334
DTSTAMP:20260422T205138Z
DESCRIPTION:1/2 Volejbal Sokolov\, z.s. - SKV Ústí n. L. 0:2 (-18\,-12)
DTSTART;TZID=Europe/Berlin:20250914T090000
DTEND;TZID=Europe/Berlin:20250914T110000
LOCATION:Jiskra\, Maxima Gorkého 280 Sokolov
SUMMARY:US-U16M-K: Volejbal Sokolov\, z.s.-SKV Ústí n. L.
END:VEVENT
BEGIN:VEVENT
UID:34636233-3630-4036-b835-316435346161
DTSTAMP:20260422T205138Z
DESCRIPTION:1/3 Klatovy - SKV Ústí n. L. 1:2 (-23\,20\,-11)
DTSTART;TZID=Europe/Berlin:20250914T090000
DTEND;TZID=Europe/Berlin:20250914T110000
LOCATION:Sportovní hala ZŠ Čapkova\, Čapkova 136 Klatovy - Klatovy V
SUMMARY:US-U16M-K: Klatovy-SKV Ústí n. L.
END:VEVENT
BEGIN:VEVENT
UID:35313362-6361-4135-a561-333939316363
DTSTAMP:20260422T205138Z
DESCRIPTION:2/2 SKV Ústí n. L. - TJ Lokomotiva Česká Lípa\, z.s. 2:0 (11\,5
 )
DTSTART;TZID=Europe/Berlin:20250927T123000
DTEND;TZID=Europe/Berlin:20250927T143000
LOCATION:ZŠ Rabasova Ústí nad Labem Rabasova 3282/3\, Ústí nad Labem
SUMMARY:CP-U16M-Z1A: SKV Ústí n. L.-TJ Lokomotiva Česká Lípa\, z.s.
END:VEVENT
BEGIN:VEVENT
UID:35646566-3765-4232-b364-623139346464
DTSTAMP:20260422T205138Z
DESCRIPTION:4/4 SKV Ústí n. L. - SK PROSEK B 2:0 (13\,24)
DTSTART;TZID=Europe/Berlin:20250927T143000
DTEND;TZID=Europe/Berlin:20250927T163000
LOCATION:ZŠ Rabasova Ústí nad Labem Rabasova 3282/3\, Ústí nad Labem
SUMMARY:CP-U16M-Z1A: SKV Ústí n. L.-SK PROSEK B
END:VEVENT
BEGIN:VEVENT
UID:31663639-6338-4034-b736-303364353937
DTSTAMP:20260422T205138Z
DESCRIPTION:6/6 SK PROSEK A - SKV Ústí n. L. 2:0 (22\,15)
DTSTART;TZID=Europe/Berlin:20250927T163000
DTEND;TZID=Europe/Berlin:20250927T183000
LOCATION:SH SK Prosek\, Lovosická 559 Praha - Letňany
SUMMARY:CP-U16M-Z1A: SK PROSEK A-SKV Ústí n. L.
END:VEVENT
BEGIN:VEVENT
UID:36346238-3662-4935-b638-363936633738
DTSTAMP:20260422T205138Z
DESCRIPTION:1/1 SKV Ústí n. L. - Kladno 0:2 (-22\,-23)\n2A-3B
DTSTART;TZID=Europe/Berlin:20250927T173000
DTEND;TZID=Europe/Berlin:20250927T193000
LOCATION:TJ Slavia Hradec Králové\, Víta Nejedlého 1216 Hradec Králové
SUMMARY:CP-U16M-Z1I: SKV Ústí n. L.-Kladno
END:VEVENT
BEGIN:VEVENT
UID:37356565-6132-4466-b936-343562386562
DTSTAMP:20260422T205138Z
DESCRIPTION:1/1 SKV Ústí n. L. - VK Karlovarsko\, z.s. 0:2 (-17\,-28)
DTSTART;TZID=Europe/Berlin:20250928T090000
DTEND;TZID=Europe/Berlin:20250928T110000
LOCATION:TJ Slavia Hradec Králové\, Víta Nejedlého 1216 Hradec Králové
SUMMARY:CP-U16M-Z1L: SKV Ústí n. L.-VK Karlovarsko\, z.s.
END:VEVENT
BEGIN:VEVENT
UID:33663464-6230-4438-a166-393235373262
DTSTAMP:20260422T205138Z
DESCRIPTION:2/2 TJ ABC Braník\, z.s. - SKV Ústí n. L. 0:2 (-17\,-12)
DTSTART;TZID=Europe/Berlin:20250928T110000
DTEND;TZID=Europe/Berlin:20250928T130000
LOCATION:TJ Slavia Hradec Králové\, Víta Nejedlého 1216 Hradec Králové
SUMMARY:CP-U16M-Z1L: TJ ABC Braník\, z.s.-SKV Ústí n. L.
END:VEVENT
BEGIN:VEVENT
UID:34356339-3530-4064-b433-636532373433
DTSTAMP:20260422T205138Z
DESCRIPTION:8/8 SKV Ústí n. L. - SK Volejbal Klatovy\, z.s. 2:X\nL2-M2 15.-
 16. místo
DTSTART;TZID=Europe/Berlin:20250928T140000
DTEND;TZID=Europe/Berlin:20250928T160000
LOCATION:ZŠ Rabasova Ústí nad Labem Rabasova 3282/3\, Ústí nad Labem
SUMMARY:CP-U16M-Z1UMIS: SKV Ústí n. L.-SK Volejbal Klatovy\, z.s.
END:VEVENT
BEGIN:VEVENT
UID:66616532-6461-4432-b961-363534366532
DTSTAMP:20260422T205138Z
DESCRIPTION:1/2 SKV Ústí n. L. - VK Karlovarsko\, z.s. 0:2 (-17\,-17)
DTSTART;TZID=Europe/Berlin:20251012T090000
DTEND;TZID=Europe/Berlin:20251012T110000
LOCATION:ZŠ Rabasova Ústí nad Labem Rabasova 3282/3\, Ústí nad Labem
SUMMARY:US-U16M-1: SKV Ústí n. L.-VK Karlovarsko\, z.s.
END:VEVENT
BEGIN:VEVENT
UID:39613436-3463-4863-b938-393061336666
DTSTAMP:20260422T205138Z
DESCRIPTION:1/4 Volejbal Aš - Klokani z.s. - SKV Ústí n. L. 0:2 (-15\,-21)
DTSTART;TZID=Europe/Berlin:20251012T090000
DTEND;TZID=Europe/Berlin:20251012T110000
LOCATION:Sportovní hala Textilka\, Gustava Geipela 2713 Aš
SUMMARY:US-U16M-1: Volejbal Aš - Klokani z.s.-SKV Ústí n. L.
END:VEVENT
BEGIN:VEVENT
UID:37663638-6562-4533-a530-313461306263
DTSTAMP:20260422T205138Z
DESCRIPTION:1/6 VK Jirkov - SKV Ústí n. L. 0:2 (-21\,-20)
DTSTART;TZID=Europe/Berlin:20251012T090000
DTEND;TZID=Europe/Berlin:20251012T110000
LOCATION:sportovní hala MGZŠ Krušnohorská Jirkov Jirkov\, Krušnohorská 1675
SUMMARY:US-U16M-1: VK Jirkov-SKV Ústí n. L.
END:VEVENT
BEGIN:VEVENT
UID:30383330-3964-4066-a131-333833666664
DTSTAMP:20260422T205138Z
DESCRIPTION:1/8 Klatovy - SKV Ústí n. L. 0:2 (-23\,-19)
DTSTART;TZID=Europe/Berlin:20251012T090000
DTEND;TZID=Europe/Berlin:20251012T110000
LOCATION:Sportovní hala ZŠ Čapkova\, Čapkova 136 Klatovy - Klatovy V
SUMMARY:US-U16M-1: Klatovy-SKV Ústí n. L.
END:VEVENT
BEGIN:VEVENT
UID:65303762-3362-4264-b364-323363363962
DTSTAMP:20260422T205138Z
DESCRIPTION:3/6 SKV Ústí n. L. - SK PROSEK B 1:2 (-14\,10\,-10)
DTSTART;TZID=Europe/Berlin:20251025T113000
DTEND;TZID=Europe/Berlin:20251025T133000
LOCATION:Sportovní hala MG a ZŠ Jirkov\, Krušnohorská 1675 Jirkov
SUMMARY:CP-U16M-Z2B: SKV Ústí n. L.-SK PROSEK B
END:VEVENT
BEGIN:VEVENT
UID:32623664-6266-4035-a335-656261363031
DTSTAMP:20260422T205138Z
DESCRIPTION:7/13 SKV Ústí n. L. - SK Volejbal Klatovy\, z.s. 2:0 (19\,24)
DTSTART;TZID=Europe/Berlin:20251025T163000
DTEND;TZID=Europe/Berlin:20251025T183000
LOCATION:Sportovní hala MG a ZŠ Jirkov\, Krušnohorská 1675 Jirkov
SUMMARY:CP-U16M-Z2B: SKV Ústí n. L.-SK Volejbal Klatovy\, z.s.
END:VEVENT
BEGIN:VEVENT
UID:39383431-6332-4163-a162-663561396463
DTSTAMP:20260422T205138Z
DESCRIPTION:9/17 SKV Ústí n. L. - VK Lvi Praha A 2:0 (21\,23)
DTSTART;TZID=Europe/Berlin:20251026T090000
DTEND;TZID=Europe/Berlin:20251026T110000
LOCATION:Sportovní hala MG a ZŠ Jirkov\, Krušnohorská 1675 Jirkov
SUMMARY:CP-U16M-Z2B: SKV Ústí n. L.-VK Lvi Praha A
END:VEVENT
BEGIN:VEVENT
UID:35636435-3862-4336-b861-326561303664
DTSTAMP:20260422T205138Z
DESCRIPTION:10/21 SKV Ústí n. L. - Orion Praha 2:1 (-20\,23\,8)
DTSTART;TZID=Europe/Berlin:20251026T103000
DTEND;TZID=Europe/Berlin:20251026T123000
LOCATION:Sportovní hala MG a ZŠ Jirkov\, Krušnohorská 1675 Jirkov
SUMMARY:CP-U16M-Z2B: SKV Ústí n. L.-Orion Praha
END:VEVENT
BEGIN:VEVENT
UID:62363035-3362-4234-a462-626133666235
DTSTAMP:20260422T205138Z
DESCRIPTION:12/28 SKV Ústí n. L. - Kladno 1:2 (-23\,13\,-13)
DTSTART;TZID=Europe/Berlin:20251026T133000
DTEND;TZID=Europe/Berlin:20251026T153000
LOCATION:Sportovní hala MG a ZŠ Jirkov\, Krušnohorská 1675 Jirkov
SUMMARY:CP-U16M-Z2B: SKV Ústí n. L.-Kladno
END:VEVENT
BEGIN:VEVENT
UID:39656638-3965-4630-b730-363362356262
DTSTAMP:20260422T205138Z
DESCRIPTION:1/2 VK Jirkov - SKV Ústí n. L. 2:1 (22\,-25\,10)
DTSTART;TZID=Europe/Berlin:20251025T090000
DTEND;TZID=Europe/Berlin:20251025T110000
LOCATION:Sportovní hala MG a ZŠ Jirkov\, Krušnohorská 1675 Jirkov
SUMMARY:CP-U16M-Z2B: VK Jirkov-SKV Ústí n. L.
END:VEVENT
BEGIN:VEVENT
UID:62663230-6565-4733-b937-306665323932
DTSTAMP:20260422T205138Z
DESCRIPTION:5/9 VK Karlovarsko\, z.s. - SKV Ústí n. L. 0:2 (-25\,-16)
DTSTART;TZID=Europe/Berlin:20251025T140000
DTEND;TZID=Europe/Berlin:20251025T160000
LOCATION:Sportovní hala MG a ZŠ Jirkov\, Krušnohorská 1675 Jirkov
SUMMARY:CP-U16M-Z2B: VK Karlovarsko\, z.s.-SKV Ústí n. L.
END:VEVENT
BEGIN:VEVENT
UID:64346238-3863-4136-b035-313162316338
DTSTAMP:20260422T205138Z
DESCRIPTION:1/2 SKV Ústí n. L. - VK Karlovarsko\, z.s. 1:2 (-22\,20\,-11)
DTSTART;TZID=Europe/Berlin:20251109T090000
DTEND;TZID=Europe/Berlin:20251109T110000
LOCATION:ZŠ Rabasova Ústí nad Labem Rabasova 3282/3\, Ústí nad Labem
SUMMARY:US-U16M-2: SKV Ústí n. L.-VK Karlovarsko\, z.s.
END:VEVENT
BEGIN:VEVENT
UID:66313031-3966-4564-a337-376131633532
DTSTAMP:20260422T205138Z
DESCRIPTION:1/4 Plzeň - SKV Ústí n. L. 2:1 (21\,-21\,9)
DTSTART;TZID=Europe/Berlin:20251109T090000
DTEND;TZID=Europe/Berlin:20251109T110000
LOCATION:Bolevecká základní škola ( 18.ZŠ)\, náměstí Odboje 550 Plzeň - Bol
 evec
SUMMARY:US-U16M-2: Plzeň-SKV Ústí n. L.
END:VEVENT
BEGIN:VEVENT
UID:31343735-3961-4436-a134-343437373634
DTSTAMP:20260422T205138Z
DESCRIPTION:1/6 VK Jirkov - SKV Ústí n. L. 2:0 (12\,16)
DTSTART;TZID=Europe/Berlin:20251109T090000
DTEND;TZID=Europe/Berlin:20251109T110000
LOCATION:sportovní hala MGZŠ Krušnohorská Jirkov Jirkov\, Krušnohorská 1675
SUMMARY:US-U16M-2: VK Jirkov-SKV Ústí n. L.
END:VEVENT
BEGIN:VEVENT
UID:34306339-3336-4538-b462-333133306561
DTSTAMP:20260422T205138Z
DESCRIPTION:1/8 TJ Baník Most\, z.s. - SKV Ústí n. L. 1:2 (21\,-21\,-13)
DTSTART;TZID=Europe/Berlin:20251109T090000
DTEND;TZID=Europe/Berlin:20251109T110000
LOCATION:14. ZŠ Most Rozmarýnová 1692/3
SUMMARY:US-U16M-2: TJ Baník Most\, z.s.-SKV Ústí n. L.
END:VEVENT
BEGIN:VEVENT
UID:31366465-3736-4234-b239-376131306631
DTSTAMP:20260422T205138Z
DESCRIPTION:8/16 SKV Ústí n. L. - VK Dukla Liberec 0:2 (-10\,-14)
DTSTART;TZID=Europe/Berlin:20251129T163000
DTEND;TZID=Europe/Berlin:20251129T183000
LOCATION:Hala Pouchov\, K Sokolovně 544 Hradec Králové - Pouchov
SUMMARY:CP-U16M-Z3A: SKV Ústí n. L.-VK Dukla Liberec
END:VEVENT
BEGIN:VEVENT
UID:34643933-3033-4531-b034-393036656135
DTSTAMP:20260422T205138Z
DESCRIPTION:10/20 SKV Ústí n. L. - VK SPORT Rychnov nad Kněžnou\, z.s. 0:2 
 (-20\,-15)
DTSTART;TZID=Europe/Berlin:20251130T100000
DTEND;TZID=Europe/Berlin:20251130T120000
LOCATION:Hala Pouchov\, K Sokolovně 544 Hradec Králové - Pouchov
SUMMARY:CP-U16M-Z3A: SKV Ústí n. L.-VK SPORT Rychnov nad Kněžnou\, z.s.
END:VEVENT
BEGIN:VEVENT
UID:39336565-3132-4235-b535-363739366561
DTSTAMP:20260422T205138Z
DESCRIPTION:11/21 SKV Ústí n. L. - Kolín 0:2 (-23\,-17)
DTSTART;TZID=Europe/Berlin:20251130T110000
DTEND;TZID=Europe/Berlin:20251130T130000
LOCATION:Hala Pouchov\, K Sokolovně 544 Hradec Králové - Pouchov
SUMMARY:CP-U16M-Z3A: SKV Ústí n. L.-Kolín
END:VEVENT
BEGIN:VEVENT
UID:32643365-6435-4866-a164-353064393361
DTSTAMP:20260422T205138Z
DESCRIPTION:14/28 SKV Ústí n. L. - SK PROSEK A 0:2 (-14\,-21)
DTSTART;TZID=Europe/Berlin:20251130T140000
DTEND;TZID=Europe/Berlin:20251130T160000
LOCATION:Hala Pouchov\, K Sokolovně 544 Hradec Králové - Pouchov
SUMMARY:CP-U16M-Z3A: SKV Ústí n. L.-SK PROSEK A
END:VEVENT
BEGIN:VEVENT
UID:39343438-6461-4765-b736-646533623034
DTSTAMP:20260422T205138Z
DESCRIPTION:2/3 VK TROX Příbram - SKV Ústí n. L. 2:0 (18\,13)
DTSTART;TZID=Europe/Berlin:20251129T103000
DTEND;TZID=Europe/Berlin:20251129T123000
LOCATION:Hala Pouchov\, K Sokolovně 544 Hradec Králové - Pouchov
SUMMARY:CP-U16M-Z3A: VK TROX Příbram-SKV Ústí n. L.
END:VEVENT
BEGIN:VEVENT
UID:64656365-3561-4366-a362-306533396534
DTSTAMP:20260422T205138Z
DESCRIPTION:4/7 VK Jirkov - SKV Ústí n. L. 2:0 (15\,18)
DTSTART;TZID=Europe/Berlin:20251129T123000
DTEND;TZID=Europe/Berlin:20251129T143000
LOCATION:Hala Pouchov\, K Sokolovně 544 Hradec Králové - Pouchov
SUMMARY:CP-U16M-Z3A: VK Jirkov-SKV Ústí n. L.
END:VEVENT
BEGIN:VEVENT
UID:36326632-3362-4335-a435-316138373633
DTSTAMP:20260422T205138Z
DESCRIPTION:6/11 Jihostroj ČB A - SKV Ústí n. L. 2:0 (16\,19)
DTSTART;TZID=Europe/Berlin:20251129T143000
DTEND;TZID=Europe/Berlin:20251129T163000
LOCATION:Hala Pouchov\, K Sokolovně 544 Hradec Králové - Pouchov
SUMMARY:CP-U16M-Z3A: Jihostroj ČB A-SKV Ústí n. L.
END:VEVENT
BEGIN:VEVENT
UID:66613734-6265-4031-a565-626131313764
DTSTAMP:20260422T205138Z
DESCRIPTION:2/11 SKV Ústí n. L. - Volejbalový klub Teplice z.s. 2:0 (16\,18
 )
DTSTART;TZID=Europe/Berlin:20251207T090100
DTEND;TZID=Europe/Berlin:20251207T110100
LOCATION:ZŠ Rabasova Ústí nad Labem Rabasova 3282/3\, Ústí nad Labem
SUMMARY:US-U16M-3: SKV Ústí n. L.-Volejbalový klub Teplice z.s.
END:VEVENT
BEGIN:VEVENT
UID:63386635-3636-4162-a266-396639643034
DTSTAMP:20260422T205138Z
DESCRIPTION:2/14 SKV Ústí n. L. - TJ Baník Most\, z.s. 2:0 (12\,14)
DTSTART;TZID=Europe/Berlin:20251207T090100
DTEND;TZID=Europe/Berlin:20251207T110100
LOCATION:ZŠ Rabasova Ústí nad Labem Rabasova 3282/3\, Ústí nad Labem
SUMMARY:US-U16M-3: SKV Ústí n. L.-TJ Baník Most\, z.s.
END:VEVENT
BEGIN:VEVENT
UID:65393633-6531-4237-a433-626262343630
DTSTAMP:20260422T205138Z
DESCRIPTION:2/16 Klatovy - SKV Ústí n. L. 2:1 (-18\,16\,13)
DTSTART;TZID=Europe/Berlin:20251207T090100
DTEND;TZID=Europe/Berlin:20251207T110100
LOCATION:Sportovní hala ZŠ Čapkova\, Čapkova 136 Klatovy - Klatovy V
SUMMARY:US-U16M-3: Klatovy-SKV Ústí n. L.
END:VEVENT
BEGIN:VEVENT
UID:35623037-6331-4432-b365-383264383464
DTSTAMP:20260422T205138Z
DESCRIPTION:1/2 SKV Ústí n. L. - Orion Praha 0:2 (-13\,-19)
DTSTART;TZID=Europe/Berlin:20251220T090000
DTEND;TZID=Europe/Berlin:20251220T110000
LOCATION:ZŠ Rabasova Ústí nad Labem Rabasova 3282/3\, Ústí nad Labem
SUMMARY:CP-U16M-4C: SKV Ústí n. L.-Orion Praha
END:VEVENT
BEGIN:VEVENT
UID:37393036-3537-4433-b038-363764336362
DTSTAMP:20260422T205138Z
DESCRIPTION:13/26 SKV Ústí n. L. - VK Jirkov 0:2 (-20\,-18)
DTSTART;TZID=Europe/Berlin:20251221T140000
DTEND;TZID=Europe/Berlin:20251221T160000
LOCATION:ZŠ Rabasova Ústí nad Labem Rabasova 3282/3\, Ústí nad Labem
SUMMARY:CP-U16M-4C: SKV Ústí n. L.-VK Jirkov
END:VEVENT
BEGIN:VEVENT
UID:32623863-3730-4537-b336-616666633761
DTSTAMP:20260422T205138Z
DESCRIPTION:14/28 SKV Ústí n. L. - Kladno 2:0 (17\,10)
DTSTART;TZID=Europe/Berlin:20251221T151500
DTEND;TZID=Europe/Berlin:20251221T171500
LOCATION:ZŠ Rabasova Ústí nad Labem Rabasova 3282/3\, Ústí nad Labem
SUMMARY:CP-U16M-4C: SKV Ústí n. L.-Kladno
END:VEVENT
BEGIN:VEVENT
UID:33353139-6531-4237-a131-313763396235
DTSTAMP:20260422T205138Z
DESCRIPTION:3/6 VK Lvi Praha A - SKV Ústí n. L. 2:0 (19\,13)
DTSTART;TZID=Europe/Berlin:20251220T113000
DTEND;TZID=Europe/Berlin:20251220T133000
LOCATION:FZŠ Brdičkova\, Brdičkova 1878 Praha - Stodůlky
SUMMARY:CP-U16M-4C: VK Lvi Praha A-SKV Ústí n. L.
END:VEVENT
BEGIN:VEVENT
UID:30613830-6436-4633-b737-613231383163
DTSTAMP:20260422T205138Z
DESCRIPTION:5/10 VK Karlovarsko\, z.s. - SKV Ústí n. L. 1:2 (-28\,20\,-11)
DTSTART;TZID=Europe/Berlin:20251220T140000
DTEND;TZID=Europe/Berlin:20251220T160000
LOCATION:Mattoni Arena Hala míčových sportů\, Západní 1812 Karlovy Vary
SUMMARY:CP-U16M-4C: VK Karlovarsko\, z.s.-SKV Ústí n. L.
END:VEVENT
BEGIN:VEVENT
UID:39386439-6536-4331-b030-646536616332
DTSTAMP:20260422T205138Z
DESCRIPTION:8/16 VSC Zlín - SKV Ústí n. L. 0:2 (-23\,-19)
DTSTART;TZID=Europe/Berlin:20251220T174500
DTEND;TZID=Europe/Berlin:20251220T194500
LOCATION:ZŠ Okružní Zlín\, Okružní 4685 Zlín
SUMMARY:CP-U16M-4C: VSC Zlín-SKV Ústí n. L.
END:VEVENT
BEGIN:VEVENT
UID:33326430-6630-4831-b862-626365393330
DTSTAMP:20260422T205138Z
DESCRIPTION:9/18 Red Frýdlant n/O - SKV Ústí n. L. 2:1 (-21\,20\,9)
DTSTART;TZID=Europe/Berlin:20251221T090000
DTEND;TZID=Europe/Berlin:20251221T110000
LOCATION:Komenského\, Komenského 420 Frýdlant nad Ostravicí - Frýdlant
SUMMARY:CP-U16M-4C: Red Frýdlant n/O-SKV Ústí n. L.
END:VEVENT
BEGIN:VEVENT
UID:65646261-6538-4033-b436-306630613333
DTSTAMP:20260422T205138Z
DESCRIPTION:1/3 SKV Ústí n. L. - VK Jirkov 0:2 (-23\,-10)
DTSTART;TZID=Europe/Berlin:20260111T090000
DTEND;TZID=Europe/Berlin:20260111T110000
LOCATION:ZŠ Rabasova Ústí nad Labem Rabasova 3282/3\, Ústí nad Labem
SUMMARY:US-U16M-4: SKV Ústí n. L.-VK Jirkov
END:VEVENT
BEGIN:VEVENT
UID:31656139-6431-4138-b065-303139303333
DTSTAMP:20260422T205138Z
DESCRIPTION:1/8 SKV Ústí n. L. - VK Karlovarsko\, z.s. 0:2 (-12\,-21)
DTSTART;TZID=Europe/Berlin:20260111T090000
DTEND;TZID=Europe/Berlin:20260111T110000
LOCATION:ZŠ Rabasova Ústí nad Labem Rabasova 3282/3\, Ústí nad Labem
SUMMARY:US-U16M-4: SKV Ústí n. L.-VK Karlovarsko\, z.s.
END:VEVENT
BEGIN:VEVENT
UID:39666666-3139-4264-b339-356638653066
DTSTAMP:20260422T205138Z
DESCRIPTION:1/5 Plzeň - SKV Ústí n. L. 2:0 (21\,16)
DTSTART;TZID=Europe/Berlin:20260111T090000
DTEND;TZID=Europe/Berlin:20260111T110000
LOCATION:Bolevecká základní škola ( 18.ZŠ)\, náměstí Odboje 550 Plzeň - Bol
 evec
SUMMARY:US-U16M-4: Plzeň-SKV Ústí n. L.
END:VEVENT
BEGIN:VEVENT
UID:30393864-6237-4065-b135-336265393233
DTSTAMP:20260422T205138Z
DESCRIPTION:1/10 Klatovy - SKV Ústí n. L. 0:2 (-18\,-14)
DTSTART;TZID=Europe/Berlin:20260111T090000
DTEND;TZID=Europe/Berlin:20260111T110000
LOCATION:Sportovní hala ZŠ Čapkova\, Čapkova 136 Klatovy - Klatovy V
SUMMARY:US-U16M-4: Klatovy-SKV Ústí n. L.
END:VEVENT
BEGIN:VEVENT
UID:38633432-3762-4131-b065-316632613661
DTSTAMP:20260422T205138Z
DESCRIPTION:3/9 SKV Ústí n. L. - Kladno 0:2 (-12\,-16)
DTSTART;TZID=Europe/Berlin:20260207T140000
DTEND;TZID=Europe/Berlin:20260207T160000
LOCATION:Sportovní hala MG a ZŠ Jirkov\, Krušnohorská 1675 Jirkov
SUMMARY:CP-U16M-5C: SKV Ústí n. L.-Kladno
END:VEVENT
BEGIN:VEVENT
UID:64666233-3230-4462-b765-626166386263
DTSTAMP:20260422T205138Z
DESCRIPTION:7/17 SKV Ústí n. L. - Red Frýdlant n/O 1:2 (23\,-17\,-6)
DTSTART;TZID=Europe/Berlin:20260208T090000
DTEND;TZID=Europe/Berlin:20260208T110000
LOCATION:Sportovní hala MG a ZŠ Jirkov\, Krušnohorská 1675 Jirkov
SUMMARY:CP-U16M-5C: SKV Ústí n. L.-Red Frýdlant n/O
END:VEVENT
BEGIN:VEVENT
UID:36616236-6634-4738-a636-316561366162
DTSTAMP:20260422T205138Z
DESCRIPTION:10/28 SKV Ústí n. L. - Č. Krumlov A 2:1 (-20\,21\,10)
DTSTART;TZID=Europe/Berlin:20260208T133000
DTEND;TZID=Europe/Berlin:20260208T153000
LOCATION:Sportovní hala MG a ZŠ Jirkov\, Krušnohorská 1675 Jirkov
SUMMARY:CP-U16M-5C: SKV Ústí n. L.-Č. Krumlov A
END:VEVENT
BEGIN:VEVENT
UID:36333665-6231-4238-a536-653636616562
DTSTAMP:20260422T205138Z
DESCRIPTION:1/1 VK Jirkov - SKV Ústí n. L. 2:0 (15\,18)
DTSTART;TZID=Europe/Berlin:20260207T093000
DTEND;TZID=Europe/Berlin:20260207T113000
LOCATION:Sportovní hala MG a ZŠ Jirkov\, Krušnohorská 1675 Jirkov
SUMMARY:CP-U16M-5C: VK Jirkov-SKV Ústí n. L.
END:VEVENT
BEGIN:VEVENT
UID:39636233-3365-4532-a332-323333663938
DTSTAMP:20260422T205138Z
DESCRIPTION:2/6 SK Volejbal Klatovy\, z.s. - SKV Ústí n. L. 2:0 (22\,23)
DTSTART;TZID=Europe/Berlin:20260207T110000
DTEND;TZID=Europe/Berlin:20260207T130000
LOCATION:Sportovní hala MG a ZŠ Jirkov\, Krušnohorská 1675 Jirkov
SUMMARY:CP-U16M-5C: SK Volejbal Klatovy\, z.s.-SKV Ústí n. L.
END:VEVENT
BEGIN:VEVENT
UID:63613263-6438-4261-b331-663230313538
DTSTAMP:20260422T205138Z
DESCRIPTION:5/13 Spartak Velké Meziříčí - SKV Ústí n. L. 2:0 (13\,23)
DTSTART;TZID=Europe/Berlin:20260207T170000
DTEND;TZID=Europe/Berlin:20260207T190000
LOCATION:Sportovní hala MG a ZŠ Jirkov\, Krušnohorská 1675 Jirkov
SUMMARY:CP-U16M-5C: Spartak Velké Meziříčí-SKV Ústí n. L.
END:VEVENT
BEGIN:VEVENT
UID:35646266-6432-4138-b236-363338376338
DTSTAMP:20260422T205138Z
DESCRIPTION:9/23 SK Kojetín 2016\, z.s. - SKV Ústí n. L. 0:2 (-15\,-14)
DTSTART;TZID=Europe/Berlin:20260208T120000
DTEND;TZID=Europe/Berlin:20260208T140000
LOCATION:Sportovní hala MG a ZŠ Jirkov\, Krušnohorská 1675 Jirkov
SUMMARY:CP-U16M-5C: SK Kojetín 2016\, z.s.-SKV Ústí n. L.
END:VEVENT
BEGIN:VEVENT
UID:36336161-3035-4061-b838-636161383333
DTSTAMP:20260422T205138Z
DESCRIPTION:2/11 SKV Ústí n. L. - Volejbalový klub Teplice z.s. 2:0 (18\,24
 )
DTSTART;TZID=Europe/Berlin:20260329T090100
DTEND;TZID=Europe/Berlin:20260329T110100
LOCATION:ZŠ Rabasova Ústí nad Labem Rabasova 3282/3\, Ústí nad Labem
SUMMARY:US-U16M-5: SKV Ústí n. L.-Volejbalový klub Teplice z.s.
END:VEVENT
BEGIN:VEVENT
UID:64326465-3131-4631-b538-653264323136
DTSTAMP:20260422T205138Z
DESCRIPTION:2/14 SKV Ústí n. L. - Klatovy 1:2 (20\,-20\,-12)
DTSTART;TZID=Europe/Berlin:20260329T090100
DTEND;TZID=Europe/Berlin:20260329T110100
LOCATION:ZŠ Rabasova Ústí nad Labem Rabasova 3282/3\, Ústí nad Labem
SUMMARY:US-U16M-5: SKV Ústí n. L.-Klatovy
END:VEVENT
BEGIN:VEVENT
UID:38313339-3231-4762-a436-656339373733
DTSTAMP:20260422T205138Z
DESCRIPTION:2/16 Volejbal Sokolov\, z.s. - SKV Ústí n. L. 2:1 (-23\,19\,9)
DTSTART;TZID=Europe/Berlin:20260329T090100
DTEND;TZID=Europe/Berlin:20260329T110100
LOCATION:Jiskra\, Maxima Gorkého 280 Sokolov
SUMMARY:US-U16M-5: Volejbal Sokolov\, z.s.-SKV Ústí n. L.
END:VEVENT
BEGIN:VEVENT
UID:33653539-3562-4534-b932-363331346130
DTSTAMP:20260422T205138Z
DESCRIPTION:6/6 SKV Ústí n. L. - VK TROX Příbram 1:2 (-20\,16\,-17)
DTSTART;TZID=Europe/Berlin:20260321T131500
DTEND;TZID=Europe/Berlin:20260321T151500
LOCATION:TJ Slavia Hradec Králové\, Víta Nejedlého 1216 Hradec Králové
SUMMARY:CP-U16M-6E: SKV Ústí n. L.-VK TROX Příbram
END:VEVENT
BEGIN:VEVENT
UID:33633538-3632-4430-a335-376563353065
DTSTAMP:20260422T205138Z
DESCRIPTION:2/2 TJ ABC Braník\, z.s. - SKV Ústí n. L. 0:2 (-19\,-18)
DTSTART;TZID=Europe/Berlin:20260320T160000
DTEND;TZID=Europe/Berlin:20260320T180000
LOCATION:TJ Slavia Hradec Králové\, Víta Nejedlého 1216 Hradec Králové
SUMMARY:CP-U16M-6E: TJ ABC Braník\, z.s.-SKV Ústí n. L.
END:VEVENT
BEGIN:VEVENT
UID:33356433-6263-4539-b966-663232376439
DTSTAMP:20260422T205138Z
DESCRIPTION:3/3 Red Frýdlant n/O - SKV Ústí n. L. 2:0 (22\,17)
DTSTART;TZID=Europe/Berlin:20260321T093000
DTEND;TZID=Europe/Berlin:20260321T113000
LOCATION:TJ Slavia Hradec Králové\, Víta Nejedlého 1216 Hradec Králové
SUMMARY:CP-U16M-6E: Red Frýdlant n/O-SKV Ústí n. L.
END:VEVENT
BEGIN:VEVENT
UID:31666131-3934-4233-b364-626338386664
DTSTAMP:20260422T205138Z
DESCRIPTION:1/3 SKV Ústí n. L. - SK Volejbal Klatovy\, z.s. 2:1 (21\,-22\,9
 )\nE3-F2
DTSTART;TZID=Europe/Berlin:20260321T144500
DTEND;TZID=Europe/Berlin:20260321T164500
LOCATION:TJ Slavia Hradec Králové\, Víta Nejedlého 1216 Hradec Králové
SUMMARY:CP-U16M-P3: SKV Ústí n. L.-SK Volejbal Klatovy\, z.s.
END:VEVENT
BEGIN:VEVENT
UID:61643636-3464-4938-b332-633831653265
DTSTAMP:20260422T205138Z
DESCRIPTION:2/7 VK TROX Příbram - SKV Ústí n. L. 2:0 (22\,24)\nsemifinále 2
  (3.os.)
DTSTART;TZID=Europe/Berlin:20260321T171500
DTEND;TZID=Europe/Berlin:20260321T191500
LOCATION:TJ Slavia Hradec Králové\, Víta Nejedlého 1216 Hradec Králové
SUMMARY:CP-U16M-P3: VK TROX Příbram-SKV Ústí n. L.
END:VEVENT
BEGIN:VEVENT
UID:39336466-6533-4966-b532-313934343236
DTSTAMP:20260422T205138Z
DESCRIPTION:3/11 Red Frýdlant n/O - SKV Ústí n. L. 2:0 (22\,19)\nFinále 19-
 20
DTSTART;TZID=Europe/Berlin:20260322T103000
DTEND;TZID=Europe/Berlin:20260322T123000
LOCATION:TJ Slavia Hradec Králové\, Víta Nejedlého 1216 Hradec Králové
SUMMARY:CP-U16M-P3: Red Frýdlant n/O-SKV Ústí n. L.
END:VEVENT
END:VCALENDAR
