BEGIN:VCALENDAR
VERSION:2.0
PRODID:-//Tělovýchovná jednota Sokol Třebeš, z.s.91006//NONSGML kigkonsult.se iCalcreator 2.41.80//
CALSCALE:GREGORIAN
UID:66333232-6433-4334-a135-373062333764
BEGIN:VEVENT
UID:33646563-6532-4465-b062-323438663030
DTSTAMP:20260422T184055Z
DESCRIPTION:1/3 Tělovýchovná jednota Sokol Třebeš\, z.s. - VK Lhota pod Lib
 čany\, z.s. 1:3 (-17\,-13\,21\,-24)
DTSTART;TZID=Europe/Berlin:20250903T170000
DTEND;TZID=Europe/Berlin:20250903T190000
LOCATION:Sportovní hala Třebeš\, Na Potoce 691 Hradec Králové - Třebeš
SUMMARY:H-Z-1: Tělovýchovná jednota Sokol Třebeš\, z.s.-VK Lhota pod Libčan
 y\, z.s.
END:VEVENT
BEGIN:VEVENT
UID:32313264-3934-4365-b939-343763633633
DTSTAMP:20260422T184055Z
DESCRIPTION:3/8 Tělovýchovná jednota Sokol Třebeš\, z.s. - TJ Sokol Slezské
  Předměstí 2:3 (15\,23\,-15\,-23\,-14)\nDohoda družstev
DTSTART;TZID=Europe/Berlin:20251006T163000
DTEND;TZID=Europe/Berlin:20251006T183000
LOCATION:Sportovní hala Třebeš\, Na Potoce 691 Hradec Králové - Třebeš
SUMMARY:H-Z-1: Tělovýchovná jednota Sokol Třebeš\, z.s.-TJ Sokol Slezské Př
 edměstí
END:VEVENT
BEGIN:VEVENT
UID:66353333-6461-4135-a638-626237626636
DTSTAMP:20260422T184055Z
DESCRIPTION:5/13 Tělovýchovná jednota Sokol Třebeš\, z.s. - VK Černilov\, z
 .s. 0:3 (-9\,-21\,-24)
DTSTART;TZID=Europe/Berlin:20250917T170000
DTEND;TZID=Europe/Berlin:20250917T190000
LOCATION:Sportovní hala Třebeš\, Na Potoce 691 Hradec Králové - Třebeš
SUMMARY:H-Z-1: Tělovýchovná jednota Sokol Třebeš\, z.s.-VK Černilov\, z.s.
END:VEVENT
BEGIN:VEVENT
UID:39356536-3566-4865-b239-323565373839
DTSTAMP:20260422T184055Z
DESCRIPTION:7/20 Tělovýchovná jednota Sokol Třebeš\, z.s. - TJ Jiskra Nový 
 Bydžov\, z.s. 3:1 (12\,-24\,14\,16)
DTSTART;TZID=Europe/Berlin:20250924T170000
DTEND;TZID=Europe/Berlin:20250924T190000
LOCATION:Sportovní hala Třebeš\, Na Potoce 691 Hradec Králové - Třebeš
SUMMARY:H-Z-1: Tělovýchovná jednota Sokol Třebeš\, z.s.-TJ Jiskra Nový Bydž
 ov\, z.s.
END:VEVENT
BEGIN:VEVENT
UID:62326438-3633-4866-b532-623366313465
DTSTAMP:20260422T184055Z
DESCRIPTION:9/27 Tělovýchovná jednota Sokol Třebeš\, z.s. - Tělocvičná jedn
 ota Sokol Nechanice 3:0 (24\,21\,24)
DTSTART;TZID=Europe/Berlin:20251014T193000
DTEND;TZID=Europe/Berlin:20251014T213000
LOCATION:Sportovní hala Třebeš\, Na Potoce 691 Hradec Králové - Třebeš
SUMMARY:H-Z-1: Tělovýchovná jednota Sokol Třebeš\, z.s.-Tělocvičná jednota 
 Sokol Nechanice
END:VEVENT
BEGIN:VEVENT
UID:34646630-3736-4762-a234-396533306333
DTSTAMP:20260422T184055Z
DESCRIPTION:11/33 Tělovýchovná jednota Sokol Třebeš\, z.s. - VK Lhota pod L
 ibčany\, z.s.
DTSTART;TZID=Europe/Berlin:20260506T173000
DTEND;TZID=Europe/Berlin:20260506T193000
LOCATION:Sportovní hala Třebeš\, Na Potoce 691 Hradec Králové - Třebeš
SUMMARY:H-Z-1: Tělovýchovná jednota Sokol Třebeš\, z.s.-VK Lhota pod Libčan
 y\, z.s.
END:VEVENT
BEGIN:VEVENT
UID:61616130-6432-4065-b236-363934363630
DTSTAMP:20260422T184055Z
DESCRIPTION:13/38 Tělovýchovná jednota Sokol Třebeš\, z.s. - TJ Sokol Slezs
 ké Předměstí
DTSTART;TZID=Europe/Berlin:20260513T173000
DTEND;TZID=Europe/Berlin:20260513T193000
LOCATION:Sportovní hala Třebeš\, Na Potoce 691 Hradec Králové - Třebeš
SUMMARY:H-Z-1: Tělovýchovná jednota Sokol Třebeš\, z.s.-TJ Sokol Slezské Př
 edměstí
END:VEVENT
BEGIN:VEVENT
UID:65396538-6131-4663-b066-313164386363
DTSTAMP:20260422T184055Z
DESCRIPTION:15/43 Tělovýchovná jednota Sokol Třebeš\, z.s. - VK Černilov\, 
 z.s.
DTSTART;TZID=Europe/Berlin:20260520T173000
DTEND;TZID=Europe/Berlin:20260520T193000
LOCATION:Sportovní hala Třebeš\, Na Potoce 691 Hradec Králové - Třebeš
SUMMARY:H-Z-1: Tělovýchovná jednota Sokol Třebeš\, z.s.-VK Černilov\, z.s.
END:VEVENT
BEGIN:VEVENT
UID:62386532-3732-4638-b037-633638396261
DTSTAMP:20260422T184055Z
DESCRIPTION:17/50 Tělovýchovná jednota Sokol Třebeš\, z.s. - TJ Jiskra Nový
  Bydžov\, z.s.
DTSTART;TZID=Europe/Berlin:20260527T173000
DTEND;TZID=Europe/Berlin:20260527T193000
LOCATION:Sportovní hala Třebeš\, Na Potoce 691 Hradec Králové - Třebeš
SUMMARY:H-Z-1: Tělovýchovná jednota Sokol Třebeš\, z.s.-TJ Jiskra Nový Bydž
 ov\, z.s.
END:VEVENT
BEGIN:VEVENT
UID:30386139-3435-4036-a662-363965343061
DTSTAMP:20260422T184055Z
DESCRIPTION:19/57 Tělovýchovná jednota Sokol Třebeš\, z.s. - Tělocvičná jed
 nota Sokol Nechanice
DTSTART;TZID=Europe/Berlin:20260603T173000
DTEND;TZID=Europe/Berlin:20260603T193000
LOCATION:Sportovní hala Třebeš\, Na Potoce 691 Hradec Králové - Třebeš
SUMMARY:H-Z-1: Tělovýchovná jednota Sokol Třebeš\, z.s.-Tělocvičná jednota 
 Sokol Nechanice
END:VEVENT
BEGIN:VEVENT
UID:37373731-6436-4135-a436-313436363132
DTSTAMP:20260422T184055Z
DESCRIPTION:2/5 TJ Jiskra Nový Bydžov\, z.s. - Tělovýchovná jednota Sokol T
 řebeš\, z.s. 0:3 (-13\,-22\,-20)
DTSTART;TZID=Europe/Berlin:20250908T170000
DTEND;TZID=Europe/Berlin:20250908T190000
LOCATION:M Revoluční\, Nový Bydžov
SUMMARY:H-Z-1: TJ Jiskra Nový Bydžov\, z.s.-Tělovýchovná jednota Sokol Třeb
 eš\, z.s.
END:VEVENT
BEGIN:VEVENT
UID:66613834-6330-4961-b963-373366666132
DTSTAMP:20260422T184055Z
DESCRIPTION:4/12 Tělocvičná jednota Sokol Nechanice - Tělovýchovná jednota 
 Sokol Třebeš\, z.s. 1:3 (15\,-12\,-26\,-19)
DTSTART;TZID=Europe/Berlin:20250915T170000
DTEND;TZID=Europe/Berlin:20250915T190000
LOCATION:Tělocvičná jednota Sokol Nechanice\, Školská 348 Nechanice
SUMMARY:H-Z-1: Tělocvičná jednota Sokol Nechanice-Tělovýchovná jednota Soko
 l Třebeš\, z.s.
END:VEVENT
BEGIN:VEVENT
UID:39383862-3732-4130-a430-366361623362
DTSTAMP:20260422T184055Z
DESCRIPTION:6/18 VK Lhota pod Libčany\, z.s. - Tělovýchovná jednota Sokol T
 řebeš\, z.s. 2:3 (-23\,-18\,20\,21\,-7)
DTSTART;TZID=Europe/Berlin:20250922T170000
DTEND;TZID=Europe/Berlin:20250922T190000
LOCATION:sportovní areál sokola Lhota pod Libčany Lhota pod Libčany 50
SUMMARY:H-Z-1: VK Lhota pod Libčany\, z.s.-Tělovýchovná jednota Sokol Třebe
 š\, z.s.
END:VEVENT
BEGIN:VEVENT
UID:31636533-3430-4464-b134-626461323861
DTSTAMP:20260422T184055Z
DESCRIPTION:8/23 TJ Sokol Slezské Předměstí - Tělovýchovná jednota Sokol Tř
 ebeš\, z.s. 3:2 (-13\,19\,-19\,23\,13)
DTSTART;TZID=Europe/Berlin:20250929T170000
DTEND;TZID=Europe/Berlin:20250929T190000
LOCATION:Háječek Hradec Králové Slezské Předměstí Topolová 1153/2
SUMMARY:H-Z-1: TJ Sokol Slezské Předměstí-Tělovýchovná jednota Sokol Třebeš
 \, z.s.
END:VEVENT
BEGIN:VEVENT
UID:66613562-3962-4531-b065-353365626162
DTSTAMP:20260422T184055Z
DESCRIPTION:10/28 VK Černilov\, z.s. - Tělovýchovná jednota Sokol Třebeš\, 
 z.s.
DTSTART;TZID=Europe/Berlin:20260504T173000
DTEND;TZID=Europe/Berlin:20260504T193000
LOCATION:Černilov 50343 Černilov
SUMMARY:H-Z-1: VK Černilov\, z.s.-Tělovýchovná jednota Sokol Třebeš\, z.s.
END:VEVENT
BEGIN:VEVENT
UID:31353266-6232-4566-b131-353134613061
DTSTAMP:20260422T184055Z
DESCRIPTION:12/35 TJ Jiskra Nový Bydžov\, z.s. - Tělovýchovná jednota Sokol
  Třebeš\, z.s.
DTSTART;TZID=Europe/Berlin:20260511T173000
DTEND;TZID=Europe/Berlin:20260511T193000
LOCATION:M Revoluční\, Nový Bydžov
SUMMARY:H-Z-1: TJ Jiskra Nový Bydžov\, z.s.-Tělovýchovná jednota Sokol Třeb
 eš\, z.s.
END:VEVENT
BEGIN:VEVENT
UID:30613839-3366-4331-b661-643365653236
DTSTAMP:20260422T184055Z
DESCRIPTION:14/42 Tělocvičná jednota Sokol Nechanice - Tělovýchovná jednota
  Sokol Třebeš\, z.s.
DTSTART;TZID=Europe/Berlin:20260518T173000
DTEND;TZID=Europe/Berlin:20260518T193000
LOCATION:Tělocvičná jednota Sokol Nechanice\, Školská 348 Nechanice
SUMMARY:H-Z-1: Tělocvičná jednota Sokol Nechanice-Tělovýchovná jednota Soko
 l Třebeš\, z.s.
END:VEVENT
BEGIN:VEVENT
UID:37636362-3864-4535-b332-653835343163
DTSTAMP:20260422T184055Z
DESCRIPTION:16/48 VK Lhota pod Libčany\, z.s. - Tělovýchovná jednota Sokol 
 Třebeš\, z.s.
DTSTART;TZID=Europe/Berlin:20260525T173000
DTEND;TZID=Europe/Berlin:20260525T193000
LOCATION:sportovní areál sokola Lhota pod Libčany Lhota pod Libčany 50
SUMMARY:H-Z-1: VK Lhota pod Libčany\, z.s.-Tělovýchovná jednota Sokol Třebe
 š\, z.s.
END:VEVENT
BEGIN:VEVENT
UID:64333761-3339-4062-b065-386365333337
DTSTAMP:20260422T184055Z
DESCRIPTION:18/53 TJ Sokol Slezské Předměstí - Tělovýchovná jednota Sokol T
 řebeš\, z.s.
DTSTART;TZID=Europe/Berlin:20260601T173000
DTEND;TZID=Europe/Berlin:20260601T193000
LOCATION:Háječek Hradec Králové Slezské Předměstí Topolová 1153/2
SUMMARY:H-Z-1: TJ Sokol Slezské Předměstí-Tělovýchovná jednota Sokol Třebeš
 \, z.s.
END:VEVENT
BEGIN:VEVENT
UID:31653030-6636-4261-b339-323534633461
DTSTAMP:20260422T184055Z
DESCRIPTION:20/58 VK Černilov\, z.s. - Tělovýchovná jednota Sokol Třebeš\, 
 z.s.
DTSTART;TZID=Europe/Berlin:20260608T173000
DTEND;TZID=Europe/Berlin:20260608T193000
LOCATION:Černilov 50343 Černilov
SUMMARY:H-Z-1: VK Černilov\, z.s.-Tělovýchovná jednota Sokol Třebeš\, z.s.
END:VEVENT
END:VCALENDAR
