BEGIN:VCALENDAR
VERSION:2.0
PRODID:-//TJ Sokol Jezbiny B, z.s.91018//NONSGML kigkonsult.se iCalcreator 2.41.80//
CALSCALE:GREGORIAN
UID:33313335-6230-4635-b131-666561386537
BEGIN:VEVENT
UID:31643261-3834-4332-b465-373737663634
DTSTAMP:20260422T010229Z
DESCRIPTION:1/1 Jezbiny B - Teplice B 2:3 (24\,-20\,23\,-17\,-12)
DTSTART;TZID=Europe/Berlin:20250822T173000
DTEND;TZID=Europe/Berlin:20250822T193000
LOCATION:Jezbiny
SUMMARY:NA-M-II: Jezbiny B-Teplice B
END:VEVENT
BEGIN:VEVENT
UID:33343564-3633-4431-b632-376239643836
DTSTAMP:20260422T010229Z
DESCRIPTION:2/6 Jezbiny B - Č.Kostelec C 0:3 (-12\,-21\,-20)
DTSTART;TZID=Europe/Berlin:20250905T173000
DTEND;TZID=Europe/Berlin:20250905T193000
LOCATION:Jezbiny
SUMMARY:NA-M-II: Jezbiny B-Č.Kostelec C
END:VEVENT
BEGIN:VEVENT
UID:36316233-3934-4537-b863-306434613535
DTSTAMP:20260422T010229Z
DESCRIPTION:4/11 Jezbiny B - VoCe nad Met.Máša Roman\nOdloženo (počasí)
DTSTART;TZID=Europe/Berlin:20250925T170000
DTEND;TZID=Europe/Berlin:20250925T190000
LOCATION:Jezbiny
SUMMARY:NA-M-II: Jezbiny B-VoCe nad Met.
END:VEVENT
BEGIN:VEVENT
UID:61626236-3332-4135-b434-626232386333
DTSTAMP:20260422T010229Z
DESCRIPTION:8/23 Jezbiny B - Teplice AKmoníček Jiří
DTSTART;TZID=Europe/Berlin:20260529T173000
DTEND;TZID=Europe/Berlin:20260529T193000
LOCATION:Jezbiny
SUMMARY:NA-M-II: Jezbiny B-Teplice A
END:VEVENT
BEGIN:VEVENT
UID:35356437-3964-4632-a636-626563653561
DTSTAMP:20260422T010229Z
DESCRIPTION:10/30 Jezbiny B - Jezbiny SMMáša Roman
DTSTART;TZID=Europe/Berlin:20260612T173000
DTEND;TZID=Europe/Berlin:20260612T193000
LOCATION:Jezbiny
SUMMARY:NA-M-II: Jezbiny B-Jezbiny SM
END:VEVENT
BEGIN:VEVENT
UID:32336431-6531-4464-a231-393161336438
DTSTAMP:20260422T010229Z
DESCRIPTION:3/8 Teplice A - Jezbiny B 2:3 (18\,-19\,-23\,25\,-13)
DTSTART;TZID=Europe/Berlin:20250912T170000
DTEND;TZID=Europe/Berlin:20250912T190000
LOCATION:v parku
SUMMARY:NA-M-II: Teplice A-Jezbiny B
END:VEVENT
BEGIN:VEVENT
UID:66366362-6161-4761-b064-616336633065
DTSTAMP:20260422T010229Z
DESCRIPTION:5/15 Jezbiny SM - Jezbiny BKmoníček Jiří\nodloženo
DTSTART;TZID=Europe/Berlin:20250926T170000
DTEND;TZID=Europe/Berlin:20250926T190000
LOCATION:Jezbiny
SUMMARY:NA-M-II: Jezbiny SM-Jezbiny B
END:VEVENT
BEGIN:VEVENT
UID:39656530-6236-4030-b062-333932623938
DTSTAMP:20260422T010229Z
DESCRIPTION:6/16 Teplice B - Jezbiny B
DTSTART;TZID=Europe/Berlin:20260515T173000
DTEND;TZID=Europe/Berlin:20260515T193000
LOCATION:v parku
SUMMARY:NA-M-II: Teplice B-Jezbiny B
END:VEVENT
BEGIN:VEVENT
UID:34336633-6534-4734-a634-613139646133
DTSTAMP:20260422T010229Z
DESCRIPTION:7/21 Č.Kostelec C - Jezbiny BJakl Zdeněk
DTSTART;TZID=Europe/Berlin:20260522T173000
DTEND;TZID=Europe/Berlin:20260522T193000
LOCATION:U divadla
SUMMARY:NA-M-II: Č.Kostelec C-Jezbiny B
END:VEVENT
BEGIN:VEVENT
UID:38303963-6562-4563-a566-326534356432
DTSTAMP:20260422T010229Z
DESCRIPTION:9/26 VoCe nad Met. - Jezbiny BVyhnánek Miroslav
DTSTART;TZID=Europe/Berlin:20260605T173000
DTEND;TZID=Europe/Berlin:20260605T193000
LOCATION:Sokolovna
SUMMARY:NA-M-II: VoCe nad Met.-Jezbiny B
END:VEVENT
END:VCALENDAR
