BEGIN:VCALENDAR
VERSION:2.0
PRODID:-//Volejbalové centrum nad Metují, z.s.91021//NONSGML kigkonsult.se iCalcreator 2.41.80//
CALSCALE:GREGORIAN
UID:34336139-6561-4632-a634-373039376338
BEGIN:VEVENT
UID:38613961-6632-4464-b935-653330396232
DTSTAMP:20260422T075410Z
DESCRIPTION:3/9 VoCe nad Met. - Jezbiny SM 3:0 (22\,21\,22)
DTSTART;TZID=Europe/Berlin:20250912T170000
DTEND;TZID=Europe/Berlin:20250912T190000
LOCATION:Sokolovna
SUMMARY:NA-M-II: VoCe nad Met.-Jezbiny SM
END:VEVENT
BEGIN:VEVENT
UID:66326266-3265-4734-b235-653266313038
DTSTAMP:20260422T075410Z
DESCRIPTION:5/14 VoCe nad Met. - Č.Kostelec CAnděl Václav\nOdloženo
DTSTART;TZID=Europe/Berlin:20250926T170000
DTEND;TZID=Europe/Berlin:20250926T190000
LOCATION:Sokolovna
SUMMARY:NA-M-II: VoCe nad Met.-Č.Kostelec C
END:VEVENT
BEGIN:VEVENT
UID:64386262-3863-4562-a538-623738373835
DTSTAMP:20260422T075410Z
DESCRIPTION:6/18 VoCe nad Met. - Teplice AVyhnánek Miroslav
DTSTART;TZID=Europe/Berlin:20260515T173000
DTEND;TZID=Europe/Berlin:20260515T193000
LOCATION:Sokolovna
SUMMARY:NA-M-II: VoCe nad Met.-Teplice A
END:VEVENT
BEGIN:VEVENT
UID:64313834-3035-4532-a634-343532613937
DTSTAMP:20260422T075410Z
DESCRIPTION:7/19 VoCe nad Met. - Teplice BVyhnánek Miroslav
DTSTART;TZID=Europe/Berlin:20260522T173000
DTEND;TZID=Europe/Berlin:20260522T193000
LOCATION:Sokolovna
SUMMARY:NA-M-II: VoCe nad Met.-Teplice B
END:VEVENT
BEGIN:VEVENT
UID:61353862-6438-4530-a665-376331326636
DTSTAMP:20260422T075410Z
DESCRIPTION:9/26 VoCe nad Met. - Jezbiny BVyhnánek Miroslav
DTSTART;TZID=Europe/Berlin:20260605T173000
DTEND;TZID=Europe/Berlin:20260605T193000
LOCATION:Sokolovna
SUMMARY:NA-M-II: VoCe nad Met.-Jezbiny B
END:VEVENT
BEGIN:VEVENT
UID:33626134-6638-4235-b736-346261646130
DTSTAMP:20260422T075410Z
DESCRIPTION:1/3 Teplice A - VoCe nad Met. 3:0 (18\,24\,20)
DTSTART;TZID=Europe/Berlin:20250903T170000
DTEND;TZID=Europe/Berlin:20250903T190000
LOCATION:v parku
SUMMARY:NA-M-II: Teplice A-VoCe nad Met.
END:VEVENT
BEGIN:VEVENT
UID:34373963-6462-4666-b130-663761303561
DTSTAMP:20260422T075410Z
DESCRIPTION:2/4 Teplice B - VoCe nad Met. 1:3 (-19\,-17\,22\,-18)
DTSTART;TZID=Europe/Berlin:20250909T173000
DTEND;TZID=Europe/Berlin:20250909T193000
LOCATION:v parku
SUMMARY:NA-M-II: Teplice B-VoCe nad Met.
END:VEVENT
BEGIN:VEVENT
UID:64653062-3761-4166-b638-616131656533
DTSTAMP:20260422T075410Z
DESCRIPTION:4/11 Jezbiny B - VoCe nad Met.Máša Roman\nOdloženo (počasí)
DTSTART;TZID=Europe/Berlin:20250925T170000
DTEND;TZID=Europe/Berlin:20250925T190000
LOCATION:Jezbiny
SUMMARY:NA-M-II: Jezbiny B-VoCe nad Met.
END:VEVENT
BEGIN:VEVENT
UID:30653962-3234-4633-a131-666264366532
DTSTAMP:20260422T075410Z
DESCRIPTION:8/24 Jezbiny SM - VoCe nad Met.Máša Roman
DTSTART;TZID=Europe/Berlin:20260529T173000
DTEND;TZID=Europe/Berlin:20260529T193000
LOCATION:Jezbiny
SUMMARY:NA-M-II: Jezbiny SM-VoCe nad Met.
END:VEVENT
BEGIN:VEVENT
UID:37306536-3262-4439-b635-323735326163
DTSTAMP:20260422T075410Z
DESCRIPTION:10/29 Č.Kostelec C - VoCe nad Met.
DTSTART;TZID=Europe/Berlin:20260612T173000
DTEND;TZID=Europe/Berlin:20260612T193000
LOCATION:U divadla
SUMMARY:NA-M-II: Č.Kostelec C-VoCe nad Met.
END:VEVENT
END:VCALENDAR
