BEGIN:VCALENDAR
VERSION:2.0
PRODID:-//TJ Slovan Broumov A, z.s.91038//NONSGML kigkonsult.se iCalcreator 2.41.80//
CALSCALE:GREGORIAN
UID:65383330-3062-4835-b062-363762613661
BEGIN:VEVENT
UID:37616632-3633-4532-a338-363261356361
DTSTAMP:20260422T184052Z
DESCRIPTION:1/3 Broumov A - V.Dřevíč 1:3 (-15\,21\,-20\,-19)
DTSTART;TZID=Europe/Berlin:20250826T173000
DTEND;TZID=Europe/Berlin:20250826T193000
LOCATION:Masarykova tř.
SUMMARY:NA-Z-II: Broumov A-V.Dřevíč
END:VEVENT
BEGIN:VEVENT
UID:65356438-3863-4636-b333-393166306162
DTSTAMP:20260422T184052Z
DESCRIPTION:3/8 Broumov A - Teplice 0:3 (-20\,-21\,-16)
DTSTART;TZID=Europe/Berlin:20250909T170000
DTEND;TZID=Europe/Berlin:20250909T190000
LOCATION:Masarykova tř.
SUMMARY:NA-Z-II: Broumov A-Teplice
END:VEVENT
BEGIN:VEVENT
UID:65396163-3433-4939-a637-623231376434
DTSTAMP:20260422T184052Z
DESCRIPTION:5/13 Broumov A - Broumov B 3:0 (12\,15\,11)
DTSTART;TZID=Europe/Berlin:20250923T170000
DTEND;TZID=Europe/Berlin:20250923T190000
LOCATION:Masarykova tř.
SUMMARY:NA-Z-II: Broumov A-Broumov B
END:VEVENT
BEGIN:VEVENT
UID:30643833-3866-4639-b239-326133303365
DTSTAMP:20260422T184052Z
DESCRIPTION:7/20 Broumov A - VoCe nad Met. BBiško Miloš
DTSTART;TZID=Europe/Berlin:20260519T173000
DTEND;TZID=Europe/Berlin:20260519T193000
LOCATION:Masarykova tř.
SUMMARY:NA-Z-II: Broumov A-VoCe nad Met. B
END:VEVENT
BEGIN:VEVENT
UID:34663636-3264-4537-b462-666364613335
DTSTAMP:20260422T184052Z
DESCRIPTION:9/27 Broumov A - StudniceBiško Miloš
DTSTART;TZID=Europe/Berlin:20260602T173000
DTEND;TZID=Europe/Berlin:20260602T193000
LOCATION:Masarykova tř.
SUMMARY:NA-Z-II: Broumov A-Studnice
END:VEVENT
BEGIN:VEVENT
UID:31376131-3638-4431-b638-313037333465
DTSTAMP:20260422T184052Z
DESCRIPTION:2/5 VoCe nad Met. B - Broumov A 2:3 (-18\,20\,20\,-15\,-10)
DTSTART;TZID=Europe/Berlin:20250902T173000
DTEND;TZID=Europe/Berlin:20250902T193000
LOCATION:Sokolovna
SUMMARY:NA-Z-II: VoCe nad Met. B-Broumov A
END:VEVENT
BEGIN:VEVENT
UID:63303235-6239-4531-b634-333362643365
DTSTAMP:20260422T184052Z
DESCRIPTION:4/12 Studnice - Broumov A 0:3 (-12\,-20\,-23)
DTSTART;TZID=Europe/Berlin:20250916T170000
DTEND;TZID=Europe/Berlin:20250916T190000
LOCATION:U sokolovny
SUMMARY:NA-Z-II: Studnice-Broumov A
END:VEVENT
BEGIN:VEVENT
UID:66363666-6138-4234-a336-376335373463
DTSTAMP:20260422T184052Z
DESCRIPTION:6/18 V.Dřevíč - Broumov AHencel Miloš
DTSTART;TZID=Europe/Berlin:20260512T173000
DTEND;TZID=Europe/Berlin:20260512T193000
LOCATION:U autokempu
SUMMARY:NA-Z-II: V.Dřevíč-Broumov A
END:VEVENT
BEGIN:VEVENT
UID:31616636-6535-4430-b630-663865613033
DTSTAMP:20260422T184052Z
DESCRIPTION:8/23 Teplice - Broumov A
DTSTART;TZID=Europe/Berlin:20260526T173000
DTEND;TZID=Europe/Berlin:20260526T193000
LOCATION:v parku
SUMMARY:NA-Z-II: Teplice-Broumov A
END:VEVENT
BEGIN:VEVENT
UID:61396664-3765-4263-a431-363065633761
DTSTAMP:20260422T184052Z
DESCRIPTION:10/28 Broumov B - Broumov AHáze Martin
DTSTART;TZID=Europe/Berlin:20260609T173000
DTEND;TZID=Europe/Berlin:20260609T193000
LOCATION:Masarykova tř.
SUMMARY:NA-Z-II: Broumov B-Broumov A
END:VEVENT
END:VCALENDAR
