BEGIN:VCALENDAR
VERSION:2.0
PRODID:-//Škola volejbalu České Budějovice91039//NONSGML kigkonsult.se iCalcreator 2.41.80//
CALSCALE:GREGORIAN
UID:65373339-6535-4330-b838-396666643137
BEGIN:VEVENT
UID:36666639-3736-4166-b963-336364303835
DTSTAMP:20260421T231833Z
DESCRIPTION:2/6 Škola volejbalu Č. Budějovice - VK Karlovy Vary 0:2 (-19\,-
 18)
DTSTART;TZID=Europe/Berlin:20250913T101500
DTEND;TZID=Europe/Berlin:20250913T121500
LOCATION:Sportovní hala Hrdějovice\,  Hrdějovice597
SUMMARY:CP-U16Z-Z1A: Škola volejbalu Č. Budějovice-VK Karlovy Vary
END:VEVENT
BEGIN:VEVENT
UID:37396366-6533-4361-b739-306161316262
DTSTAMP:20260421T231833Z
DESCRIPTION:3/8 Škola volejbalu Č. Budějovice - INLAB SK Meteor Praha 1:2 (
 19\,-18\,-9)
DTSTART;TZID=Europe/Berlin:20250913T113000
DTEND;TZID=Europe/Berlin:20250913T133000
LOCATION:Sportovní hala Hrdějovice\,  Hrdějovice597
SUMMARY:CP-U16Z-Z1A: Škola volejbalu Č. Budějovice-INLAB SK Meteor Praha
END:VEVENT
BEGIN:VEVENT
UID:37666163-3561-4735-a666-613032333933
DTSTAMP:20260421T231833Z
DESCRIPTION:7/17 Škola volejbalu Č. Budějovice - TJ Loko Plzeň 0:2 (-11\,-1
 6)
DTSTART;TZID=Europe/Berlin:20250914T090000
DTEND;TZID=Europe/Berlin:20250914T110000
LOCATION:Sportovní hala Hrdějovice\,  Hrdějovice597
SUMMARY:CP-U16Z-Z1A: Škola volejbalu Č. Budějovice-TJ Loko Plzeň
END:VEVENT
BEGIN:VEVENT
UID:35623361-3332-4264-a138-373731346634
DTSTAMP:20260421T231833Z
DESCRIPTION:4/10 Orion Praha - Škola volejbalu Č. Budějovice 2:0 (8\,10)
DTSTART;TZID=Europe/Berlin:20250913T124500
DTEND;TZID=Europe/Berlin:20250913T144500
LOCATION:ZŠ Dolní Břežany\, Na Vršku 290 Dolní Břežany
SUMMARY:CP-U16Z-Z1A: Orion Praha-Škola volejbalu Č. Budějovice
END:VEVENT
BEGIN:VEVENT
UID:37343663-3962-4764-b061-323861326162
DTSTAMP:20260421T231833Z
DESCRIPTION:5/13 VK Sever Žatec - Škola volejbalu Č. Budějovice 2:0 (19\,18
 )
DTSTART;TZID=Europe/Berlin:20250913T140000
DTEND;TZID=Europe/Berlin:20250913T160000
LOCATION:Sportovní hala TJ Sever Žatec\, Plzeňská 2787 Žatec
SUMMARY:CP-U16Z-Z1A: VK Sever Žatec-Škola volejbalu Č. Budějovice
END:VEVENT
BEGIN:VEVENT
UID:66646435-6339-4161-a532-643739356237
DTSTAMP:20260421T231833Z
DESCRIPTION:8/22 S V B C - Škola volejbalu Č. Budějovice 1:2 (-22\,19\,-12)
DTSTART;TZID=Europe/Berlin:20250914T101500
DTEND;TZID=Europe/Berlin:20250914T121500
SUMMARY:CP-U16Z-Z1A: S V B C-Škola volejbalu Č. Budějovice
END:VEVENT
BEGIN:VEVENT
UID:62306639-3662-4165-b062-396535613264
DTSTAMP:20260421T231833Z
DESCRIPTION:9/24 SKVD Ústí n.L. - Škola volejbalu Č. Budějovice 2:1 (24\,-1
 6\,8)
DTSTART;TZID=Europe/Berlin:20250914T113000
DTEND;TZID=Europe/Berlin:20250914T133000
LOCATION:Základní škola Stříbrnická\, Stříbrnická 3031 Ústí nad Labem - Sev
 erní Terasa
SUMMARY:CP-U16Z-Z1A: SKVD Ústí n.L.-Škola volejbalu Č. Budějovice
END:VEVENT
BEGIN:VEVENT
UID:34363038-6665-4761-a362-633835346466
DTSTAMP:20260421T231833Z
DESCRIPTION:8/15 Škola volejbalu Č. Budějovice - SKVD Ústí n.L. 0:2 (-20\,-
 17)
DTSTART;TZID=Europe/Berlin:20251019T090000
DTEND;TZID=Europe/Berlin:20251019T110000
LOCATION:Sportovní hala Hrdějovice\,  Hrdějovice597
SUMMARY:CP-U16Z-Z2F: Škola volejbalu Č. Budějovice-SKVD Ústí n.L.
END:VEVENT
BEGIN:VEVENT
UID:61373932-3063-4137-b966-363335303066
DTSTAMP:20260421T231833Z
DESCRIPTION:10/19 Škola volejbalu Č. Budějovice - TJ Lokomotiva Česká Lípa 
 2:0 (7\,10)
DTSTART;TZID=Europe/Berlin:20251019T120000
DTEND;TZID=Europe/Berlin:20251019T140000
LOCATION:Sportovní hala Hrdějovice\,  Hrdějovice597
SUMMARY:CP-U16Z-Z2F: Škola volejbalu Č. Budějovice-TJ Lokomotiva Česká Lípa
END:VEVENT
BEGIN:VEVENT
UID:30363839-3439-4235-b632-356636616562
DTSTAMP:20260421T231833Z
DESCRIPTION:2/3 VSK Český Krumlov - Škola volejbalu Č. Budějovice 1:2 (17\,
 -20\,-11)
DTSTART;TZID=Europe/Berlin:20251018T103000
DTEND;TZID=Europe/Berlin:20251018T123000
LOCATION:ZŠ Za Nádražím Český Krumlov\, Za Nádražím 222 Český Krumlov - Nád
 ražní Předměstí
SUMMARY:CP-U16Z-Z2F: VSK Český Krumlov-Škola volejbalu Č. Budějovice
END:VEVENT
BEGIN:VEVENT
UID:39376634-3962-4661-a362-323435653133
DTSTAMP:20260421T231833Z
DESCRIPTION:4/8 Kladno C - Škola volejbalu Č. Budějovice 0:2 (-10\,-11)
DTSTART;TZID=Europe/Berlin:20251018T133000
DTEND;TZID=Europe/Berlin:20251018T153000
LOCATION:Kladenská sportovní hala\, Sportovců 817 Kladno - Rozdělov
SUMMARY:CP-U16Z-Z2F: Kladno C-Škola volejbalu Č. Budějovice
END:VEVENT
BEGIN:VEVENT
UID:39386137-6539-4665-a561-623062663037
DTSTAMP:20260421T231833Z
DESCRIPTION:6/11 TJ Sokol M. Hradiště - Škola volejbalu Č. Budějovice 0:2 (
 -15\,-20)
DTSTART;TZID=Europe/Berlin:20251018T163000
DTEND;TZID=Europe/Berlin:20251018T183000
LOCATION:Sportovní hala BIOS\, Sokolovská 254 Mnichovo Hradiště
SUMMARY:CP-U16Z-Z2F: TJ Sokol M. Hradiště-Škola volejbalu Č. Budějovice
END:VEVENT
BEGIN:VEVENT
UID:35366564-3737-4031-a563-323633656365
DTSTAMP:20260421T231833Z
DESCRIPTION:7/14 SK TŘEBÍN - Škola volejbalu Č. Budějovice 0:2 (-15\,-14)
DTSTART;TZID=Europe/Berlin:20251018T180000
DTEND;TZID=Europe/Berlin:20251018T200000
LOCATION:ZŠ Máj I\, M. Chlajna 1319 České Budějovice - České Budějovice 2
SUMMARY:CP-U16Z-Z2F: SK TŘEBÍN-Škola volejbalu Č. Budějovice
END:VEVENT
BEGIN:VEVENT
UID:62313063-6165-4465-b930-396130666338
DTSTAMP:20260421T231833Z
DESCRIPTION:8/15 Škola volejbalu Č. Budějovice - SKVD Ústí n.L. 0:2 (-19\,-
 22)
DTSTART;TZID=Europe/Berlin:20251130T090000
DTEND;TZID=Europe/Berlin:20251130T110000
LOCATION:Sportovní hala Hrdějovice\,  Hrdějovice597
SUMMARY:CP-U16Z-Z3E: Škola volejbalu Č. Budějovice-SKVD Ústí n.L.
END:VEVENT
BEGIN:VEVENT
UID:66656561-6530-4731-b664-623538323734
DTSTAMP:20260421T231833Z
DESCRIPTION:10/19 Škola volejbalu Č. Budějovice - SK Dansport 0:2 (-24\,-18
 )
DTSTART;TZID=Europe/Berlin:20251130T120000
DTEND;TZID=Europe/Berlin:20251130T140000
LOCATION:Sportovní hala Hrdějovice\,  Hrdějovice597
SUMMARY:CP-U16Z-Z3E: Škola volejbalu Č. Budějovice-SK Dansport
END:VEVENT
BEGIN:VEVENT
UID:31303136-3130-4566-b632-653965613333
DTSTAMP:20260421T231833Z
DESCRIPTION:2/3 Nová Paka - Škola volejbalu Č. Budějovice 2:0 (23\,23)
DTSTART;TZID=Europe/Berlin:20251129T103000
DTEND;TZID=Europe/Berlin:20251129T123000
LOCATION:ZŠ Husitská\, O. Číly 1933 Nová Paka
SUMMARY:CP-U16Z-Z3E: Nová Paka-Škola volejbalu Č. Budějovice
END:VEVENT
BEGIN:VEVENT
UID:61616263-3733-4132-a630-306332623463
DTSTAMP:20260421T231833Z
DESCRIPTION:4/8 Kladno A - Škola volejbalu Č. Budějovice 2:0 (25\,20)
DTSTART;TZID=Europe/Berlin:20251129T133000
DTEND;TZID=Europe/Berlin:20251129T153000
LOCATION:Kladenská sportovní hala\, Sportovců 817 Kladno - Rozdělov
SUMMARY:CP-U16Z-Z3E: Kladno A-Škola volejbalu Č. Budějovice
END:VEVENT
BEGIN:VEVENT
UID:35306266-6563-4137-a331-303261346365
DTSTAMP:20260421T231833Z
DESCRIPTION:6/11 Mělník - Škola volejbalu Č. Budějovice 0:2 (-16\,-14)
DTSTART;TZID=Europe/Berlin:20251129T163000
DTEND;TZID=Europe/Berlin:20251129T183000
LOCATION:Tělocvična ZŠ J. Matiegky\, Pražská 2817 Mělník
SUMMARY:CP-U16Z-Z3E: Mělník-Škola volejbalu Č. Budějovice
END:VEVENT
BEGIN:VEVENT
UID:32613432-3064-4266-b239-653435383130
DTSTAMP:20260421T231833Z
DESCRIPTION:7/14 TJ Kunice - Škola volejbalu Č. Budějovice 2:0 (16\,21)
DTSTART;TZID=Europe/Berlin:20251129T180000
DTEND;TZID=Europe/Berlin:20251129T200000
LOCATION:ZŠ Strančice\, Revoluční 170 Strančice
SUMMARY:CP-U16Z-Z3E: TJ Kunice-Škola volejbalu Č. Budějovice
END:VEVENT
BEGIN:VEVENT
UID:37643439-3834-4333-a135-366362326139
DTSTAMP:20260421T231833Z
DESCRIPTION:1/1 Škola volejbalu Č. Budějovice - VK Rokycany 2:0 (23\,24)\nS
 H Hrdějovice
DTSTART;TZID=Europe/Berlin:20260117T100000
DTEND;TZID=Europe/Berlin:20260117T120000
LOCATION:Sportovní hala Hrdějovice\,  Hrdějovice597
SUMMARY:CP-U16Z4I: Škola volejbalu Č. Budějovice-VK Rokycany
END:VEVENT
BEGIN:VEVENT
UID:32303830-3033-4162-a238-366333336334
DTSTAMP:20260421T231833Z
DESCRIPTION:5/9 Škola volejbalu Č. Budějovice - VA MUNI Sport Brno 2:0 (11\
 ,14)\nSH Hrdějovice
DTSTART;TZID=Europe/Berlin:20260117T152000
DTEND;TZID=Europe/Berlin:20260117T172000
LOCATION:Sportovní hala Hrdějovice\,  Hrdějovice597
SUMMARY:CP-U16Z4I: Škola volejbalu Č. Budějovice-VA MUNI Sport Brno
END:VEVENT
BEGIN:VEVENT
UID:32316135-3163-4633-b031-303534343265
DTSTAMP:20260421T231833Z
DESCRIPTION:8/15 Škola volejbalu Č. Budějovice - VSK Český Krumlov 0:2 (-22
 \,-22)\nSH Litvínovice
DTSTART;TZID=Europe/Berlin:20260118T090000
DTEND;TZID=Europe/Berlin:20260118T110000
LOCATION:Sportovní hala Hrdějovice\,  Hrdějovice597
SUMMARY:CP-U16Z4I: Škola volejbalu Č. Budějovice-VSK Český Krumlov
END:VEVENT
BEGIN:VEVENT
UID:32616137-3137-4538-b330-366634663333
DTSTAMP:20260421T231833Z
DESCRIPTION:3/5 BV Vratislavice n. N. z.s. - Škola volejbalu Č. Budějovice 
 0:2 (-22\,-24)\nSH Hrdějovice
DTSTART;TZID=Europe/Berlin:20260117T124000
DTEND;TZID=Europe/Berlin:20260117T144000
SUMMARY:CP-U16Z4I: BV Vratislavice n. N. z.s.-Škola volejbalu Č. Budějovice
END:VEVENT
BEGIN:VEVENT
UID:36383935-6433-4033-b263-633762313332
DTSTAMP:20260421T231833Z
DESCRIPTION:7/13 Uh.Hradiště - Škola volejbalu Č. Budějovice 0:2 (-14\,-3)
 \nSH Hrdějovice
DTSTART;TZID=Europe/Berlin:20260117T180000
DTEND;TZID=Europe/Berlin:20260117T200000
LOCATION:Městská sportovní hala\, Stonky 860 Uherské Hradiště
SUMMARY:CP-U16Z4I: Uh.Hradiště-Škola volejbalu Č. Budějovice
END:VEVENT
BEGIN:VEVENT
UID:63316361-3838-4163-b966-326162623561
DTSTAMP:20260421T231833Z
DESCRIPTION:9/17 VC Kroměříž - Škola volejbalu Č. Budějovice 2:1 (-12\,19\,
 8)\nSH Litvínovice
DTSTART;TZID=Europe/Berlin:20260118T102000
DTEND;TZID=Europe/Berlin:20260118T122000
LOCATION:ZŠ Zachar\, Albertova 4062 Kroměříž
SUMMARY:CP-U16Z4I: VC Kroměříž-Škola volejbalu Č. Budějovice
END:VEVENT
BEGIN:VEVENT
UID:32316636-3733-4936-a462-363362626538
DTSTAMP:20260421T231833Z
DESCRIPTION:2/4 Škola volejbalu Č. Budějovice - TJ Sokol Dolní Újezd 1:2 (-
 17\,20\,-12)
DTSTART;TZID=Europe/Berlin:20260207T114500
DTEND;TZID=Europe/Berlin:20260207T134500
LOCATION:Sportovní hala Hrdějovice\,  Hrdějovice597
SUMMARY:CP-U16Z5H: Škola volejbalu Č. Budějovice-TJ Sokol Dolní Újezd
END:VEVENT
BEGIN:VEVENT
UID:38326430-3135-4262-a563-666239623534
DTSTAMP:20260421T231833Z
DESCRIPTION:5/9 Škola volejbalu Č. Budějovice - BV Vratislavice n. N. z.s. 
 0:2 (-20\,-17)
DTSTART;TZID=Europe/Berlin:20260207T160000
DTEND;TZID=Europe/Berlin:20260207T180000
LOCATION:Sportovní hala Hrdějovice\,  Hrdějovice597
SUMMARY:CP-U16Z5H: Škola volejbalu Č. Budějovice-BV Vratislavice n. N. z.s.
END:VEVENT
BEGIN:VEVENT
UID:38363635-3130-4561-b962-636262333932
DTSTAMP:20260421T231833Z
DESCRIPTION:3/6 INLAB SK Meteor Praha - Škola volejbalu Č. Budějovice 1:2 (
 -28\,18\,-11)
DTSTART;TZID=Europe/Berlin:20260207T133000
DTEND;TZID=Europe/Berlin:20260207T153000
LOCATION:ZŠ Žernosecká\, Žernosecká 1597 Praha - Kobylisy
SUMMARY:CP-U16Z5H: INLAB SK Meteor Praha-Škola volejbalu Č. Budějovice
END:VEVENT
BEGIN:VEVENT
UID:31323837-3330-4738-b664-396461333932
DTSTAMP:20260421T231833Z
DESCRIPTION:6/10 SKVD Ústí n.L. - Škola volejbalu Č. Budějovice 2:1 (-17\,2
 2\,8)
DTSTART;TZID=Europe/Berlin:20260208T090000
DTEND;TZID=Europe/Berlin:20260208T110000
LOCATION:Základní škola Stříbrnická\, Stříbrnická 3031 Ústí nad Labem - Sev
 erní Terasa
SUMMARY:CP-U16Z5H: SKVD Ústí n.L.-Škola volejbalu Č. Budějovice
END:VEVENT
BEGIN:VEVENT
UID:61663134-3931-4038-a333-663235333162
DTSTAMP:20260421T231833Z
DESCRIPTION:7/13 Nová Paka - Škola volejbalu Č. Budějovice 2:1 (22\,-23\,12
 )
DTSTART;TZID=Europe/Berlin:20260208T101500
DTEND;TZID=Europe/Berlin:20260208T121500
LOCATION:ZŠ Husitská\, O. Číly 1933 Nová Paka
SUMMARY:CP-U16Z5H: Nová Paka-Škola volejbalu Č. Budějovice
END:VEVENT
BEGIN:VEVENT
UID:31343532-3939-4966-a232-343431353266
DTSTAMP:20260421T231833Z
DESCRIPTION:5/10 Škola volejbalu Č. Budějovice - Volejbal Rudolfov 0:2 (-15
 \,-26)
DTSTART;TZID=Europe/Berlin:20260328T142000
DTEND;TZID=Europe/Berlin:20260328T162000
LOCATION:Sportovní hala Hrdějovice\,  Hrdějovice597
SUMMARY:CP-U16Z6K: Škola volejbalu Č. Budějovice-Volejbal Rudolfov
END:VEVENT
BEGIN:VEVENT
UID:39613034-3236-4638-b136-643932616566
DTSTAMP:20260421T231833Z
DESCRIPTION:6/12 Škola volejbalu Č. Budějovice - VSK Český Krumlov 0:2 (-17
 \,-19)
DTSTART;TZID=Europe/Berlin:20260328T154000
DTEND;TZID=Europe/Berlin:20260328T174000
LOCATION:Sportovní hala Hrdějovice\,  Hrdějovice597
SUMMARY:CP-U16Z6K: Škola volejbalu Č. Budějovice-VSK Český Krumlov
END:VEVENT
BEGIN:VEVENT
UID:30366165-3239-4331-b361-623638663936
DTSTAMP:20260421T231833Z
DESCRIPTION:1/2 VK Rokycany - Škola volejbalu Č. Budějovice 0:2 (-15\,-25)
DTSTART;TZID=Europe/Berlin:20260328T090000
DTEND;TZID=Europe/Berlin:20260328T110000
LOCATION:Hala Gymnázia Rokycany\, Mládežníků 1115 Rokycany - Nové Město
SUMMARY:CP-U16Z6K: VK Rokycany-Škola volejbalu Č. Budějovice
END:VEVENT
BEGIN:VEVENT
UID:63653861-6533-4835-b464-623131306663
DTSTAMP:20260421T231833Z
DESCRIPTION:3/5 BV Vratislavice n. N. z.s. - Škola volejbalu Č. Budějovice 
 2:1 (-17\,12\,3)
DTSTART;TZID=Europe/Berlin:20260328T114000
DTEND;TZID=Europe/Berlin:20260328T134000
SUMMARY:CP-U16Z6K: BV Vratislavice n. N. z.s.-Škola volejbalu Č. Budějovice
END:VEVENT
BEGIN:VEVENT
UID:34333337-3661-4434-a165-613363353664
DTSTAMP:20260421T231833Z
DESCRIPTION:8/16 SKVD Ústí n.L. - Škola volejbalu Č. Budějovice 2:0 (17\,20
 )
DTSTART;TZID=Europe/Berlin:20260329T090000
DTEND;TZID=Europe/Berlin:20260329T110000
LOCATION:Základní škola Stříbrnická\, Stříbrnická 3031 Ústí nad Labem - Sev
 erní Terasa
SUMMARY:CP-U16Z6K: SKVD Ústí n.L.-Škola volejbalu Č. Budějovice
END:VEVENT
BEGIN:VEVENT
UID:31333237-3337-4163-a665-316339353634
DTSTAMP:20260421T231833Z
DESCRIPTION:10/20 BVC Chodov - Škola volejbalu Č. Budějovice 0:2 (-14\,-21)
DTSTART;TZID=Europe/Berlin:20260329T114000
DTEND;TZID=Europe/Berlin:20260329T134000
LOCATION:Městská sportovní hala Chodov\, Tyršova 1201 Chodov
SUMMARY:CP-U16Z6K: BVC Chodov-Škola volejbalu Č. Budějovice
END:VEVENT
END:VCALENDAR
