BEGIN:VCALENDAR
VERSION:2.0
PRODID:-//Tělocvičná jednota Sokol Litoměřice91040//NONSGML kigkonsult.se iCalcreator 2.41.80//
CALSCALE:GREGORIAN
UID:38333738-6336-4466-b832-333736336438
BEGIN:VEVENT
UID:35663265-6563-4161-a536-323632316666
DTSTAMP:20260422T052726Z
DESCRIPTION:3/11 Sokol Litoměřice - VK Jirkov 0:3 (-21\,-14\,-11)
DTSTART;TZID=Europe/Berlin:20251108T100000
DTEND;TZID=Europe/Berlin:20251108T120000
LOCATION:Sokol Litoměřice Osvobození 17\, Litoměřice\, 41201
SUMMARY:US-Z-1: Sokol Litoměřice-VK Jirkov
END:VEVENT
BEGIN:VEVENT
UID:35393938-6333-4139-a633-656563363635
DTSTAMP:20260422T052726Z
DESCRIPTION:4/15 Sokol Litoměřice - VK Jirkov 3:0 (22\,23\,22)
DTSTART;TZID=Europe/Berlin:20251108T140000
DTEND;TZID=Europe/Berlin:20251108T160000
LOCATION:Sokol Litoměřice Osvobození 17\, Litoměřice\, 41201
SUMMARY:US-Z-1: Sokol Litoměřice-VK Jirkov
END:VEVENT
BEGIN:VEVENT
UID:34353534-3137-4962-a232-663764353966
DTSTAMP:20260422T052726Z
DESCRIPTION:7/26 Sokol Litoměřice - Volejbalový klub Karlovy Vary z.s. 3:0 
 (13\,9\,21)
DTSTART;TZID=Europe/Berlin:20260307T100000
DTEND;TZID=Europe/Berlin:20260307T120000
LOCATION:Sokol Litoměřice Osvobození 17\, Litoměřice\, 41201
SUMMARY:US-Z-1: Sokol Litoměřice-Volejbalový klub Karlovy Vary z.s.
END:VEVENT
BEGIN:VEVENT
UID:36383563-3963-4632-b633-613232373463
DTSTAMP:20260422T052726Z
DESCRIPTION:8/30 Sokol Litoměřice - Volejbalový klub Karlovy Vary z.s. 3:0 
 (16\,18\,14)
DTSTART;TZID=Europe/Berlin:20260307T140000
DTEND;TZID=Europe/Berlin:20260307T160000
LOCATION:Sokol Litoměřice Osvobození 17\, Litoměřice\, 41201
SUMMARY:US-Z-1: Sokol Litoměřice-Volejbalový klub Karlovy Vary z.s.
END:VEVENT
BEGIN:VEVENT
UID:61666561-3463-4033-b238-646335306636
DTSTAMP:20260422T052726Z
DESCRIPTION:13/52 Sokol Litoměřice - SKVD Ústí B 3:0 (10\,19\,8)
DTSTART;TZID=Europe/Berlin:20251213T100000
DTEND;TZID=Europe/Berlin:20251213T120000
LOCATION:Sokol Litoměřice Osvobození 17\, Litoměřice\, 41201
SUMMARY:US-Z-1: Sokol Litoměřice-SKVD Ústí B
END:VEVENT
BEGIN:VEVENT
UID:34353033-6137-4566-a432-633265636239
DTSTAMP:20260422T052726Z
DESCRIPTION:14/56 Sokol Litoměřice - SKVD Ústí B 3:0 (14\,9\,10)
DTSTART;TZID=Europe/Berlin:20251213T140000
DTEND;TZID=Europe/Berlin:20251213T160000
LOCATION:Sokol Litoměřice Osvobození 17\, Litoměřice\, 41201
SUMMARY:US-Z-1: Sokol Litoměřice-SKVD Ústí B
END:VEVENT
BEGIN:VEVENT
UID:35653061-3266-4638-b163-343334386137
DTSTAMP:20260422T052726Z
DESCRIPTION:15/58 Sokol Litoměřice - VK Litvínov\, z.s. 3:0 (23\,24\,20)
DTSTART;TZID=Europe/Berlin:20260110T100000
DTEND;TZID=Europe/Berlin:20260110T120000
LOCATION:Sokol Litoměřice Osvobození 17\, Litoměřice\, 41201
SUMMARY:US-Z-1: Sokol Litoměřice-VK Litvínov\, z.s.
END:VEVENT
BEGIN:VEVENT
UID:39313831-3930-4966-b864-653361343032
DTSTAMP:20260422T052726Z
DESCRIPTION:16/62 Sokol Litoměřice - VK Litvínov\, z.s. 3:1 (-23\,13\,22\,2
 3)
DTSTART;TZID=Europe/Berlin:20260110T140000
DTEND;TZID=Europe/Berlin:20260110T160000
LOCATION:Sokol Litoměřice Osvobození 17\, Litoměřice\, 41201
SUMMARY:US-Z-1: Sokol Litoměřice-VK Litvínov\, z.s.
END:VEVENT
BEGIN:VEVENT
UID:62316231-3238-4862-a634-393762303331
DTSTAMP:20260422T052726Z
DESCRIPTION:19/75 Sokol Litoměřice - Volejbal Ústí nad Labem 0:3 (-11\,-21\
 ,-18)
DTSTART;TZID=Europe/Berlin:20260124T100000
DTEND;TZID=Europe/Berlin:20260124T120000
LOCATION:Sokol Litoměřice Osvobození 17\, Litoměřice\, 41201
SUMMARY:US-Z-1: Sokol Litoměřice-Volejbal Ústí nad Labem
END:VEVENT
BEGIN:VEVENT
UID:32393632-3463-4065-a362-393638316466
DTSTAMP:20260422T052726Z
DESCRIPTION:20/79 Sokol Litoměřice - Volejbal Ústí nad Labem 2:3 (-17\,21\,
 -25\,15\,-14)
DTSTART;TZID=Europe/Berlin:20260124T140000
DTEND;TZID=Europe/Berlin:20260124T160000
LOCATION:Sokol Litoměřice Osvobození 17\, Litoměřice\, 41201
SUMMARY:US-Z-1: Sokol Litoměřice-Volejbal Ústí nad Labem
END:VEVENT
BEGIN:VEVENT
UID:64356366-6665-4235-b164-386633663166
DTSTAMP:20260422T052726Z
DESCRIPTION:23/92 Sokol Litoměřice - VK Sever Žatec 3:0 (22\,17\,18)
DTSTART;TZID=Europe/Berlin:20260314T100000
DTEND;TZID=Europe/Berlin:20260314T120000
LOCATION:Sokol Litoměřice Osvobození 17\, Litoměřice\, 41201
SUMMARY:US-Z-1: Sokol Litoměřice-VK Sever Žatec
END:VEVENT
BEGIN:VEVENT
UID:62333832-3736-4334-a164-356565613231
DTSTAMP:20260422T052726Z
DESCRIPTION:24/96 Sokol Litoměřice - VK Sever Žatec 3:2 (22\,22\,-23\,-19\,
 9)
DTSTART;TZID=Europe/Berlin:20260314T140000
DTEND;TZID=Europe/Berlin:20260314T160000
LOCATION:Sokol Litoměřice Osvobození 17\, Litoměřice\, 41201
SUMMARY:US-Z-1: Sokol Litoměřice-VK Sever Žatec
END:VEVENT
BEGIN:VEVENT
UID:32313339-6536-4333-b265-653864373334
DTSTAMP:20260422T052726Z
DESCRIPTION:25/97 Sokol Litoměřice - ASK Lovosice z.s. 3:2 (21\,13\,-8\,-19
 \,11)
DTSTART;TZID=Europe/Berlin:20260321T100000
DTEND;TZID=Europe/Berlin:20260321T120000
LOCATION:Sokol Litoměřice Osvobození 17\, Litoměřice\, 41201
SUMMARY:US-Z-1: Sokol Litoměřice-ASK Lovosice z.s.
END:VEVENT
BEGIN:VEVENT
UID:62343563-3338-4038-a239-613664323836
DTSTAMP:20260422T052726Z
DESCRIPTION:26/101 Sokol Litoměřice - ASK Lovosice z.s. 3:0 (21\,18\,18)
DTSTART;TZID=Europe/Berlin:20260321T140000
DTEND;TZID=Europe/Berlin:20260321T160000
LOCATION:Sokol Litoměřice Osvobození 17\, Litoměřice\, 41201
SUMMARY:US-Z-1: Sokol Litoměřice-ASK Lovosice z.s.
END:VEVENT
BEGIN:VEVENT
UID:30386130-6133-4632-a638-346539366638
DTSTAMP:20260422T052726Z
DESCRIPTION:1/2 VK Litvínov\, z.s. - Sokol Litoměřice 3:1 (21\,21\,-19\,14)
DTSTART;TZID=Europe/Berlin:20250927T100000
DTEND;TZID=Europe/Berlin:20250927T120000
LOCATION:Tělocvična Sokolovna Studentská 758\, 436 01 Litvínov
SUMMARY:US-Z-1: VK Litvínov\, z.s.-Sokol Litoměřice
END:VEVENT
BEGIN:VEVENT
UID:61616431-3764-4265-b832-383635346164
DTSTAMP:20260422T052726Z
DESCRIPTION:2/6 VK Litvínov\, z.s. - Sokol Litoměřice 3:2 (12\,-19\,-23\,22
 \,8)
DTSTART;TZID=Europe/Berlin:20250927T140000
DTEND;TZID=Europe/Berlin:20250927T160000
LOCATION:Tělocvična Sokolovna Studentská 758\, 436 01 Litvínov
SUMMARY:US-Z-1: VK Litvínov\, z.s.-Sokol Litoměřice
END:VEVENT
BEGIN:VEVENT
UID:65663530-3537-4862-a134-613231386262
DTSTAMP:20260422T052726Z
DESCRIPTION:5/19 Volejbal Ústí nad Labem - Sokol Litoměřice 3:1 (-15\,23\,2
 0\,18)
DTSTART;TZID=Europe/Berlin:20251101T100000
DTEND;TZID=Europe/Berlin:20251101T120000
LOCATION:Gymnázium a Střední odborná škola dr. Václava Šmejkala\, Ústí nad 
 Labem Stará 99\, 400 11 Ústí nad Labem-Severní Terasa
SUMMARY:US-Z-1: Volejbal Ústí nad Labem-Sokol Litoměřice
END:VEVENT
BEGIN:VEVENT
UID:38636565-3530-4835-b937-306532653961
DTSTAMP:20260422T052726Z
DESCRIPTION:6/23 Volejbal Ústí nad Labem - Sokol Litoměřice 1:3 (-10\,25\,-
 19\,-31)
DTSTART;TZID=Europe/Berlin:20251101T140000
DTEND;TZID=Europe/Berlin:20251101T160000
LOCATION:Gymnázium a Střední odborná škola dr. Václava Šmejkala\, Ústí nad 
 Labem Stará 99\, 400 11 Ústí nad Labem-Severní Terasa
SUMMARY:US-Z-1: Volejbal Ústí nad Labem-Sokol Litoměřice
END:VEVENT
BEGIN:VEVENT
UID:66636131-3738-4532-b534-363963353031
DTSTAMP:20260422T052726Z
DESCRIPTION:9/36 VK Sever Žatec - Sokol Litoměřice 1:3 (22\,-18\,-23\,-22)
DTSTART;TZID=Europe/Berlin:20251129T100000
DTEND;TZID=Europe/Berlin:20251129T120000
LOCATION:TJ Sever Žatec Žatec\, Plzeňská 2787
SUMMARY:US-Z-1: VK Sever Žatec-Sokol Litoměřice
END:VEVENT
BEGIN:VEVENT
UID:37396236-3435-4266-a335-653237636466
DTSTAMP:20260422T052726Z
DESCRIPTION:10/40 VK Sever Žatec - Sokol Litoměřice 0:3 (-10\,-27\,-20)
DTSTART;TZID=Europe/Berlin:20251129T140000
DTEND;TZID=Europe/Berlin:20251129T160000
LOCATION:TJ Sever Žatec Žatec\, Plzeňská 2787
SUMMARY:US-Z-1: VK Sever Žatec-Sokol Litoměřice
END:VEVENT
BEGIN:VEVENT
UID:32626439-3235-4334-a464-653037386639
DTSTAMP:20260422T052726Z
DESCRIPTION:11/41 ASK Lovosice z.s. - Sokol Litoměřice 1:3 (22\,-22\,-21\,-
 18)
DTSTART;TZID=Europe/Berlin:20260103T100000
DTEND;TZID=Europe/Berlin:20260103T120000
LOCATION:hala U přívozu U Stadionu 1022/2\, 410 02 Lovosice
SUMMARY:US-Z-1: ASK Lovosice z.s.-Sokol Litoměřice
END:VEVENT
BEGIN:VEVENT
UID:65646365-6231-4334-a637-383562323063
DTSTAMP:20260422T052726Z
DESCRIPTION:12/45 ASK Lovosice z.s. - Sokol Litoměřice 3:1 (-14\,21\,18\,21
 )
DTSTART;TZID=Europe/Berlin:20260103T140000
DTEND;TZID=Europe/Berlin:20260103T160000
LOCATION:hala U přívozu U Stadionu 1022/2\, 410 02 Lovosice
SUMMARY:US-Z-1: ASK Lovosice z.s.-Sokol Litoměřice
END:VEVENT
BEGIN:VEVENT
UID:32656634-6530-4866-a662-336238313462
DTSTAMP:20260422T052726Z
DESCRIPTION:17/67 VK Jirkov - Sokol Litoměřice 3:1 (6\,16\,-23\,8)
DTSTART;TZID=Europe/Berlin:20260117T100000
DTEND;TZID=Europe/Berlin:20260117T120000
LOCATION:sportovní hala MGZŠ Krušnohorská Jirkov Jirkov\, Krušnohorská 1675
SUMMARY:US-Z-1: VK Jirkov-Sokol Litoměřice
END:VEVENT
BEGIN:VEVENT
UID:30356330-3936-4565-b037-363464393730
DTSTAMP:20260422T052726Z
DESCRIPTION:18/71 VK Jirkov - Sokol Litoměřice 3:0 (24\,22\,16)
DTSTART;TZID=Europe/Berlin:20260117T140000
DTEND;TZID=Europe/Berlin:20260117T160000
LOCATION:sportovní hala MGZŠ Krušnohorská Jirkov Jirkov\, Krušnohorská 1675
SUMMARY:US-Z-1: VK Jirkov-Sokol Litoměřice
END:VEVENT
BEGIN:VEVENT
UID:61333632-3136-4063-a339-636234653139
DTSTAMP:20260422T052726Z
DESCRIPTION:21/82 Volejbalový klub Karlovy Vary z.s. - Sokol Litoměřice 1:3
  (21\,-15\,-23\,-24)
DTSTART;TZID=Europe/Berlin:20260308T100000
DTEND;TZID=Europe/Berlin:20260308T120000
LOCATION:Hala KŘP - Karlovarského kraje Karlovy Vary\, Závodní 386/100
SUMMARY:US-Z-1: Volejbalový klub Karlovy Vary z.s.-Sokol Litoměřice
END:VEVENT
BEGIN:VEVENT
UID:34663631-3832-4466-b934-386466336431
DTSTAMP:20260422T052726Z
DESCRIPTION:22/86 Volejbalový klub Karlovy Vary z.s. - Sokol Litoměřice 1:3
  (13\,-23\,-21\,-14)
DTSTART;TZID=Europe/Berlin:20260308T140000
DTEND;TZID=Europe/Berlin:20260308T160000
LOCATION:Hala KŘP - Karlovarského kraje Karlovy Vary\, Závodní 386/100
SUMMARY:US-Z-1: Volejbalový klub Karlovy Vary z.s.-Sokol Litoměřice
END:VEVENT
BEGIN:VEVENT
UID:36613739-6166-4462-a334-646536336331
DTSTAMP:20260422T052726Z
DESCRIPTION:27/108 SKVD Ústí B - Sokol Litoměřice 0:3 (-15\,-17\,-15)
DTSTART;TZID=Europe/Berlin:20260328T100000
DTEND;TZID=Europe/Berlin:20260328T120000
LOCATION:ZŠ Stříbrnická Stříbrnická 3031\, 400 11 Ústí nad Labem
SUMMARY:US-Z-1: SKVD Ústí B-Sokol Litoměřice
END:VEVENT
BEGIN:VEVENT
UID:36356164-3861-4333-b663-643962316466
DTSTAMP:20260422T052726Z
DESCRIPTION:28/112 SKVD Ústí B - Sokol Litoměřice 0:3 (-10\,-20\,-16)
DTSTART;TZID=Europe/Berlin:20260328T140000
DTEND;TZID=Europe/Berlin:20260328T160000
LOCATION:ZŠ Stříbrnická Stříbrnická 3031\, 400 11 Ústí nad Labem
SUMMARY:US-Z-1: SKVD Ústí B-Sokol Litoměřice
END:VEVENT
END:VCALENDAR
