BEGIN:VCALENDAR
VERSION:2.0
PRODID:-//TJ Jiskra Nový Bydžov, z.s.91065//NONSGML kigkonsult.se iCalcreator 2.41.80//
CALSCALE:GREGORIAN
UID:63653337-3231-4561-b866-653430623863
BEGIN:VEVENT
UID:30363564-6139-4239-b238-363266363964
DTSTAMP:20260422T221317Z
DESCRIPTION:2/5 TJ Jiskra Nový Bydžov\, z.s. - Tělovýchovná jednota Sokol T
 řebeš\, z.s. 0:3 (-13\,-22\,-20)
DTSTART;TZID=Europe/Berlin:20250908T170000
DTEND;TZID=Europe/Berlin:20250908T190000
LOCATION:M Revoluční\, Nový Bydžov
SUMMARY:H-Z-1: TJ Jiskra Nový Bydžov\, z.s.-Tělovýchovná jednota Sokol Třeb
 eš\, z.s.
END:VEVENT
BEGIN:VEVENT
UID:38353035-3238-4332-a631-313131653235
DTSTAMP:20260422T221317Z
DESCRIPTION:5/15 TJ Jiskra Nový Bydžov\, z.s. - TJ Sokol Slezské Předměstí 
 3:1 (21\,20\,-17\,22)
DTSTART;TZID=Europe/Berlin:20250917T170000
DTEND;TZID=Europe/Berlin:20250917T190000
LOCATION:M Revoluční\, Nový Bydžov
SUMMARY:H-Z-1: TJ Jiskra Nový Bydžov\, z.s.-TJ Sokol Slezské Předměstí
END:VEVENT
BEGIN:VEVENT
UID:38333932-3764-4632-a130-396337663962
DTSTAMP:20260422T221317Z
DESCRIPTION:6/17 TJ Jiskra Nový Bydžov\, z.s. - Tělocvičná jednota Sokol Ne
 chanice 3:1 (-14\,20\,20\,13)
DTSTART;TZID=Europe/Berlin:20251002T180000
DTEND;TZID=Europe/Berlin:20251002T200000
LOCATION:M Revoluční\, Nový Bydžov
SUMMARY:H-Z-1: TJ Jiskra Nový Bydžov\, z.s.-Tělocvičná jednota Sokol Nechan
 ice
END:VEVENT
BEGIN:VEVENT
UID:39333934-3636-4366-b961-613436343066
DTSTAMP:20260422T221317Z
DESCRIPTION:8/24 TJ Jiskra Nový Bydžov\, z.s. - VK Lhota pod Libčany\, z.s.
  0:3 (-19\,-22\,-19)
DTSTART;TZID=Europe/Berlin:20250929T170000
DTEND;TZID=Europe/Berlin:20250929T190000
LOCATION:M Revoluční\, Nový Bydžov
SUMMARY:H-Z-1: TJ Jiskra Nový Bydžov\, z.s.-VK Lhota pod Libčany\, z.s.
END:VEVENT
BEGIN:VEVENT
UID:37376438-3964-4465-b635-396362336666
DTSTAMP:20260422T221317Z
DESCRIPTION:9/25 TJ Jiskra Nový Bydžov\, z.s. - VK Černilov\, z.s. 0:3 (-14
 \,-23\,-13)
DTSTART;TZID=Europe/Berlin:20251009T180000
DTEND;TZID=Europe/Berlin:20251009T200000
LOCATION:M Revoluční\, Nový Bydžov
SUMMARY:H-Z-1: TJ Jiskra Nový Bydžov\, z.s.-VK Černilov\, z.s.
END:VEVENT
BEGIN:VEVENT
UID:30613732-6464-4830-b035-363735626235
DTSTAMP:20260422T221317Z
DESCRIPTION:12/35 TJ Jiskra Nový Bydžov\, z.s. - Tělovýchovná jednota Sokol
  Třebeš\, z.s.
DTSTART;TZID=Europe/Berlin:20260511T173000
DTEND;TZID=Europe/Berlin:20260511T193000
LOCATION:M Revoluční\, Nový Bydžov
SUMMARY:H-Z-1: TJ Jiskra Nový Bydžov\, z.s.-Tělovýchovná jednota Sokol Třeb
 eš\, z.s.
END:VEVENT
BEGIN:VEVENT
UID:66326331-3264-4535-b334-646665343765
DTSTAMP:20260422T221317Z
DESCRIPTION:15/45 TJ Jiskra Nový Bydžov\, z.s. - TJ Sokol Slezské Předměstí
DTSTART;TZID=Europe/Berlin:20260520T173000
DTEND;TZID=Europe/Berlin:20260520T193000
LOCATION:M Revoluční\, Nový Bydžov
SUMMARY:H-Z-1: TJ Jiskra Nový Bydžov\, z.s.-TJ Sokol Slezské Předměstí
END:VEVENT
BEGIN:VEVENT
UID:62633132-3866-4531-b961-353137313066
DTSTAMP:20260422T221317Z
DESCRIPTION:16/47 TJ Jiskra Nový Bydžov\, z.s. - Tělocvičná jednota Sokol N
 echanice
DTSTART;TZID=Europe/Berlin:20260525T173000
DTEND;TZID=Europe/Berlin:20260525T193000
LOCATION:M Revoluční\, Nový Bydžov
SUMMARY:H-Z-1: TJ Jiskra Nový Bydžov\, z.s.-Tělocvičná jednota Sokol Nechan
 ice
END:VEVENT
BEGIN:VEVENT
UID:66613661-3561-4661-b662-343063636633
DTSTAMP:20260422T221317Z
DESCRIPTION:18/54 TJ Jiskra Nový Bydžov\, z.s. - VK Lhota pod Libčany\, z.s
 .
DTSTART;TZID=Europe/Berlin:20260601T173000
DTEND;TZID=Europe/Berlin:20260601T193000
LOCATION:M Revoluční\, Nový Bydžov
SUMMARY:H-Z-1: TJ Jiskra Nový Bydžov\, z.s.-VK Lhota pod Libčany\, z.s.
END:VEVENT
BEGIN:VEVENT
UID:65656538-3864-4263-a639-333638383233
DTSTAMP:20260422T221317Z
DESCRIPTION:19/55 TJ Jiskra Nový Bydžov\, z.s. - VK Černilov\, z.s.
DTSTART;TZID=Europe/Berlin:20260603T173000
DTEND;TZID=Europe/Berlin:20260603T193000
LOCATION:M Revoluční\, Nový Bydžov
SUMMARY:H-Z-1: TJ Jiskra Nový Bydžov\, z.s.-VK Černilov\, z.s.
END:VEVENT
BEGIN:VEVENT
UID:31623766-3439-4230-b630-393463313135
DTSTAMP:20260422T221317Z
DESCRIPTION:1/2 Tělocvičná jednota Sokol Nechanice - TJ Jiskra Nový Bydžov\
 , z.s. 3:0 (21\,23\,18)
DTSTART;TZID=Europe/Berlin:20250903T170000
DTEND;TZID=Europe/Berlin:20250903T190000
LOCATION:Tělocvičná jednota Sokol Nechanice\, Školská 348 Nechanice
SUMMARY:H-Z-1: Tělocvičná jednota Sokol Nechanice-TJ Jiskra Nový Bydžov\, z
 .s.
END:VEVENT
BEGIN:VEVENT
UID:34386539-6231-4239-a133-346232643863
DTSTAMP:20260422T221317Z
DESCRIPTION:3/9 VK Lhota pod Libčany\, z.s. - TJ Jiskra Nový Bydžov\, z.s. 
 3:0 (13\,6\,17)
DTSTART;TZID=Europe/Berlin:20250910T170000
DTEND;TZID=Europe/Berlin:20250910T190000
LOCATION:sportovní areál sokola Lhota pod Libčany Lhota pod Libčany 50
SUMMARY:H-Z-1: VK Lhota pod Libčany\, z.s.-TJ Jiskra Nový Bydžov\, z.s.
END:VEVENT
BEGIN:VEVENT
UID:35396165-6435-4336-b830-646132643034
DTSTAMP:20260422T221317Z
DESCRIPTION:4/10 VK Černilov\, z.s. - TJ Jiskra Nový Bydžov\, z.s. 3:1 (19\
 ,21\,-19\,6)
DTSTART;TZID=Europe/Berlin:20250915T170000
DTEND;TZID=Europe/Berlin:20250915T190000
LOCATION:Černilov 50343 Černilov
SUMMARY:H-Z-1: VK Černilov\, z.s.-TJ Jiskra Nový Bydžov\, z.s.
END:VEVENT
BEGIN:VEVENT
UID:65653633-3731-4938-a531-313161643637
DTSTAMP:20260422T221317Z
DESCRIPTION:7/20 Tělovýchovná jednota Sokol Třebeš\, z.s. - TJ Jiskra Nový 
 Bydžov\, z.s. 3:1 (12\,-24\,14\,16)
DTSTART;TZID=Europe/Berlin:20250924T170000
DTEND;TZID=Europe/Berlin:20250924T190000
LOCATION:Sportovní hala Třebeš\, Na Potoce 691 Hradec Králové - Třebeš
SUMMARY:H-Z-1: Tělovýchovná jednota Sokol Třebeš\, z.s.-TJ Jiskra Nový Bydž
 ov\, z.s.
END:VEVENT
BEGIN:VEVENT
UID:65613161-3638-4461-b837-393737373632
DTSTAMP:20260422T221317Z
DESCRIPTION:10/30 TJ Sokol Slezské Předměstí - TJ Jiskra Nový Bydžov\, z.s.
DTSTART;TZID=Europe/Berlin:20260504T173000
DTEND;TZID=Europe/Berlin:20260504T193000
LOCATION:Háječek Hradec Králové Slezské Předměstí Topolová 1153/2
SUMMARY:H-Z-1: TJ Sokol Slezské Předměstí-TJ Jiskra Nový Bydžov\, z.s.
END:VEVENT
BEGIN:VEVENT
UID:37616334-3333-4262-a533-303266613162
DTSTAMP:20260422T221317Z
DESCRIPTION:11/32 Tělocvičná jednota Sokol Nechanice - TJ Jiskra Nový Bydžo
 v\, z.s.
DTSTART;TZID=Europe/Berlin:20260506T173000
DTEND;TZID=Europe/Berlin:20260506T193000
LOCATION:Tělocvičná jednota Sokol Nechanice\, Školská 348 Nechanice
SUMMARY:H-Z-1: Tělocvičná jednota Sokol Nechanice-TJ Jiskra Nový Bydžov\, z
 .s.
END:VEVENT
BEGIN:VEVENT
UID:66393830-3962-4066-b931-656330356232
DTSTAMP:20260422T221317Z
DESCRIPTION:13/39 VK Lhota pod Libčany\, z.s. - TJ Jiskra Nový Bydžov\, z.s
 .
DTSTART;TZID=Europe/Berlin:20260513T173000
DTEND;TZID=Europe/Berlin:20260513T193000
LOCATION:sportovní areál sokola Lhota pod Libčany Lhota pod Libčany 50
SUMMARY:H-Z-1: VK Lhota pod Libčany\, z.s.-TJ Jiskra Nový Bydžov\, z.s.
END:VEVENT
BEGIN:VEVENT
UID:66383066-3162-4936-a136-306631333164
DTSTAMP:20260422T221317Z
DESCRIPTION:14/40 VK Černilov\, z.s. - TJ Jiskra Nový Bydžov\, z.s.
DTSTART;TZID=Europe/Berlin:20260518T173000
DTEND;TZID=Europe/Berlin:20260518T193000
LOCATION:Černilov 50343 Černilov
SUMMARY:H-Z-1: VK Černilov\, z.s.-TJ Jiskra Nový Bydžov\, z.s.
END:VEVENT
BEGIN:VEVENT
UID:62326634-3135-4638-b939-663939653235
DTSTAMP:20260422T221317Z
DESCRIPTION:17/50 Tělovýchovná jednota Sokol Třebeš\, z.s. - TJ Jiskra Nový
  Bydžov\, z.s.
DTSTART;TZID=Europe/Berlin:20260527T173000
DTEND;TZID=Europe/Berlin:20260527T193000
LOCATION:Sportovní hala Třebeš\, Na Potoce 691 Hradec Králové - Třebeš
SUMMARY:H-Z-1: Tělovýchovná jednota Sokol Třebeš\, z.s.-TJ Jiskra Nový Bydž
 ov\, z.s.
END:VEVENT
BEGIN:VEVENT
UID:61636165-3865-4039-b438-646131376264
DTSTAMP:20260422T221317Z
DESCRIPTION:20/60 TJ Sokol Slezské Předměstí - TJ Jiskra Nový Bydžov\, z.s.
DTSTART;TZID=Europe/Berlin:20260608T173000
DTEND;TZID=Europe/Berlin:20260608T193000
LOCATION:Háječek Hradec Králové Slezské Předměstí Topolová 1153/2
SUMMARY:H-Z-1: TJ Sokol Slezské Předměstí-TJ Jiskra Nový Bydžov\, z.s.
END:VEVENT
END:VCALENDAR
