BEGIN:VCALENDAR
VERSION:2.0
PRODID:-//Tělocvičná jednota Sokol Třebechovice pod Orebem91068//NONSGML kigkonsult.se iCalcreator 2.41.80//
CALSCALE:GREGORIAN
UID:34666630-3163-4134-b030-616136636432
BEGIN:VEVENT
UID:34313335-3563-4164-a561-336139346236
DTSTAMP:20260422T034535Z
DESCRIPTION:5/10 Tělocvičná jednota Sokol Třebechovice pod Orebem - TJ Jisk
 ra Hořice\, z.s. 1:3 (-20\,-20\,22\,-15)
DTSTART;TZID=Europe/Berlin:20250920T100000
DTEND;TZID=Europe/Berlin:20250920T120000
LOCATION:Sokolovna Třebechovice pod Orebem Heldovo náměstí 574\, 503 46 Tře
 bechovice pod Orebem
SUMMARY:HK-M-2: Tělocvičná jednota Sokol Třebechovice pod Orebem-TJ Jiskra 
 Hořice\, z.s.
END:VEVENT
BEGIN:VEVENT
UID:37333666-3737-4363-b236-343432623961
DTSTAMP:20260422T034535Z
DESCRIPTION:6/12 Tělocvičná jednota Sokol Třebechovice pod Orebem - TJ Jisk
 ra Hořice\, z.s. 0:3 (-8\,-18\,-13)
DTSTART;TZID=Europe/Berlin:20250920T130000
DTEND;TZID=Europe/Berlin:20250920T150000
LOCATION:Sokolovna Třebechovice pod Orebem Heldovo náměstí 574\, 503 46 Tře
 bechovice pod Orebem
SUMMARY:HK-M-2: Tělocvičná jednota Sokol Třebechovice pod Orebem-TJ Jiskra 
 Hořice\, z.s.
END:VEVENT
BEGIN:VEVENT
UID:34653136-6530-4937-a632-363534653634
DTSTAMP:20260422T034535Z
DESCRIPTION:7/14 Tělocvičná jednota Sokol Třebechovice pod Orebem - TJ Hara
 nt Pecka\, z.s. 2:3 (22\,22\,-16\,-20\,-8)
DTSTART;TZID=Europe/Berlin:20250927T100000
DTEND;TZID=Europe/Berlin:20250927T120000
LOCATION:Sokolovna Třebechovice pod Orebem Heldovo náměstí 574\, 503 46 Tře
 bechovice pod Orebem
SUMMARY:HK-M-2: Tělocvičná jednota Sokol Třebechovice pod Orebem-TJ Harant 
 Pecka\, z.s.
END:VEVENT
BEGIN:VEVENT
UID:34343561-3036-4531-b336-653637376534
DTSTAMP:20260422T034535Z
DESCRIPTION:8/16 Tělocvičná jednota Sokol Třebechovice pod Orebem - TJ Hara
 nt Pecka\, z.s. 1:3 (-24\,-18\,23\,-19)
DTSTART;TZID=Europe/Berlin:20250927T130000
DTEND;TZID=Europe/Berlin:20250927T150000
LOCATION:Sokolovna Třebechovice pod Orebem Heldovo náměstí 574\, 503 46 Tře
 bechovice pod Orebem
SUMMARY:HK-M-2: Tělocvičná jednota Sokol Třebechovice pod Orebem-TJ Harant 
 Pecka\, z.s.
END:VEVENT
BEGIN:VEVENT
UID:62376635-3338-4961-b335-326566643434
DTSTAMP:20260422T034535Z
DESCRIPTION:9/17 Tělocvičná jednota Sokol Třebechovice pod Orebem - Sokol D
 řevěniceŠebová Tereza
DTSTART;TZID=Europe/Berlin:20260523T100000
DTEND;TZID=Europe/Berlin:20260523T120000
LOCATION:Sokolovna Třebechovice pod Orebem Heldovo náměstí 574\, 503 46 Tře
 bechovice pod Orebem
SUMMARY:HK-M-2: Tělocvičná jednota Sokol Třebechovice pod Orebem-Sokol Dřev
 ěnice
END:VEVENT
BEGIN:VEVENT
UID:61653533-6663-4365-b335-356434326538
DTSTAMP:20260422T034535Z
DESCRIPTION:10/19 Tělocvičná jednota Sokol Třebechovice pod Orebem - Sokol 
 DřevěniceŠebová Tereza
DTSTART;TZID=Europe/Berlin:20260523T130000
DTEND;TZID=Europe/Berlin:20260523T150000
LOCATION:Sokolovna Třebechovice pod Orebem Heldovo náměstí 574\, 503 46 Tře
 bechovice pod Orebem
SUMMARY:HK-M-2: Tělocvičná jednota Sokol Třebechovice pod Orebem-Sokol Dřev
 ěnice
END:VEVENT
BEGIN:VEVENT
UID:32326534-6661-4139-b263-393163333364
DTSTAMP:20260422T034535Z
DESCRIPTION:17/34 Tělocvičná jednota Sokol Třebechovice pod Orebem - TJ Jis
 kra Hořice\, z.s.Šebová Tereza
DTSTART;TZID=Europe/Berlin:20260620T100000
DTEND;TZID=Europe/Berlin:20260620T120000
LOCATION:Sokolovna Třebechovice pod Orebem Heldovo náměstí 574\, 503 46 Tře
 bechovice pod Orebem
SUMMARY:HK-M-2: Tělocvičná jednota Sokol Třebechovice pod Orebem-TJ Jiskra 
 Hořice\, z.s.
END:VEVENT
BEGIN:VEVENT
UID:39313733-3366-4230-b930-383061346166
DTSTAMP:20260422T034535Z
DESCRIPTION:18/36 Tělocvičná jednota Sokol Třebechovice pod Orebem - TJ Jis
 kra Hořice\, z.s.Šebová Tereza
DTSTART;TZID=Europe/Berlin:20260620T130000
DTEND;TZID=Europe/Berlin:20260620T150000
LOCATION:Sokolovna Třebechovice pod Orebem Heldovo náměstí 574\, 503 46 Tře
 bechovice pod Orebem
SUMMARY:HK-M-2: Tělocvičná jednota Sokol Třebechovice pod Orebem-TJ Jiskra 
 Hořice\, z.s.
END:VEVENT
BEGIN:VEVENT
UID:35353339-6462-4365-a232-303833303731
DTSTAMP:20260422T034535Z
DESCRIPTION:1/2 TJ Harant Pecka\, z.s. - Tělocvičná jednota Sokol Třebechov
 ice pod Orebem 3:0 (12\,12\,12)
DTSTART;TZID=Europe/Berlin:20250906T100000
DTEND;TZID=Europe/Berlin:20250906T120000
LOCATION:Koupaliště a Kemp Pecka Pecka 60\, 50782
SUMMARY:HK-M-2: TJ Harant Pecka\, z.s.-Tělocvičná jednota Sokol Třebechovic
 e pod Orebem
END:VEVENT
BEGIN:VEVENT
UID:34353166-6464-4661-a666-386334316336
DTSTAMP:20260422T034535Z
DESCRIPTION:2/4 TJ Harant Pecka\, z.s. - Tělocvičná jednota Sokol Třebechov
 ice pod Orebem 3:0 (20\,10\,19)
DTSTART;TZID=Europe/Berlin:20250906T130000
DTEND;TZID=Europe/Berlin:20250906T150000
LOCATION:Koupaliště a Kemp Pecka Pecka 60\, 50782
SUMMARY:HK-M-2: TJ Harant Pecka\, z.s.-Tělocvičná jednota Sokol Třebechovic
 e pod Orebem
END:VEVENT
BEGIN:VEVENT
UID:35623939-6138-4035-b135-653632363634
DTSTAMP:20260422T034535Z
DESCRIPTION:3/5 Sokol Dřevěnice - Tělocvičná jednota Sokol Třebechovice pod
  Orebem 3:0 (10\,16\,15)
DTSTART;TZID=Europe/Berlin:20250913T100000
DTEND;TZID=Europe/Berlin:20250913T120000
LOCATION:Sportovní areál TJ Sokol Dřevěnice Dřevěnice 57
SUMMARY:HK-M-2: Sokol Dřevěnice-Tělocvičná jednota Sokol Třebechovice pod O
 rebem
END:VEVENT
BEGIN:VEVENT
UID:32306236-6562-4635-b732-626531613531
DTSTAMP:20260422T034535Z
DESCRIPTION:4/7 Sokol Dřevěnice - Tělocvičná jednota Sokol Třebechovice pod
  Orebem 3:0 (9\,14\,14)
DTSTART;TZID=Europe/Berlin:20250913T130000
DTEND;TZID=Europe/Berlin:20250913T150000
LOCATION:Sportovní areál TJ Sokol Dřevěnice Dřevěnice 57
SUMMARY:HK-M-2: Sokol Dřevěnice-Tělocvičná jednota Sokol Třebechovice pod O
 rebem
END:VEVENT
BEGIN:VEVENT
UID:31666663-3663-4364-b534-363939393265
DTSTAMP:20260422T034535Z
DESCRIPTION:11/22 TJ Jiskra Hořice\, z.s. - Tělocvičná jednota Sokol Třebec
 hovice pod OrebemKučera Stanislav
DTSTART;TZID=Europe/Berlin:20260530T100000
DTEND;TZID=Europe/Berlin:20260530T120000
LOCATION:Sadová ulice Erbenova 1081
SUMMARY:HK-M-2: TJ Jiskra Hořice\, z.s.-Tělocvičná jednota Sokol Třebechovi
 ce pod Orebem
END:VEVENT
BEGIN:VEVENT
UID:63366266-3561-4864-a530-343731333639
DTSTAMP:20260422T034535Z
DESCRIPTION:12/24 TJ Jiskra Hořice\, z.s. - Tělocvičná jednota Sokol Třebec
 hovice pod OrebemKučera Stanislav
DTSTART;TZID=Europe/Berlin:20260530T130000
DTEND;TZID=Europe/Berlin:20260530T150000
LOCATION:Sadová ulice Erbenova 1081
SUMMARY:HK-M-2: TJ Jiskra Hořice\, z.s.-Tělocvičná jednota Sokol Třebechovi
 ce pod Orebem
END:VEVENT
BEGIN:VEVENT
UID:64616530-3630-4135-b332-393932383336
DTSTAMP:20260422T034535Z
DESCRIPTION:13/26 TJ Harant Pecka\, z.s. - Tělocvičná jednota Sokol Třebech
 ovice pod OrebemBěhal Jiří
DTSTART;TZID=Europe/Berlin:20260606T100000
DTEND;TZID=Europe/Berlin:20260606T120000
LOCATION:Koupaliště a Kemp Pecka Pecka 60\, 50782
SUMMARY:HK-M-2: TJ Harant Pecka\, z.s.-Tělocvičná jednota Sokol Třebechovic
 e pod Orebem
END:VEVENT
BEGIN:VEVENT
UID:36356365-3137-4533-b364-613963326161
DTSTAMP:20260422T034535Z
DESCRIPTION:14/28 TJ Harant Pecka\, z.s. - Tělocvičná jednota Sokol Třebech
 ovice pod OrebemBěhal Jiří
DTSTART;TZID=Europe/Berlin:20260606T130000
DTEND;TZID=Europe/Berlin:20260606T150000
LOCATION:Koupaliště a Kemp Pecka Pecka 60\, 50782
SUMMARY:HK-M-2: TJ Harant Pecka\, z.s.-Tělocvičná jednota Sokol Třebechovic
 e pod Orebem
END:VEVENT
BEGIN:VEVENT
UID:30643433-3330-4365-b334-616264333063
DTSTAMP:20260422T034535Z
DESCRIPTION:15/29 Sokol Dřevěnice - Tělocvičná jednota Sokol Třebechovice p
 od OrebemRypl Maxmilián
DTSTART;TZID=Europe/Berlin:20260613T100000
DTEND;TZID=Europe/Berlin:20260613T120000
LOCATION:Sportovní areál TJ Sokol Dřevěnice Dřevěnice 57
SUMMARY:HK-M-2: Sokol Dřevěnice-Tělocvičná jednota Sokol Třebechovice pod O
 rebem
END:VEVENT
BEGIN:VEVENT
UID:62386561-3133-4565-a337-643731613661
DTSTAMP:20260422T034535Z
DESCRIPTION:16/31 Sokol Dřevěnice - Tělocvičná jednota Sokol Třebechovice p
 od OrebemRypl Maxmilián
DTSTART;TZID=Europe/Berlin:20260613T130000
DTEND;TZID=Europe/Berlin:20260613T150000
LOCATION:Sportovní areál TJ Sokol Dřevěnice Dřevěnice 57
SUMMARY:HK-M-2: Sokol Dřevěnice-Tělocvičná jednota Sokol Třebechovice pod O
 rebem
END:VEVENT
END:VCALENDAR
