BEGIN:VCALENDAR
VERSION:2.0
PRODID:-//Orel jednota Studenec91074//NONSGML kigkonsult.se iCalcreator 2.41.80//
CALSCALE:GREGORIAN
UID:34373032-3766-4361-b631-313136393339
BEGIN:VEVENT
UID:61663539-3038-4665-b838-663061336364
DTSTAMP:20260421T183713Z
DESCRIPTION:3/8 Orel jednota Studenec - TJ Sokol Pouchov 1:3 (15\,-17\,-21\
 ,-18)
DTSTART;TZID=Europe/Berlin:20251018T100000
DTEND;TZID=Europe/Berlin:20251018T120000
LOCATION:Sokolovna Studenec\,  Studenec59
SUMMARY:HK-Z-1A: Orel jednota Studenec-TJ Sokol Pouchov
END:VEVENT
BEGIN:VEVENT
UID:39346334-3730-4735-b935-376430323837
DTSTAMP:20260421T183713Z
DESCRIPTION:4/11 Orel jednota Studenec - TJ Sokol Pouchov 1:3 (22\,-19\,-18
 \,-22)
DTSTART;TZID=Europe/Berlin:20251018T130000
DTEND;TZID=Europe/Berlin:20251018T150000
LOCATION:Sokolovna Studenec\,  Studenec59
SUMMARY:HK-Z-1A: Orel jednota Studenec-TJ Sokol Pouchov
END:VEVENT
BEGIN:VEVENT
UID:61653331-6364-4962-b765-333034656262
DTSTAMP:20260421T183713Z
DESCRIPTION:9/27 Orel jednota Studenec - Rychnov n. K. 0:3 (-17\,-18\,-16)
DTSTART;TZID=Europe/Berlin:20251122T100000
DTEND;TZID=Europe/Berlin:20251122T120000
LOCATION:Sokolovna Studenec\,  Studenec59
SUMMARY:HK-Z-1A: Orel jednota Studenec-Rychnov n. K.
END:VEVENT
BEGIN:VEVENT
UID:30666238-3833-4239-b534-333431306235
DTSTAMP:20260421T183713Z
DESCRIPTION:10/30 Orel jednota Studenec - Rychnov n. K. 0:3 (-15\,-20\,-18)
DTSTART;TZID=Europe/Berlin:20251122T130000
DTEND;TZID=Europe/Berlin:20251122T150000
LOCATION:Sokolovna Studenec\,  Studenec59
SUMMARY:HK-Z-1A: Orel jednota Studenec-Rychnov n. K.
END:VEVENT
BEGIN:VEVENT
UID:35333662-3733-4735-b137-613632326439
DTSTAMP:20260421T183713Z
DESCRIPTION:11/32 Orel jednota Studenec - Volejbal Červený Kostelec 0:3 (-1
 6\,-23\,-21)
DTSTART;TZID=Europe/Berlin:20251129T100000
DTEND;TZID=Europe/Berlin:20251129T120000
LOCATION:Sokolovna Studenec\,  Studenec59
SUMMARY:HK-Z-1A: Orel jednota Studenec-Volejbal Červený Kostelec
END:VEVENT
BEGIN:VEVENT
UID:64613331-3334-4932-b939-643937306463
DTSTAMP:20260421T183713Z
DESCRIPTION:12/35 Orel jednota Studenec - Volejbal Červený Kostelec 1:3 (-2
 0\,-19\,17\,-19)
DTSTART;TZID=Europe/Berlin:20251129T130000
DTEND;TZID=Europe/Berlin:20251129T150000
LOCATION:Sokolovna Studenec\,  Studenec59
SUMMARY:HK-Z-1A: Orel jednota Studenec-Volejbal Červený Kostelec
END:VEVENT
BEGIN:VEVENT
UID:39333437-3337-4239-b235-656135363264
DTSTAMP:20260421T183713Z
DESCRIPTION:15/45 Orel jednota Studenec - TJ Slavia Hradec Králové\, z.s. C
  3:1 (18\,20\,-25\,20)
DTSTART;TZID=Europe/Berlin:20251213T100000
DTEND;TZID=Europe/Berlin:20251213T120000
LOCATION:Sokolovna Studenec\,  Studenec59
SUMMARY:HK-Z-1A: Orel jednota Studenec-TJ Slavia Hradec Králové\, z.s. C
END:VEVENT
BEGIN:VEVENT
UID:35336364-3437-4832-b731-363363626136
DTSTAMP:20260421T183713Z
DESCRIPTION:16/48 Orel jednota Studenec - TJ Slavia Hradec Králové\, z.s. C
  1:3 (-19\,-18\,21\,-18)
DTSTART;TZID=Europe/Berlin:20251213T130000
DTEND;TZID=Europe/Berlin:20251213T150000
LOCATION:Sokolovna Studenec\,  Studenec59
SUMMARY:HK-Z-1A: Orel jednota Studenec-TJ Slavia Hradec Králové\, z.s. C
END:VEVENT
BEGIN:VEVENT
UID:30353537-3838-4534-b331-363835633334
DTSTAMP:20260421T183713Z
DESCRIPTION:17/49 Orel jednota Studenec - VK DK 3:2 (-20\,20\,23\,-24\,8)
DTSTART;TZID=Europe/Berlin:20260110T100000
DTEND;TZID=Europe/Berlin:20260110T120000
LOCATION:Sokolovna Studenec\,  Studenec59
SUMMARY:HK-Z-1A: Orel jednota Studenec-VK DK
END:VEVENT
BEGIN:VEVENT
UID:64396537-3138-4161-b465-626463336439
DTSTAMP:20260421T183713Z
DESCRIPTION:18/52 Orel jednota Studenec - VK DK 3:1 (15\,16\,-22\,24)
DTSTART;TZID=Europe/Berlin:20260110T130000
DTEND;TZID=Europe/Berlin:20260110T150000
LOCATION:Sokolovna Studenec\,  Studenec59
SUMMARY:HK-Z-1A: Orel jednota Studenec-VK DK
END:VEVENT
BEGIN:VEVENT
UID:31663833-3630-4163-b263-383632313638
DTSTAMP:20260421T183713Z
DESCRIPTION:1/2 Volejbal Červený Kostelec - Orel jednota Studenec 3:0 (12\,
 18\,18)
DTSTART;TZID=Europe/Berlin:20251011T090000
DTEND;TZID=Europe/Berlin:20251011T110000
LOCATION:Sportovní hala\, Palackého 1234 Červený Kostelec
SUMMARY:HK-Z-1A: Volejbal Červený Kostelec-Orel jednota Studenec
END:VEVENT
BEGIN:VEVENT
UID:32376264-3861-4631-a362-666238656635
DTSTAMP:20260421T183713Z
DESCRIPTION:2/5 Volejbal Červený Kostelec - Orel jednota Studenec 3:0 (16\,
 18\,19)
DTSTART;TZID=Europe/Berlin:20251011T130000
DTEND;TZID=Europe/Berlin:20251011T150000
LOCATION:Sportovní hala\, Palackého 1234 Červený Kostelec
SUMMARY:HK-Z-1A: Volejbal Červený Kostelec-Orel jednota Studenec
END:VEVENT
BEGIN:VEVENT
UID:33333934-3265-4238-b563-613265646335
DTSTAMP:20260421T183713Z
DESCRIPTION:5/15 TJ Slavia Hradec Králové\, z.s. C - Orel jednota Studenec 
 3:2 (-17\,-21\,18\,21\,14)
DTSTART;TZID=Europe/Berlin:20251101T100000
DTEND;TZID=Europe/Berlin:20251101T120000
LOCATION:Tělocvična ZŠ Jiráskovo náměstí - Hradec Králové\, Jiráskovo náměs
 tí 1166 Hradec Králové - Pražské Předměstí
SUMMARY:HK-Z-1A: TJ Slavia Hradec Králové\, z.s. C-Orel jednota Studenec
END:VEVENT
BEGIN:VEVENT
UID:36323031-3531-4164-b135-623837363066
DTSTAMP:20260421T183713Z
DESCRIPTION:6/18 TJ Slavia Hradec Králové\, z.s. C - Orel jednota Studenec 
 3:2 (-19\,20\,-23\,17\,7)
DTSTART;TZID=Europe/Berlin:20251101T130000
DTEND;TZID=Europe/Berlin:20251101T150000
LOCATION:Tělocvična ZŠ Jiráskovo náměstí - Hradec Králové\, Jiráskovo náměs
 tí 1166 Hradec Králové - Pražské Předměstí
SUMMARY:HK-Z-1A: TJ Slavia Hradec Králové\, z.s. C-Orel jednota Studenec
END:VEVENT
BEGIN:VEVENT
UID:34363438-6533-4236-a237-373431343935
DTSTAMP:20260421T183713Z
DESCRIPTION:7/19 VK DK - Orel jednota Studenec 1:3 (-21\,14\,-17\,-19)
DTSTART;TZID=Europe/Berlin:20251108T090000
DTEND;TZID=Europe/Berlin:20251108T110000
LOCATION:Hala SŠIS\, nábřeží Jiřího Wolkera 133\, nábřeží Jiřího Wolkera 13
 3 Dvůr Králové nad Labem
SUMMARY:HK-Z-1A: VK DK-Orel jednota Studenec
END:VEVENT
BEGIN:VEVENT
UID:66306362-3733-4332-b266-333866353234
DTSTAMP:20260421T183713Z
DESCRIPTION:8/22 VK DK - Orel jednota Studenec 3:1 (-20\,13\,20\,11)
DTSTART;TZID=Europe/Berlin:20251108T130000
DTEND;TZID=Europe/Berlin:20251108T150000
LOCATION:Hala SŠIS\, nábřeží Jiřího Wolkera 133\, nábřeží Jiřího Wolkera 13
 3 Dvůr Králové nad Labem
SUMMARY:HK-Z-1A: VK DK-Orel jednota Studenec
END:VEVENT
BEGIN:VEVENT
UID:64653635-3833-4265-a639-343238393963
DTSTAMP:20260421T183713Z
DESCRIPTION:13/38 TJ Sokol Pouchov - Orel jednota Studenec 3:1 (18\,-24\,19
 \,20)
DTSTART;TZID=Europe/Berlin:20251207T100000
DTEND;TZID=Europe/Berlin:20251207T120000
LOCATION:Hala Pouchov\, K Sokolovně 544 Hradec Králové - Pouchov
SUMMARY:HK-Z-1A: TJ Sokol Pouchov-Orel jednota Studenec
END:VEVENT
BEGIN:VEVENT
UID:35393537-3630-4361-b234-373966653062
DTSTAMP:20260421T183713Z
DESCRIPTION:14/41 TJ Sokol Pouchov - Orel jednota Studenec 3:0 (13\,13\,22)
DTSTART;TZID=Europe/Berlin:20251207T130000
DTEND;TZID=Europe/Berlin:20251207T150000
LOCATION:Hala Pouchov\, K Sokolovně 544 Hradec Králové - Pouchov
SUMMARY:HK-Z-1A: TJ Sokol Pouchov-Orel jednota Studenec
END:VEVENT
BEGIN:VEVENT
UID:61333064-6339-4163-b665-366630666133
DTSTAMP:20260421T183713Z
DESCRIPTION:19/57 Rychnov n. K. - Orel jednota Studenec 3:0 (21\,11\,12)
DTSTART;TZID=Europe/Berlin:20260117T100000
DTEND;TZID=Europe/Berlin:20260117T120000
LOCATION:Sportovní hala R.Šebrleho\, Hrdinů odboje 36 Rychnov nad Kněžnou
SUMMARY:HK-Z-1A: Rychnov n. K.-Orel jednota Studenec
END:VEVENT
BEGIN:VEVENT
UID:65363334-3234-4832-b264-623836633965
DTSTAMP:20260421T183713Z
DESCRIPTION:20/60 Rychnov n. K. - Orel jednota Studenec 3:0 (15\,14\,14)
DTSTART;TZID=Europe/Berlin:20260117T130000
DTEND;TZID=Europe/Berlin:20260117T150000
LOCATION:Sportovní hala R.Šebrleho\, Hrdinů odboje 36 Rychnov nad Kněžnou
SUMMARY:HK-Z-1A: Rychnov n. K.-Orel jednota Studenec
END:VEVENT
BEGIN:VEVENT
UID:38326532-3464-4736-a630-373639613237
DTSTAMP:20260421T183713Z
DESCRIPTION:1/2 Orel jednota Studenec - VK AŠ Kvasiny\, z.s. 3:0 (16\,14\,2
 2)
DTSTART;TZID=Europe/Berlin:20260131T100000
DTEND;TZID=Europe/Berlin:20260131T120000
LOCATION:Sokolovna Studenec\,  Studenec59
SUMMARY:HK-Z-1-II: Orel jednota Studenec-VK AŠ Kvasiny\, z.s.
END:VEVENT
BEGIN:VEVENT
UID:62663464-3635-4133-a630-386230366233
DTSTAMP:20260421T183713Z
DESCRIPTION:2/5 Orel jednota Studenec - VK AŠ Kvasiny\, z.s. 3:0 (18\,23\,6
 )
DTSTART;TZID=Europe/Berlin:20260131T130000
DTEND;TZID=Europe/Berlin:20260131T150000
LOCATION:Sokolovna Studenec\,  Studenec59
SUMMARY:HK-Z-1-II: Orel jednota Studenec-VK AŠ Kvasiny\, z.s.
END:VEVENT
BEGIN:VEVENT
UID:63363063-6163-4738-a564-313062383639
DTSTAMP:20260421T183713Z
DESCRIPTION:5/14 Orel jednota Studenec - Volejbalový klub Hronov\, z.s. B 3
 :0 (15\,9\,21)
DTSTART;TZID=Europe/Berlin:20260208T100000
DTEND;TZID=Europe/Berlin:20260208T120000
LOCATION:Sokolovna Studenec\,  Studenec59
SUMMARY:HK-Z-1-II: Orel jednota Studenec-Volejbalový klub Hronov\, z.s. B
END:VEVENT
BEGIN:VEVENT
UID:38346538-3466-4737-b464-316538343863
DTSTAMP:20260421T183713Z
DESCRIPTION:6/17 Orel jednota Studenec - Volejbalový klub Hronov\, z.s. B 3
 :0 (22\,21\,17)
DTSTART;TZID=Europe/Berlin:20260208T130000
DTEND;TZID=Europe/Berlin:20260208T150000
LOCATION:Sokolovna Studenec\,  Studenec59
SUMMARY:HK-Z-1-II: Orel jednota Studenec-Volejbalový klub Hronov\, z.s. B
END:VEVENT
BEGIN:VEVENT
UID:31643866-3130-4364-a664-616165303031
DTSTAMP:20260421T183713Z
DESCRIPTION:9/26 Orel jednota Studenec - TJ LOKOMOTIVA TRUTNOV\, z.s. 3:0 (
 14\,16\,17)
DTSTART;TZID=Europe/Berlin:20260314T093000
DTEND;TZID=Europe/Berlin:20260314T113000
LOCATION:Sokolovna Studenec\,  Studenec59
SUMMARY:HK-Z-1-II: Orel jednota Studenec-TJ LOKOMOTIVA TRUTNOV\, z.s.
END:VEVENT
BEGIN:VEVENT
UID:32303737-6438-4838-a330-363139326539
DTSTAMP:20260421T183713Z
DESCRIPTION:10/29 Orel jednota Studenec - TJ LOKOMOTIVA TRUTNOV\, z.s. 3:0 
 (23\,18\,23)
DTSTART;TZID=Europe/Berlin:20260314T120000
DTEND;TZID=Europe/Berlin:20260314T140000
LOCATION:Sokolovna Studenec\,  Studenec59
SUMMARY:HK-Z-1-II: Orel jednota Studenec-TJ LOKOMOTIVA TRUTNOV\, z.s.
END:VEVENT
BEGIN:VEVENT
UID:65636662-3738-4063-a333-396566376562
DTSTAMP:20260421T183713Z
DESCRIPTION:3/8 TJ LOKOMOTIVA TRUTNOV\, z.s. - Orel jednota Studenec 0:3 (-
 20\,-18\,-24)
DTSTART;TZID=Europe/Berlin:20260221T103000
DTEND;TZID=Europe/Berlin:20260221T123000
LOCATION:Základní škola. Trutnov\, V Domcích 488\, V Domcích 488 Trutnov - 
 Horní Předměstí
SUMMARY:HK-Z-1-II: TJ LOKOMOTIVA TRUTNOV\, z.s.-Orel jednota Studenec
END:VEVENT
BEGIN:VEVENT
UID:35346166-6261-4332-a263-616134663161
DTSTAMP:20260421T183713Z
DESCRIPTION:4/11 TJ LOKOMOTIVA TRUTNOV\, z.s. - Orel jednota Studenec 1:3 (
 21\,-21\,-11\,-24)
DTSTART;TZID=Europe/Berlin:20260221T130000
DTEND;TZID=Europe/Berlin:20260221T150000
LOCATION:Základní škola. Trutnov\, V Domcích 488\, V Domcích 488 Trutnov - 
 Horní Předměstí
SUMMARY:HK-Z-1-II: TJ LOKOMOTIVA TRUTNOV\, z.s.-Orel jednota Studenec
END:VEVENT
BEGIN:VEVENT
UID:65303462-3830-4934-b161-346136653233
DTSTAMP:20260421T183713Z
DESCRIPTION:7/20 VK AŠ Kvasiny\, z.s. - Orel jednota Studenec 0:3 (-13\,-13
 \,-20)
DTSTART;TZID=Europe/Berlin:20260307T100000
DTEND;TZID=Europe/Berlin:20260307T120000
LOCATION:Tělocvična ZŠ Kvasiny\,  Kvasiny142
SUMMARY:HK-Z-1-II: VK AŠ Kvasiny\, z.s.-Orel jednota Studenec
END:VEVENT
BEGIN:VEVENT
UID:62333465-3837-4536-b636-323263633833
DTSTAMP:20260421T183713Z
DESCRIPTION:8/23 VK AŠ Kvasiny\, z.s. - Orel jednota Studenec 1:3 (-11\,23\
 ,-24\,-16)
DTSTART;TZID=Europe/Berlin:20260307T130000
DTEND;TZID=Europe/Berlin:20260307T150000
LOCATION:Tělocvična ZŠ Kvasiny\,  Kvasiny142
SUMMARY:HK-Z-1-II: VK AŠ Kvasiny\, z.s.-Orel jednota Studenec
END:VEVENT
BEGIN:VEVENT
UID:64363337-6431-4437-b065-626231616530
DTSTAMP:20260421T183713Z
DESCRIPTION:11/32 Volejbalový klub Hronov\, z.s. B - Orel jednota Studenec 
 3:2 (19\,-21\,-10\,18\,13)
DTSTART;TZID=Europe/Berlin:20260321T100000
DTEND;TZID=Europe/Berlin:20260321T120000
LOCATION:Tělocvična ZŠ Velký Dřevíč\,  Hronov - Velký Dřevíč82
SUMMARY:HK-Z-1-II: Volejbalový klub Hronov\, z.s. B-Orel jednota Studenec
END:VEVENT
BEGIN:VEVENT
UID:31663638-6663-4539-b466-346538346238
DTSTAMP:20260421T183713Z
DESCRIPTION:12/35 Volejbalový klub Hronov\, z.s. B - Orel jednota Studenec 
 0:3 (-19\,-23\,-23)
DTSTART;TZID=Europe/Berlin:20260321T130000
DTEND;TZID=Europe/Berlin:20260321T150000
LOCATION:Tělocvična ZŠ Velký Dřevíč\,  Hronov - Velký Dřevíč82
SUMMARY:HK-Z-1-II: Volejbalový klub Hronov\, z.s. B-Orel jednota Studenec
END:VEVENT
END:VCALENDAR
