BEGIN:VCALENDAR
VERSION:2.0
PRODID:-//TJ Sokol Stěžery, z.s.91088//NONSGML kigkonsult.se iCalcreator 2.41.80//
CALSCALE:GREGORIAN
UID:30376232-6339-4566-a436-313332646438
BEGIN:VEVENT
UID:33346266-3037-4965-b832-383732623739
DTSTAMP:20260422T001304Z
DESCRIPTION:1/3 TJ Sokol Stěžery\, z.s. - Tělovýchovná jednota SOKOL Plotiš
 tě nad Labem\, z.s. 3:1 (13\,-24\,8\,22)
DTSTART;TZID=Europe/Berlin:20250827T173000
DTEND;TZID=Europe/Berlin:20250827T193000
LOCATION:TJ Sokol Stěžery Zámecká 28\, 503 21 Stěžery
SUMMARY:HK-Z-2B: TJ Sokol Stěžery\, z.s.-Tělovýchovná jednota SOKOL Plotišt
 ě nad Labem\, z.s.
END:VEVENT
BEGIN:VEVENT
UID:37663063-3764-4331-a138-646339376530
DTSTAMP:20260422T001304Z
DESCRIPTION:2/6 TJ Sokol Stěžery\, z.s. - Tělovýchovná jednota SOKOL Plotiš
 tě nad Labem\, z.s. 3:0 (22\,21\,21)
DTSTART;TZID=Europe/Berlin:20250903T173000
DTEND;TZID=Europe/Berlin:20250903T193000
LOCATION:TJ Sokol Stěžery Zámecká 28\, 503 21 Stěžery
SUMMARY:HK-Z-2B: TJ Sokol Stěžery\, z.s.-Tělovýchovná jednota SOKOL Plotišt
 ě nad Labem\, z.s.
END:VEVENT
BEGIN:VEVENT
UID:34643235-3234-4766-b434-353137346634
DTSTAMP:20260422T001304Z
DESCRIPTION:5/14 TJ Sokol Stěžery\, z.s. - Tělocvičná jednota Sokol Chlumec
  nad Cidlinou A 1:3 (-8\,-15\,15\,-22)
DTSTART;TZID=Europe/Berlin:20250920T100000
DTEND;TZID=Europe/Berlin:20250920T120000
LOCATION:TJ Sokol Stěžery Zámecká 28\, 503 21 Stěžery
SUMMARY:HK-Z-2B: TJ Sokol Stěžery\, z.s.-Tělocvičná jednota Sokol Chlumec n
 ad Cidlinou A
END:VEVENT
BEGIN:VEVENT
UID:32343366-3965-4532-a438-343362393832
DTSTAMP:20260422T001304Z
DESCRIPTION:6/17 TJ Sokol Stěžery\, z.s. - Tělocvičná jednota Sokol Chlumec
  nad Cidlinou A 1:3 (-25\,22\,-19\,-18)
DTSTART;TZID=Europe/Berlin:20250920T130000
DTEND;TZID=Europe/Berlin:20250920T150000
LOCATION:TJ Sokol Stěžery Zámecká 28\, 503 21 Stěžery
SUMMARY:HK-Z-2B: TJ Sokol Stěžery\, z.s.-Tělocvičná jednota Sokol Chlumec n
 ad Cidlinou A
END:VEVENT
BEGIN:VEVENT
UID:31303164-6165-4363-a339-626432316334
DTSTAMP:20260422T001304Z
DESCRIPTION:13/38 TJ Sokol Stěžery\, z.s. - TJ Sokol Smiřice\, z.s.Havel Ma
 těj
DTSTART;TZID=Europe/Berlin:20260523T100000
DTEND;TZID=Europe/Berlin:20260523T120000
LOCATION:TJ Sokol Stěžery Zámecká 28\, 503 21 Stěžery
SUMMARY:HK-Z-2B: TJ Sokol Stěžery\, z.s.-TJ Sokol Smiřice\, z.s.
END:VEVENT
BEGIN:VEVENT
UID:30346531-6362-4063-b063-316564376364
DTSTAMP:20260422T001304Z
DESCRIPTION:14/41 TJ Sokol Stěžery\, z.s. - TJ Sokol Smiřice\, z.s.Havel Ma
 těj
DTSTART;TZID=Europe/Berlin:20260523T130000
DTEND;TZID=Europe/Berlin:20260523T150000
LOCATION:TJ Sokol Stěžery Zámecká 28\, 503 21 Stěžery
SUMMARY:HK-Z-2B: TJ Sokol Stěžery\, z.s.-TJ Sokol Smiřice\, z.s.
END:VEVENT
BEGIN:VEVENT
UID:38383566-3164-4666-a462-623432326461
DTSTAMP:20260422T001304Z
DESCRIPTION:17/51 TJ Sokol Stěžery\, z.s. - Dělnická tělovýchovná jednota H
 radec Králové\, z.s.Jirka Zdeněk
DTSTART;TZID=Europe/Berlin:20260606T100000
DTEND;TZID=Europe/Berlin:20260606T120000
LOCATION:TJ Sokol Stěžery Zámecká 28\, 503 21 Stěžery
SUMMARY:HK-Z-2B: TJ Sokol Stěžery\, z.s.-Dělnická tělovýchovná jednota Hrad
 ec Králové\, z.s.
END:VEVENT
BEGIN:VEVENT
UID:39366332-3439-4535-b136-383465633639
DTSTAMP:20260422T001304Z
DESCRIPTION:18/54 TJ Sokol Stěžery\, z.s. - Dělnická tělovýchovná jednota H
 radec Králové\, z.s.Jirka Zdeněk
DTSTART;TZID=Europe/Berlin:20260606T130000
DTEND;TZID=Europe/Berlin:20260606T150000
LOCATION:TJ Sokol Stěžery Zámecká 28\, 503 21 Stěžery
SUMMARY:HK-Z-2B: TJ Sokol Stěžery\, z.s.-Dělnická tělovýchovná jednota Hrad
 ec Králové\, z.s.
END:VEVENT
BEGIN:VEVENT
UID:31343433-3263-4330-b934-633733636332
DTSTAMP:20260422T001304Z
DESCRIPTION:3/8 TJ Sokol Smiřice\, z.s. - TJ Sokol Stěžery\, z.s. 3:0 (13\,
 23\,20)
DTSTART;TZID=Europe/Berlin:20250913T100000
DTEND;TZID=Europe/Berlin:20250913T120000
LOCATION:U Stadionu 634\, 50303 Smiřice ZŠ Smiřice\, Jiráskova 206\, 503 03
  Smiřice
SUMMARY:HK-Z-2B: TJ Sokol Smiřice\, z.s.-TJ Sokol Stěžery\, z.s.
END:VEVENT
BEGIN:VEVENT
UID:34393134-3236-4964-a366-356262366534
DTSTAMP:20260422T001304Z
DESCRIPTION:4/11 TJ Sokol Smiřice\, z.s. - TJ Sokol Stěžery\, z.s. 1:3 (20\
 ,-14\,-20\,-22)
DTSTART;TZID=Europe/Berlin:20250913T130000
DTEND;TZID=Europe/Berlin:20250913T150000
LOCATION:U Stadionu 634\, 50303 Smiřice ZŠ Smiřice\, Jiráskova 206\, 503 03
  Smiřice
SUMMARY:HK-Z-2B: TJ Sokol Smiřice\, z.s.-TJ Sokol Stěžery\, z.s.
END:VEVENT
BEGIN:VEVENT
UID:61643032-6431-4635-b631-323837343831
DTSTAMP:20260422T001304Z
DESCRIPTION:7/21 Dělnická tělovýchovná jednota Hradec Králové\, z.s. - TJ S
 okol Stěžery\, z.s. 3:2 (16\,16\,-14\,-18\,6)
DTSTART;TZID=Europe/Berlin:20251011T090000
DTEND;TZID=Europe/Berlin:20251011T110000
LOCATION:kurty DTJ\, U Labe 427/1\, 500 02 Hradec Králové U Labe 427/1\, 50
 0 02 Hradec Králové
SUMMARY:HK-Z-2B: Dělnická tělovýchovná jednota Hradec Králové\, z.s.-TJ Sok
 ol Stěžery\, z.s.
END:VEVENT
BEGIN:VEVENT
UID:61313465-6233-4861-b231-383030383365
DTSTAMP:20260422T001304Z
DESCRIPTION:8/24 Dělnická tělovýchovná jednota Hradec Králové\, z.s. - TJ S
 okol Stěžery\, z.s. 3:1 (22\,11\,-24\,18)
DTSTART;TZID=Europe/Berlin:20251011T113000
DTEND;TZID=Europe/Berlin:20251011T133000
LOCATION:kurty DTJ\, U Labe 427/1\, 500 02 Hradec Králové U Labe 427/1\, 50
 0 02 Hradec Králové
SUMMARY:HK-Z-2B: Dělnická tělovýchovná jednota Hradec Králové\, z.s.-TJ Sok
 ol Stěžery\, z.s.
END:VEVENT
BEGIN:VEVENT
UID:35323238-6639-4136-b031-303432646336
DTSTAMP:20260422T001304Z
DESCRIPTION:11/33 Tělovýchovná jednota SOKOL Plotiště nad Labem\, z.s. - TJ
  Sokol Stěžery\, z.s.Kovalíček Petr
DTSTART;TZID=Europe/Berlin:20260516T100000
DTEND;TZID=Europe/Berlin:20260516T120000
LOCATION:TK Gruba Hradec Králové Odlehlá 1594\,HK 2\,500 02
SUMMARY:HK-Z-2B: Tělovýchovná jednota SOKOL Plotiště nad Labem\, z.s.-TJ So
 kol Stěžery\, z.s.
END:VEVENT
BEGIN:VEVENT
UID:35373531-3464-4431-a435-376566323161
DTSTAMP:20260422T001304Z
DESCRIPTION:12/36 Tělovýchovná jednota SOKOL Plotiště nad Labem\, z.s. - TJ
  Sokol Stěžery\, z.s.Kovalíček Petr
DTSTART;TZID=Europe/Berlin:20260516T130000
DTEND;TZID=Europe/Berlin:20260516T150000
LOCATION:TK Gruba Hradec Králové Odlehlá 1594\,HK 2\,500 02
SUMMARY:HK-Z-2B: Tělovýchovná jednota SOKOL Plotiště nad Labem\, z.s.-TJ So
 kol Stěžery\, z.s.
END:VEVENT
BEGIN:VEVENT
UID:62393761-3038-4938-a164-663935633061
DTSTAMP:20260422T001304Z
DESCRIPTION:15/44 Tělocvičná jednota Sokol Chlumec nad Cidlinou A - TJ Soko
 l Stěžery\, z.s.Mrkvičková Marie
DTSTART;TZID=Europe/Berlin:20260530T100000
DTEND;TZID=Europe/Berlin:20260530T120000
LOCATION:Slavíčkova hala/sportovní areál pod sokolovnou Sokolská 759\, 5035
 1 Chlumec nad Cidlinou/Kozelkova 26/IV\, 50351 Chlumec nad Cidlinou
SUMMARY:HK-Z-2B: Tělocvičná jednota Sokol Chlumec nad Cidlinou A-TJ Sokol S
 těžery\, z.s.
END:VEVENT
BEGIN:VEVENT
UID:34386661-6466-4963-b538-316333303034
DTSTAMP:20260422T001304Z
DESCRIPTION:16/47 Tělocvičná jednota Sokol Chlumec nad Cidlinou A - TJ Soko
 l Stěžery\, z.s.Mrkvičková Marie
DTSTART;TZID=Europe/Berlin:20260530T130000
DTEND;TZID=Europe/Berlin:20260530T150000
LOCATION:Slavíčkova hala/sportovní areál pod sokolovnou Sokolská 759\, 5035
 1 Chlumec nad Cidlinou/Kozelkova 26/IV\, 50351 Chlumec nad Cidlinou
SUMMARY:HK-Z-2B: Tělocvičná jednota Sokol Chlumec nad Cidlinou A-TJ Sokol S
 těžery\, z.s.
END:VEVENT
END:VCALENDAR
