BEGIN:VCALENDAR
VERSION:2.0
PRODID:-//Tělovýchovná jednota SOKOL Plotiště nad Labem, z.s.91089//NONSGML kigkonsult.se iCalcreator 2.41.80//
CALSCALE:GREGORIAN
UID:31323231-3431-4639-a232-333032396239
BEGIN:VEVENT
UID:38383434-3632-4565-b464-373533346537
DTSTAMP:20260422T001306Z
DESCRIPTION:5/15 Tělovýchovná jednota SOKOL Plotiště nad Labem\, z.s. - TJ 
 Sokol Smiřice\, z.s. 1:3 (-18\,20\,-21\,-17)\nhřiště ve Smiřicích
DTSTART;TZID=Europe/Berlin:20250910T173000
DTEND;TZID=Europe/Berlin:20250910T193000
LOCATION:TK Gruba Hradec Králové Odlehlá 1594\,HK 2\,500 02
SUMMARY:HK-Z-2B: Tělovýchovná jednota SOKOL Plotiště nad Labem\, z.s.-TJ So
 kol Smiřice\, z.s.
END:VEVENT
BEGIN:VEVENT
UID:61623865-3934-4666-a566-306633383230
DTSTAMP:20260422T001306Z
DESCRIPTION:6/18 Tělovýchovná jednota SOKOL Plotiště nad Labem\, z.s. - TJ 
 Sokol Smiřice\, z.s. 3:1 (20\,-15\,21\,22)\nhřiště ve Smiřicích
DTSTART;TZID=Europe/Berlin:20250917T173000
DTEND;TZID=Europe/Berlin:20250917T193000
LOCATION:TK Gruba Hradec Králové Odlehlá 1594\,HK 2\,500 02
SUMMARY:HK-Z-2B: Tělovýchovná jednota SOKOL Plotiště nad Labem\, z.s.-TJ So
 kol Smiřice\, z.s.
END:VEVENT
BEGIN:VEVENT
UID:32326534-3732-4730-b265-623764323565
DTSTAMP:20260422T001306Z
DESCRIPTION:9/26 Tělovýchovná jednota SOKOL Plotiště nad Labem\, z.s. - Děl
 nická tělovýchovná jednota Hradec Králové\, z.s. 0:3 (-27\,-10\,-15)
DTSTART;TZID=Europe/Berlin:20251004T083000
DTEND;TZID=Europe/Berlin:20251004T103000
LOCATION:TK Gruba Hradec Králové Odlehlá 1594\,HK 2\,500 02
SUMMARY:HK-Z-2B: Tělovýchovná jednota SOKOL Plotiště nad Labem\, z.s.-Dělni
 cká tělovýchovná jednota Hradec Králové\, z.s.
END:VEVENT
BEGIN:VEVENT
UID:36383338-3363-4935-a339-633438363730
DTSTAMP:20260422T001306Z
DESCRIPTION:10/29 Tělovýchovná jednota SOKOL Plotiště nad Labem\, z.s. - Dě
 lnická tělovýchovná jednota Hradec Králové\, z.s. 3:1 (-14\,22\,19\,19)
DTSTART;TZID=Europe/Berlin:20251004T103000
DTEND;TZID=Europe/Berlin:20251004T123000
LOCATION:TK Gruba Hradec Králové Odlehlá 1594\,HK 2\,500 02
SUMMARY:HK-Z-2B: Tělovýchovná jednota SOKOL Plotiště nad Labem\, z.s.-Dělni
 cká tělovýchovná jednota Hradec Králové\, z.s.
END:VEVENT
BEGIN:VEVENT
UID:31646237-3264-4563-b634-643237616162
DTSTAMP:20260422T001306Z
DESCRIPTION:11/33 Tělovýchovná jednota SOKOL Plotiště nad Labem\, z.s. - TJ
  Sokol Stěžery\, z.s.Kovalíček Petr
DTSTART;TZID=Europe/Berlin:20260516T100000
DTEND;TZID=Europe/Berlin:20260516T120000
LOCATION:TK Gruba Hradec Králové Odlehlá 1594\,HK 2\,500 02
SUMMARY:HK-Z-2B: Tělovýchovná jednota SOKOL Plotiště nad Labem\, z.s.-TJ So
 kol Stěžery\, z.s.
END:VEVENT
BEGIN:VEVENT
UID:65383962-6235-4439-a530-306633363931
DTSTAMP:20260422T001306Z
DESCRIPTION:12/36 Tělovýchovná jednota SOKOL Plotiště nad Labem\, z.s. - TJ
  Sokol Stěžery\, z.s.Kovalíček Petr
DTSTART;TZID=Europe/Berlin:20260516T130000
DTEND;TZID=Europe/Berlin:20260516T150000
LOCATION:TK Gruba Hradec Králové Odlehlá 1594\,HK 2\,500 02
SUMMARY:HK-Z-2B: Tělovýchovná jednota SOKOL Plotiště nad Labem\, z.s.-TJ So
 kol Stěžery\, z.s.
END:VEVENT
BEGIN:VEVENT
UID:32646563-3061-4334-a336-373639303162
DTSTAMP:20260422T001306Z
DESCRIPTION:17/50 Tělovýchovná jednota SOKOL Plotiště nad Labem\, z.s. - Tě
 locvičná jednota Sokol Chlumec nad Cidlinou AHavel Matěj
DTSTART;TZID=Europe/Berlin:20260606T100000
DTEND;TZID=Europe/Berlin:20260606T120000
LOCATION:TK Gruba Hradec Králové Odlehlá 1594\,HK 2\,500 02
SUMMARY:HK-Z-2B: Tělovýchovná jednota SOKOL Plotiště nad Labem\, z.s.-Těloc
 vičná jednota Sokol Chlumec nad Cidlinou A
END:VEVENT
BEGIN:VEVENT
UID:63663534-3339-4238-b236-356539306561
DTSTAMP:20260422T001306Z
DESCRIPTION:18/53 Tělovýchovná jednota SOKOL Plotiště nad Labem\, z.s. - Tě
 locvičná jednota Sokol Chlumec nad Cidlinou AHavel Matěj
DTSTART;TZID=Europe/Berlin:20260606T130000
DTEND;TZID=Europe/Berlin:20260606T150000
LOCATION:TK Gruba Hradec Králové Odlehlá 1594\,HK 2\,500 02
SUMMARY:HK-Z-2B: Tělovýchovná jednota SOKOL Plotiště nad Labem\, z.s.-Těloc
 vičná jednota Sokol Chlumec nad Cidlinou A
END:VEVENT
BEGIN:VEVENT
UID:37396365-3365-4532-b865-316465636166
DTSTAMP:20260422T001306Z
DESCRIPTION:1/3 TJ Sokol Stěžery\, z.s. - Tělovýchovná jednota SOKOL Plotiš
 tě nad Labem\, z.s. 3:1 (13\,-24\,8\,22)
DTSTART;TZID=Europe/Berlin:20250827T173000
DTEND;TZID=Europe/Berlin:20250827T193000
LOCATION:TJ Sokol Stěžery Zámecká 28\, 503 21 Stěžery
SUMMARY:HK-Z-2B: TJ Sokol Stěžery\, z.s.-Tělovýchovná jednota SOKOL Plotišt
 ě nad Labem\, z.s.
END:VEVENT
BEGIN:VEVENT
UID:30323431-3066-4336-b430-303262363535
DTSTAMP:20260422T001306Z
DESCRIPTION:2/6 TJ Sokol Stěžery\, z.s. - Tělovýchovná jednota SOKOL Plotiš
 tě nad Labem\, z.s. 3:0 (22\,21\,21)
DTSTART;TZID=Europe/Berlin:20250903T173000
DTEND;TZID=Europe/Berlin:20250903T193000
LOCATION:TJ Sokol Stěžery Zámecká 28\, 503 21 Stěžery
SUMMARY:HK-Z-2B: TJ Sokol Stěžery\, z.s.-Tělovýchovná jednota SOKOL Plotišt
 ě nad Labem\, z.s.
END:VEVENT
BEGIN:VEVENT
UID:33613961-3163-4432-b230-626136643337
DTSTAMP:20260422T001306Z
DESCRIPTION:7/20 Tělocvičná jednota Sokol Chlumec nad Cidlinou A - Tělových
 ovná jednota SOKOL Plotiště nad Labem\, z.s.Rypl Maxmilián
DTSTART;TZID=Europe/Berlin:20260426T100000
DTEND;TZID=Europe/Berlin:20260426T120000
LOCATION:Slavíčkova hala/sportovní areál pod sokolovnou Sokolská 759\, 5035
 1 Chlumec nad Cidlinou/Kozelkova 26/IV\, 50351 Chlumec nad Cidlinou
SUMMARY:HK-Z-2B: Tělocvičná jednota Sokol Chlumec nad Cidlinou A-Tělovýchov
 ná jednota SOKOL Plotiště nad Labem\, z.s.
END:VEVENT
BEGIN:VEVENT
UID:63313566-3365-4632-b838-663431303330
DTSTAMP:20260422T001306Z
DESCRIPTION:8/23 Tělocvičná jednota Sokol Chlumec nad Cidlinou A - Tělových
 ovná jednota SOKOL Plotiště nad Labem\, z.s.Rypl Maxmilián
DTSTART;TZID=Europe/Berlin:20260426T130000
DTEND;TZID=Europe/Berlin:20260426T150000
LOCATION:Slavíčkova hala/sportovní areál pod sokolovnou Sokolská 759\, 5035
 1 Chlumec nad Cidlinou/Kozelkova 26/IV\, 50351 Chlumec nad Cidlinou
SUMMARY:HK-Z-2B: Tělocvičná jednota Sokol Chlumec nad Cidlinou A-Tělovýchov
 ná jednota SOKOL Plotiště nad Labem\, z.s.
END:VEVENT
BEGIN:VEVENT
UID:62323165-6362-4436-a630-623033636130
DTSTAMP:20260422T001306Z
DESCRIPTION:15/45 TJ Sokol Smiřice\, z.s. - Tělovýchovná jednota SOKOL Plot
 iště nad Labem\, z.s.Máša Roman
DTSTART;TZID=Europe/Berlin:20260530T100000
DTEND;TZID=Europe/Berlin:20260530T120000
LOCATION:U Stadionu 634\, 50303 Smiřice ZŠ Smiřice\, Jiráskova 206\, 503 03
  Smiřice
SUMMARY:HK-Z-2B: TJ Sokol Smiřice\, z.s.-Tělovýchovná jednota SOKOL Plotišt
 ě nad Labem\, z.s.
END:VEVENT
BEGIN:VEVENT
UID:36356538-3138-4564-a333-636562353762
DTSTAMP:20260422T001306Z
DESCRIPTION:16/48 TJ Sokol Smiřice\, z.s. - Tělovýchovná jednota SOKOL Plot
 iště nad Labem\, z.s.Máša Roman
DTSTART;TZID=Europe/Berlin:20260530T130000
DTEND;TZID=Europe/Berlin:20260530T150000
LOCATION:U Stadionu 634\, 50303 Smiřice ZŠ Smiřice\, Jiráskova 206\, 503 03
  Smiřice
SUMMARY:HK-Z-2B: TJ Sokol Smiřice\, z.s.-Tělovýchovná jednota SOKOL Plotišt
 ě nad Labem\, z.s.
END:VEVENT
BEGIN:VEVENT
UID:66313830-3539-4935-b563-373062326632
DTSTAMP:20260422T001306Z
DESCRIPTION:19/56 Dělnická tělovýchovná jednota Hradec Králové\, z.s. - Těl
 ovýchovná jednota SOKOL Plotiště nad Labem\, z.s.Havel Matěj
DTSTART;TZID=Europe/Berlin:20260613T100000
DTEND;TZID=Europe/Berlin:20260613T120000
LOCATION:kurty DTJ\, U Labe 427/1\, 500 02 Hradec Králové U Labe 427/1\, 50
 0 02 Hradec Králové
SUMMARY:HK-Z-2B: Dělnická tělovýchovná jednota Hradec Králové\, z.s.-Tělový
 chovná jednota SOKOL Plotiště nad Labem\, z.s.
END:VEVENT
BEGIN:VEVENT
UID:34656563-6437-4663-b865-393730393765
DTSTAMP:20260422T001306Z
DESCRIPTION:20/59 Dělnická tělovýchovná jednota Hradec Králové\, z.s. - Těl
 ovýchovná jednota SOKOL Plotiště nad Labem\, z.s.Havel Matěj
DTSTART;TZID=Europe/Berlin:20260613T130000
DTEND;TZID=Europe/Berlin:20260613T150000
LOCATION:kurty DTJ\, U Labe 427/1\, 500 02 Hradec Králové U Labe 427/1\, 50
 0 02 Hradec Králové
SUMMARY:HK-Z-2B: Dělnická tělovýchovná jednota Hradec Králové\, z.s.-Tělový
 chovná jednota SOKOL Plotiště nad Labem\, z.s.
END:VEVENT
END:VCALENDAR
