BEGIN:VCALENDAR
VERSION:2.0
PRODID:-//Tělocvičná jednota Sokol Pouchov91091//NONSGML kigkonsult.se iCalcreator 2.41.80//
CALSCALE:GREGORIAN
UID:33353137-3232-4236-a565-376265646164
BEGIN:VEVENT
UID:36653537-3236-4930-a130-353137643839
DTSTAMP:20260422T034528Z
DESCRIPTION:3/9 Tělocvičná jednota Sokol Pouchov - TJ Sokol Třebechovice p/
 O 3:0 (17\,9\,18)
DTSTART;TZID=Europe/Berlin:20250913T100000
DTEND;TZID=Europe/Berlin:20250913T120000
LOCATION:Sportovní areál Pouchov K Sokolovně 544/19\, 503 41\, Hradec Králo
 vé 7 GPS: 50.2270558N\, 15.8444628E
SUMMARY:HK-Z-2C: Tělocvičná jednota Sokol Pouchov-TJ Sokol Třebechovice p/O
END:VEVENT
BEGIN:VEVENT
UID:37316230-3330-4061-a435-653262323137
DTSTAMP:20260422T034528Z
DESCRIPTION:4/12 Tělocvičná jednota Sokol Pouchov - TJ Sokol Třebechovice p
 /O 3:0 (7\,20\,23)
DTSTART;TZID=Europe/Berlin:20250913T130000
DTEND;TZID=Europe/Berlin:20250913T150000
LOCATION:Sportovní areál Pouchov K Sokolovně 544/19\, 503 41\, Hradec Králo
 vé 7 GPS: 50.2270558N\, 15.8444628E
SUMMARY:HK-Z-2C: Tělocvičná jednota Sokol Pouchov-TJ Sokol Třebechovice p/O
END:VEVENT
BEGIN:VEVENT
UID:61666561-6639-4630-a130-653834326139
DTSTAMP:20260422T034528Z
DESCRIPTION:7/20 Tělocvičná jednota Sokol Pouchov - Tělocvičná jednota Soko
 l Kostelec nad Orlicí 3:1 (14\,19\,-23\,14)
DTSTART;TZID=Europe/Berlin:20250927T100000
DTEND;TZID=Europe/Berlin:20250927T120000
LOCATION:Sportovní areál Pouchov K Sokolovně 544/19\, 503 41\, Hradec Králo
 vé 7 GPS: 50.2270558N\, 15.8444628E
SUMMARY:HK-Z-2C: Tělocvičná jednota Sokol Pouchov-Tělocvičná jednota Sokol 
 Kostelec nad Orlicí
END:VEVENT
BEGIN:VEVENT
UID:66366364-3538-4335-b337-393661313562
DTSTAMP:20260422T034528Z
DESCRIPTION:8/23 Tělocvičná jednota Sokol Pouchov - Tělocvičná jednota Soko
 l Kostelec nad Orlicí 3:0 (19\,17\,18)
DTSTART;TZID=Europe/Berlin:20250927T130000
DTEND;TZID=Europe/Berlin:20250927T150000
LOCATION:Sportovní areál Pouchov K Sokolovně 544/19\, 503 41\, Hradec Králo
 vé 7 GPS: 50.2270558N\, 15.8444628E
SUMMARY:HK-Z-2C: Tělocvičná jednota Sokol Pouchov-Tělocvičná jednota Sokol 
 Kostelec nad Orlicí
END:VEVENT
BEGIN:VEVENT
UID:33623134-6135-4933-b163-353861646632
DTSTAMP:20260422T034528Z
DESCRIPTION:15/44 Tělocvičná jednota Sokol Pouchov - TJ Spartak Opočno\, z.
 s.Martincová Linda
DTSTART;TZID=Europe/Berlin:20260530T100000
DTEND;TZID=Europe/Berlin:20260530T120000
LOCATION:Sportovní areál Pouchov K Sokolovně 544/19\, 503 41\, Hradec Králo
 vé 7 GPS: 50.2270558N\, 15.8444628E
SUMMARY:HK-Z-2C: Tělocvičná jednota Sokol Pouchov-TJ Spartak Opočno\, z.s.
END:VEVENT
BEGIN:VEVENT
UID:37666637-3738-4339-b663-313862376438
DTSTAMP:20260422T034528Z
DESCRIPTION:16/47 Tělocvičná jednota Sokol Pouchov - TJ Spartak Opočno\, z.
 s.Martincová Linda
DTSTART;TZID=Europe/Berlin:20260530T130000
DTEND;TZID=Europe/Berlin:20260530T150000
LOCATION:Sportovní areál Pouchov K Sokolovně 544/19\, 503 41\, Hradec Králo
 vé 7 GPS: 50.2270558N\, 15.8444628E
SUMMARY:HK-Z-2C: Tělocvičná jednota Sokol Pouchov-TJ Spartak Opočno\, z.s.
END:VEVENT
BEGIN:VEVENT
UID:30616537-6233-4065-b562-363666373336
DTSTAMP:20260422T034528Z
DESCRIPTION:19/57 Tělocvičná jednota Sokol Pouchov - VK SPORT Rychnov nad K
 něžnou\, z.s. BJirka Zdeněk
DTSTART;TZID=Europe/Berlin:20260613T100000
DTEND;TZID=Europe/Berlin:20260613T120000
LOCATION:Sportovní areál Pouchov K Sokolovně 544/19\, 503 41\, Hradec Králo
 vé 7 GPS: 50.2270558N\, 15.8444628E
SUMMARY:HK-Z-2C: Tělocvičná jednota Sokol Pouchov-VK SPORT Rychnov nad Kněž
 nou\, z.s. B
END:VEVENT
BEGIN:VEVENT
UID:34393764-6366-4164-b761-653036623634
DTSTAMP:20260422T034528Z
DESCRIPTION:20/60 Tělocvičná jednota Sokol Pouchov - VK SPORT Rychnov nad K
 něžnou\, z.s. BJirka Zdeněk
DTSTART;TZID=Europe/Berlin:20260613T130000
DTEND;TZID=Europe/Berlin:20260613T150000
LOCATION:Sportovní areál Pouchov K Sokolovně 544/19\, 503 41\, Hradec Králo
 vé 7 GPS: 50.2270558N\, 15.8444628E
SUMMARY:HK-Z-2C: Tělocvičná jednota Sokol Pouchov-VK SPORT Rychnov nad Kněž
 nou\, z.s. B
END:VEVENT
BEGIN:VEVENT
UID:30396362-3236-4635-b131-626631623531
DTSTAMP:20260422T034528Z
DESCRIPTION:5/14 TJ Spartak Opočno\, z.s. - Tělocvičná jednota Sokol Poucho
 v 0:3 (-12\,-17\,-16)
DTSTART;TZID=Europe/Berlin:20250920T100000
DTEND;TZID=Europe/Berlin:20250920T120000
LOCATION:Pohořská 674\, 517 73 Opočno Nádražní 313\, 517 73 Opočno
SUMMARY:HK-Z-2C: TJ Spartak Opočno\, z.s.-Tělocvičná jednota Sokol Pouchov
END:VEVENT
BEGIN:VEVENT
UID:65643463-3438-4430-a663-333832316239
DTSTAMP:20260422T034528Z
DESCRIPTION:6/17 TJ Spartak Opočno\, z.s. - Tělocvičná jednota Sokol Poucho
 v 0:3 (-15\,-22\,-19)
DTSTART;TZID=Europe/Berlin:20250920T130000
DTEND;TZID=Europe/Berlin:20250920T150000
LOCATION:Pohořská 674\, 517 73 Opočno Nádražní 313\, 517 73 Opočno
SUMMARY:HK-Z-2C: TJ Spartak Opočno\, z.s.-Tělocvičná jednota Sokol Pouchov
END:VEVENT
BEGIN:VEVENT
UID:63383831-3664-4334-a639-643731346562
DTSTAMP:20260422T034528Z
DESCRIPTION:9/27 VK SPORT Rychnov nad Kněžnou\, z.s. B - Tělocvičná jednota
  Sokol Pouchov 1:3 (-23\,-22\,22\,-20)
DTSTART;TZID=Europe/Berlin:20251004T090000
DTEND;TZID=Europe/Berlin:20251004T110000
LOCATION:hřiště Símanka U Stadionu\, Rychnov nad Kněžnou
SUMMARY:HK-Z-2C: VK SPORT Rychnov nad Kněžnou\, z.s. B-Tělocvičná jednota S
 okol Pouchov
END:VEVENT
BEGIN:VEVENT
UID:39376535-6533-4238-b965-623165336330
DTSTAMP:20260422T034528Z
DESCRIPTION:10/30 VK SPORT Rychnov nad Kněžnou\, z.s. B - Tělocvičná jednot
 a Sokol Pouchov 1:3 (-21\,22\,-24\,-24)
DTSTART;TZID=Europe/Berlin:20251004T120000
DTEND;TZID=Europe/Berlin:20251004T140000
LOCATION:hřiště Símanka U Stadionu\, Rychnov nad Kněžnou
SUMMARY:HK-Z-2C: VK SPORT Rychnov nad Kněžnou\, z.s. B-Tělocvičná jednota S
 okol Pouchov
END:VEVENT
BEGIN:VEVENT
UID:66376635-3365-4261-b537-396162303761
DTSTAMP:20260422T034528Z
DESCRIPTION:13/39 TJ Sokol Třebechovice p/O - Tělocvičná jednota Sokol Pouc
 hovŠkoda Petr
DTSTART;TZID=Europe/Berlin:20260523T090000
DTEND;TZID=Europe/Berlin:20260523T110000
LOCATION:Sokolovna Heldovo nám.574\, Třebechovice pod Orebem\, PSČ 503 46
SUMMARY:HK-Z-2C: TJ Sokol Třebechovice p/O-Tělocvičná jednota Sokol Pouchov
END:VEVENT
BEGIN:VEVENT
UID:63363136-6634-4132-a661-376234376663
DTSTAMP:20260422T034528Z
DESCRIPTION:14/42 TJ Sokol Třebechovice p/O - Tělocvičná jednota Sokol Pouc
 hovŠkoda Petr
DTSTART;TZID=Europe/Berlin:20260523T120000
DTEND;TZID=Europe/Berlin:20260523T140000
LOCATION:Sokolovna Heldovo nám.574\, Třebechovice pod Orebem\, PSČ 503 46
SUMMARY:HK-Z-2C: TJ Sokol Třebechovice p/O-Tělocvičná jednota Sokol Pouchov
END:VEVENT
BEGIN:VEVENT
UID:32323038-3637-4530-b137-656462393338
DTSTAMP:20260422T034528Z
DESCRIPTION:17/50 Tělocvičná jednota Sokol Kostelec nad Orlicí - Tělocvičná
  jednota Sokol PouchovSršeň Miloslav
DTSTART;TZID=Europe/Berlin:20260606T100000
DTEND;TZID=Europe/Berlin:20260606T120000
LOCATION:kurty za Sokolovnou Komenského 265\, 51741 Kostelec nad Orlicí
SUMMARY:HK-Z-2C: Tělocvičná jednota Sokol Kostelec nad Orlicí-Tělocvičná je
 dnota Sokol Pouchov
END:VEVENT
BEGIN:VEVENT
UID:33306532-3266-4463-a138-386434636537
DTSTAMP:20260422T034528Z
DESCRIPTION:18/53 Tělocvičná jednota Sokol Kostelec nad Orlicí - Tělocvičná
  jednota Sokol PouchovSršeň Miloslav
DTSTART;TZID=Europe/Berlin:20260606T130000
DTEND;TZID=Europe/Berlin:20260606T150000
LOCATION:kurty za Sokolovnou Komenského 265\, 51741 Kostelec nad Orlicí
SUMMARY:HK-Z-2C: Tělocvičná jednota Sokol Kostelec nad Orlicí-Tělocvičná je
 dnota Sokol Pouchov
END:VEVENT
END:VCALENDAR
