BEGIN:VCALENDAR
VERSION:2.0
PRODID:-//Tělocvičná jednota Sokol Třebechovice pod Orebem91092//NONSGML kigkonsult.se iCalcreator 2.41.80//
CALSCALE:GREGORIAN
UID:36626165-3333-4464-a364-623338393737
BEGIN:VEVENT
UID:31353065-6336-4531-a630-663139613132
DTSTAMP:20260422T034534Z
DESCRIPTION:1/2 TJ Sokol Třebechovice p/O - VK SPORT Rychnov nad Kněžnou\, 
 z.s. B 3:1 (18\,-21\,21\,21)
DTSTART;TZID=Europe/Berlin:20250906T090000
DTEND;TZID=Europe/Berlin:20250906T110000
LOCATION:Sokolovna Heldovo nám.574\, Třebechovice pod Orebem\, PSČ 503 46
SUMMARY:HK-Z-2C: TJ Sokol Třebechovice p/O-VK SPORT Rychnov nad Kněžnou\, z
 .s. B
END:VEVENT
BEGIN:VEVENT
UID:32383733-6133-4734-a465-396566346566
DTSTAMP:20260422T034534Z
DESCRIPTION:2/5 TJ Sokol Třebechovice p/O - VK SPORT Rychnov nad Kněžnou\, 
 z.s. B 1:3 (-20\,20\,-15\,-13)
DTSTART;TZID=Europe/Berlin:20250906T120000
DTEND;TZID=Europe/Berlin:20250906T140000
LOCATION:Sokolovna Heldovo nám.574\, Třebechovice pod Orebem\, PSČ 503 46
SUMMARY:HK-Z-2C: TJ Sokol Třebechovice p/O-VK SPORT Rychnov nad Kněžnou\, z
 .s. B
END:VEVENT
BEGIN:VEVENT
UID:63633832-3539-4631-b965-663165323633
DTSTAMP:20260422T034534Z
DESCRIPTION:7/21 TJ Sokol Třebechovice p/O - TJ Spartak Opočno\, z.s. 3:0 (
 18\,12\,24)
DTSTART;TZID=Europe/Berlin:20250927T093000
DTEND;TZID=Europe/Berlin:20250927T113000
LOCATION:Sokolovna Heldovo nám.574\, Třebechovice pod Orebem\, PSČ 503 46
SUMMARY:HK-Z-2C: TJ Sokol Třebechovice p/O-TJ Spartak Opočno\, z.s.
END:VEVENT
BEGIN:VEVENT
UID:61356638-6564-4032-b933-346665356232
DTSTAMP:20260422T034534Z
DESCRIPTION:8/24 TJ Sokol Třebechovice p/O - TJ Spartak Opočno\, z.s. 3:0 (
 18\,21\,24)
DTSTART;TZID=Europe/Berlin:20250927T123000
DTEND;TZID=Europe/Berlin:20250927T143000
LOCATION:Sokolovna Heldovo nám.574\, Třebechovice pod Orebem\, PSČ 503 46
SUMMARY:HK-Z-2C: TJ Sokol Třebechovice p/O-TJ Spartak Opočno\, z.s.
END:VEVENT
BEGIN:VEVENT
UID:64373562-3030-4537-b739-353338626334
DTSTAMP:20260422T034534Z
DESCRIPTION:13/39 TJ Sokol Třebechovice p/O - Tělocvičná jednota Sokol Pouc
 hovŠkoda Petr
DTSTART;TZID=Europe/Berlin:20260523T090000
DTEND;TZID=Europe/Berlin:20260523T110000
LOCATION:Sokolovna Heldovo nám.574\, Třebechovice pod Orebem\, PSČ 503 46
SUMMARY:HK-Z-2C: TJ Sokol Třebechovice p/O-Tělocvičná jednota Sokol Pouchov
END:VEVENT
BEGIN:VEVENT
UID:32333531-6566-4132-b766-633561386331
DTSTAMP:20260422T034534Z
DESCRIPTION:14/42 TJ Sokol Třebechovice p/O - Tělocvičná jednota Sokol Pouc
 hovŠkoda Petr
DTSTART;TZID=Europe/Berlin:20260523T120000
DTEND;TZID=Europe/Berlin:20260523T140000
LOCATION:Sokolovna Heldovo nám.574\, Třebechovice pod Orebem\, PSČ 503 46
SUMMARY:HK-Z-2C: TJ Sokol Třebechovice p/O-Tělocvičná jednota Sokol Pouchov
END:VEVENT
BEGIN:VEVENT
UID:64393338-6235-4639-b163-646234316366
DTSTAMP:20260422T034534Z
DESCRIPTION:19/56 TJ Sokol Třebechovice p/O - Tělocvičná jednota Sokol Kost
 elec nad OrlicíŠkoda Petr
DTSTART;TZID=Europe/Berlin:20260613T100000
DTEND;TZID=Europe/Berlin:20260613T120000
LOCATION:Sokolovna Heldovo nám.574\, Třebechovice pod Orebem\, PSČ 503 46
SUMMARY:HK-Z-2C: TJ Sokol Třebechovice p/O-Tělocvičná jednota Sokol Kostele
 c nad Orlicí
END:VEVENT
BEGIN:VEVENT
UID:39346664-3566-4235-a239-366234373666
DTSTAMP:20260422T034534Z
DESCRIPTION:20/59 TJ Sokol Třebechovice p/O - Tělocvičná jednota Sokol Kost
 elec nad OrlicíŠkoda Petr
DTSTART;TZID=Europe/Berlin:20260613T130000
DTEND;TZID=Europe/Berlin:20260613T150000
LOCATION:Sokolovna Heldovo nám.574\, Třebechovice pod Orebem\, PSČ 503 46
SUMMARY:HK-Z-2C: TJ Sokol Třebechovice p/O-Tělocvičná jednota Sokol Kostele
 c nad Orlicí
END:VEVENT
BEGIN:VEVENT
UID:61303437-3839-4930-a437-346565613239
DTSTAMP:20260422T034534Z
DESCRIPTION:3/9 Tělocvičná jednota Sokol Pouchov - TJ Sokol Třebechovice p/
 O 3:0 (17\,9\,18)
DTSTART;TZID=Europe/Berlin:20250913T100000
DTEND;TZID=Europe/Berlin:20250913T120000
LOCATION:Sportovní areál Pouchov K Sokolovně 544/19\, 503 41\, Hradec Králo
 vé 7 GPS: 50.2270558N\, 15.8444628E
SUMMARY:HK-Z-2C: Tělocvičná jednota Sokol Pouchov-TJ Sokol Třebechovice p/O
END:VEVENT
BEGIN:VEVENT
UID:61376535-3633-4463-b964-366333363863
DTSTAMP:20260422T034534Z
DESCRIPTION:4/12 Tělocvičná jednota Sokol Pouchov - TJ Sokol Třebechovice p
 /O 3:0 (7\,20\,23)
DTSTART;TZID=Europe/Berlin:20250913T130000
DTEND;TZID=Europe/Berlin:20250913T150000
LOCATION:Sportovní areál Pouchov K Sokolovně 544/19\, 503 41\, Hradec Králo
 vé 7 GPS: 50.2270558N\, 15.8444628E
SUMMARY:HK-Z-2C: Tělocvičná jednota Sokol Pouchov-TJ Sokol Třebechovice p/O
END:VEVENT
BEGIN:VEVENT
UID:66636231-3765-4161-b431-366465666362
DTSTAMP:20260422T034534Z
DESCRIPTION:9/26 Tělocvičná jednota Sokol Kostelec nad Orlicí - TJ Sokol Tř
 ebechovice p/O 1:3 (-17\,-14\,22\,-18)
DTSTART;TZID=Europe/Berlin:20251101T100000
DTEND;TZID=Europe/Berlin:20251101T120000
LOCATION:kurty za Sokolovnou Komenského 265\, 51741 Kostelec nad Orlicí
SUMMARY:HK-Z-2C: Tělocvičná jednota Sokol Kostelec nad Orlicí-TJ Sokol Třeb
 echovice p/O
END:VEVENT
BEGIN:VEVENT
UID:62326233-3766-4239-a135-653739353231
DTSTAMP:20260422T034534Z
DESCRIPTION:10/29 Tělocvičná jednota Sokol Kostelec nad Orlicí - TJ Sokol T
 řebechovice p/O 0:3 (-19\,-18\,-19)
DTSTART;TZID=Europe/Berlin:20251101T130000
DTEND;TZID=Europe/Berlin:20251101T150000
LOCATION:kurty za Sokolovnou Komenského 265\, 51741 Kostelec nad Orlicí
SUMMARY:HK-Z-2C: Tělocvičná jednota Sokol Kostelec nad Orlicí-TJ Sokol Třeb
 echovice p/O
END:VEVENT
BEGIN:VEVENT
UID:62626233-6439-4931-a661-626564613339
DTSTAMP:20260422T034534Z
DESCRIPTION:11/32 VK SPORT Rychnov nad Kněžnou\, z.s. B - TJ Sokol Třebecho
 vice p/OVolt Karel
DTSTART;TZID=Europe/Berlin:20260516T100000
DTEND;TZID=Europe/Berlin:20260516T120000
LOCATION:hřiště Símanka U Stadionu\, Rychnov nad Kněžnou
SUMMARY:HK-Z-2C: VK SPORT Rychnov nad Kněžnou\, z.s. B-TJ Sokol Třebechovic
 e p/O
END:VEVENT
BEGIN:VEVENT
UID:66663566-3861-4139-a363-336535313463
DTSTAMP:20260422T034534Z
DESCRIPTION:12/35 VK SPORT Rychnov nad Kněžnou\, z.s. B - TJ Sokol Třebecho
 vice p/OVolt Karel
DTSTART;TZID=Europe/Berlin:20260516T130000
DTEND;TZID=Europe/Berlin:20260516T150000
LOCATION:hřiště Símanka U Stadionu\, Rychnov nad Kněžnou
SUMMARY:HK-Z-2C: VK SPORT Rychnov nad Kněžnou\, z.s. B-TJ Sokol Třebechovic
 e p/O
END:VEVENT
BEGIN:VEVENT
UID:64343131-3738-4062-b030-326464366539
DTSTAMP:20260422T034534Z
DESCRIPTION:17/51 TJ Spartak Opočno\, z.s. - TJ Sokol Třebechovice p/OŠkoda
  Petr
DTSTART;TZID=Europe/Berlin:20260606T100000
DTEND;TZID=Europe/Berlin:20260606T120000
LOCATION:Pohořská 674\, 517 73 Opočno Nádražní 313\, 517 73 Opočno
SUMMARY:HK-Z-2C: TJ Spartak Opočno\, z.s.-TJ Sokol Třebechovice p/O
END:VEVENT
BEGIN:VEVENT
UID:31613834-3336-4661-b363-383639666235
DTSTAMP:20260422T034534Z
DESCRIPTION:18/54 TJ Spartak Opočno\, z.s. - TJ Sokol Třebechovice p/OŠkoda
  Petr
DTSTART;TZID=Europe/Berlin:20260606T130000
DTEND;TZID=Europe/Berlin:20260606T150000
LOCATION:Pohořská 674\, 517 73 Opočno Nádražní 313\, 517 73 Opočno
SUMMARY:HK-Z-2C: TJ Spartak Opočno\, z.s.-TJ Sokol Třebechovice p/O
END:VEVENT
END:VCALENDAR
