BEGIN:VCALENDAR
VERSION:2.0
PRODID:-//MAC Eagles91098//NONSGML kigkonsult.se iCalcreator 2.41.80//
CALSCALE:GREGORIAN
UID:35636535-3862-4664-b833-626530303538
BEGIN:VEVENT
UID:38326337-3764-4731-b533-393666313064
DTSTAMP:20260422T213412Z
DESCRIPTION:1/3 MAC Eagles - Sokol Řečkovice 'A' 3:1 (17\,19\,-18\,17)
DTSTART;TZID=Europe/Berlin:20250902T173000
DTEND;TZID=Europe/Berlin:20250902T193000
SUMMARY:M-P-M: MAC Eagles-Sokol Řečkovice 'A'
END:VEVENT
BEGIN:VEVENT
UID:64616631-3161-4734-b234-613630373238
DTSTAMP:20260422T213412Z
DESCRIPTION:3/12 MAC Eagles - Židenice 'B' 3:1 (19\,22\,-27\,19)
DTSTART;TZID=Europe/Berlin:20250909T173000
DTEND;TZID=Europe/Berlin:20250909T193000
SUMMARY:M-P-M: MAC Eagles-Židenice 'B'
END:VEVENT
BEGIN:VEVENT
UID:34316331-3134-4430-b735-386465636465
DTSTAMP:20260422T213412Z
DESCRIPTION:5/21 MAC Eagles - Židenice 'A' 3:0 (16\,19\,19)
DTSTART;TZID=Europe/Berlin:20250916T173000
DTEND;TZID=Europe/Berlin:20250916T193000
SUMMARY:M-P-M: MAC Eagles-Židenice 'A'
END:VEVENT
BEGIN:VEVENT
UID:36363631-3562-4137-a166-636262353739
DTSTAMP:20260422T213412Z
DESCRIPTION:6/30 MAC Eagles - Sokol Řečkovice 'C'Klein Jiří
DTSTART;TZID=Europe/Berlin:20250918T173000
DTEND;TZID=Europe/Berlin:20250918T193000
SUMMARY:M-P-M: MAC Eagles-Sokol Řečkovice 'C'
END:VEVENT
BEGIN:VEVENT
UID:63306635-3663-4130-a361-643964356366
DTSTAMP:20260422T213412Z
DESCRIPTION:8/39 MAC Eagles - Sokol HusoviceMach Rostislav\ntělocvična ZŠ M
 ilénova
DTSTART;TZID=Europe/Berlin:20251009T193000
DTEND;TZID=Europe/Berlin:20251009T213000
SUMMARY:M-P-M: MAC Eagles-Sokol Husovice
END:VEVENT
BEGIN:VEVENT
UID:62646536-3537-4963-b239-363333613464
DTSTAMP:20260422T213412Z
DESCRIPTION:11/54 MAC Eagles - Sokol Řečkovice 'B'
DTSTART;TZID=Europe/Berlin:20260512T173000
DTEND;TZID=Europe/Berlin:20260512T193000
SUMMARY:M-P-M: MAC Eagles-Sokol Řečkovice 'B'
END:VEVENT
BEGIN:VEVENT
UID:61393934-3839-4664-b737-333937636330
DTSTAMP:20260422T213412Z
DESCRIPTION:13/65 MAC Eagles - Lužánky BBBB
DTSTART;TZID=Europe/Berlin:20260519T173000
DTEND;TZID=Europe/Berlin:20260519T193000
SUMMARY:M-P-M: MAC Eagles-Lužánky BBBB
END:VEVENT
BEGIN:VEVENT
UID:38366665-3633-4264-a330-333563616163
DTSTAMP:20260422T213412Z
DESCRIPTION:16/77 MAC Eagles - TJ Komín
DTSTART;TZID=Europe/Berlin:20260528T173000
DTEND;TZID=Europe/Berlin:20260528T193000
SUMMARY:M-P-M: MAC Eagles-TJ Komín
END:VEVENT
BEGIN:VEVENT
UID:30323532-3366-4561-b334-363137626334
DTSTAMP:20260422T213412Z
DESCRIPTION:18/88 MAC Eagles - Sokol Starý Lískovec
DTSTART;TZID=Europe/Berlin:20260604T173000
DTEND;TZID=Europe/Berlin:20260604T193000
SUMMARY:M-P-M: MAC Eagles-Sokol Starý Lískovec
END:VEVENT
BEGIN:VEVENT
UID:38373334-6266-4437-b366-373764386363
DTSTAMP:20260422T213412Z
DESCRIPTION:2/9 Sokol Řečkovice 'B' - MAC Eagles 0:3 (-22\,-18\,-22)
DTSTART;TZID=Europe/Berlin:20250904T173000
DTEND;TZID=Europe/Berlin:20250904T193000
SUMMARY:M-P-M: Sokol Řečkovice 'B'-MAC Eagles
END:VEVENT
BEGIN:VEVENT
UID:32303833-3031-4234-b161-313362623237
DTSTAMP:20260422T213412Z
DESCRIPTION:4/20 Lužánky BBBB - MAC Eagles 3:0 (20\,17\,20)
DTSTART;TZID=Europe/Berlin:20250911T173000
DTEND;TZID=Europe/Berlin:20250911T193000
SUMMARY:M-P-M: Lužánky BBBB-MAC Eagles
END:VEVENT
BEGIN:VEVENT
UID:36333635-3139-4030-a533-626230336231
DTSTAMP:20260422T213412Z
DESCRIPTION:7/32 TJ Komín - MAC EaglesKlein Jiří
DTSTART;TZID=Europe/Berlin:20250923T173000
DTEND;TZID=Europe/Berlin:20250923T193000
SUMMARY:M-P-M: TJ Komín-MAC Eagles
END:VEVENT
BEGIN:VEVENT
UID:63363866-3739-4230-b330-303036343535
DTSTAMP:20260422T213412Z
DESCRIPTION:9/43 Sokol Starý Lískovec - MAC Eagles 0:3 (-8\,-18\,-20)
DTSTART;TZID=Europe/Berlin:20250930T173000
DTEND;TZID=Europe/Berlin:20250930T193000
SUMMARY:M-P-M: Sokol Starý Lískovec-MAC Eagles
END:VEVENT
BEGIN:VEVENT
UID:37363738-3262-4630-a166-316331363663
DTSTAMP:20260422T213412Z
DESCRIPTION:10/48 Sokol Řečkovice 'A' - MAC EaglesŘezáč Miroslav
DTSTART;TZID=Europe/Berlin:20251002T173000
DTEND;TZID=Europe/Berlin:20251002T193000
SUMMARY:M-P-M: Sokol Řečkovice 'A'-MAC Eagles
END:VEVENT
BEGIN:VEVENT
UID:61656536-3736-4235-b766-613334393737
DTSTAMP:20260422T213412Z
DESCRIPTION:12/57 Židenice 'B' - MAC Eagles
DTSTART;TZID=Europe/Berlin:20260514T173000
DTEND;TZID=Europe/Berlin:20260514T193000
SUMMARY:M-P-M: Židenice 'B'-MAC Eagles
END:VEVENT
BEGIN:VEVENT
UID:61636235-6663-4964-a664-343564386665
DTSTAMP:20260422T213412Z
DESCRIPTION:14/66 Židenice 'A' - MAC Eagles
DTSTART;TZID=Europe/Berlin:20260521T173000
DTEND;TZID=Europe/Berlin:20260521T193000
SUMMARY:M-P-M: Židenice 'A'-MAC Eagles
END:VEVENT
BEGIN:VEVENT
UID:64653337-3739-4563-a530-636331663061
DTSTAMP:20260422T213412Z
DESCRIPTION:15/75 Sokol Řečkovice 'C' - MAC Eagles
DTSTART;TZID=Europe/Berlin:20260526T173000
DTEND;TZID=Europe/Berlin:20260526T193000
SUMMARY:M-P-M: Sokol Řečkovice 'C'-MAC Eagles
END:VEVENT
BEGIN:VEVENT
UID:63626463-3536-4232-b762-616633313836
DTSTAMP:20260422T213412Z
DESCRIPTION:17/84 Sokol Husovice - MAC Eagles
DTSTART;TZID=Europe/Berlin:20260602T173000
DTEND;TZID=Europe/Berlin:20260602T193000
SUMMARY:M-P-M: Sokol Husovice-MAC Eagles
END:VEVENT
END:VCALENDAR
