BEGIN:VCALENDAR
VERSION:2.0
PRODID:-//TJ Sokol Bohumín91117//NONSGML kigkonsult.se iCalcreator 2.41.80//
CALSCALE:GREGORIAN
UID:64656462-3437-4338-a366-323734653333
BEGIN:VEVENT
UID:32656466-6436-4537-b436-323832363761
DTSTAMP:20260422T001314Z
DESCRIPTION:1/2 Bohumín - Hlučín 'B' 3:1 (18\,-22\,25\,19)
DTSTART;TZID=Europe/Berlin:20251118T200000
DTEND;TZID=Europe/Berlin:20251118T220000
LOCATION:Dům dětí a mládeže Bohumín\, Janáčkova 715 Bohumín - Nový Bohumín
SUMMARY:OV-Z-A: Bohumín-Hlučín 'B'
END:VEVENT
BEGIN:VEVENT
UID:62653935-3537-4961-b432-373831383431
DTSTAMP:20260422T001314Z
DESCRIPTION:3/9 Bohumín - Polanka-JKY 3:0 (12\,8\,21)
DTSTART;TZID=Europe/Berlin:20250930T200000
DTEND;TZID=Europe/Berlin:20250930T220000
LOCATION:Dům dětí a mládeže Bohumín\, Janáčkova 715 Bohumín - Nový Bohumín
SUMMARY:OV-Z-A: Bohumín-Polanka-JKY
END:VEVENT
BEGIN:VEVENT
UID:30663139-3131-4863-b563-623636366363
DTSTAMP:20260422T001314Z
DESCRIPTION:4/16 Bohumín - Stará Bělá 'B' 3:1 (15\,-17\,8\,16)
DTSTART;TZID=Europe/Berlin:20251007T200000
DTEND;TZID=Europe/Berlin:20251007T220000
LOCATION:Dům dětí a mládeže Bohumín\, Janáčkova 715 Bohumín - Nový Bohumín
SUMMARY:OV-Z-A: Bohumín-Stará Bělá 'B'
END:VEVENT
BEGIN:VEVENT
UID:34393162-3861-4066-a663-316236633737
DTSTAMP:20260422T001314Z
DESCRIPTION:9/36 Bohumín - Svinov 'A' 0:3 (-17\,-20\,-14)
DTSTART;TZID=Europe/Berlin:20251125T200000
DTEND;TZID=Europe/Berlin:20251125T220000
LOCATION:Dům dětí a mládeže Bohumín\, Janáčkova 715 Bohumín - Nový Bohumín
SUMMARY:OV-Z-A: Bohumín-Svinov 'A'
END:VEVENT
BEGIN:VEVENT
UID:64306338-6239-4332-b037-626137626332
DTSTAMP:20260422T001314Z
DESCRIPTION:12/46 Bohumín - Sokol Poruba 'A' 3:1 (18\,15\,-24\,15)
DTSTART;TZID=Europe/Berlin:20260127T200000
DTEND;TZID=Europe/Berlin:20260127T220000
LOCATION:Dům dětí a mládeže Bohumín\, Janáčkova 715 Bohumín - Nový Bohumín
SUMMARY:OV-Z-A: Bohumín-Sokol Poruba 'A'
END:VEVENT
BEGIN:VEVENT
UID:38633235-6663-4065-b463-613835643265
DTSTAMP:20260422T001314Z
DESCRIPTION:14/55 Bohumín - Kunčičky 'B' 3:0 (11\,17\,14)
DTSTART;TZID=Europe/Berlin:20260210T200000
DTEND;TZID=Europe/Berlin:20260210T220000
LOCATION:Dům dětí a mládeže Bohumín\, Janáčkova 715 Bohumín - Nový Bohumín
SUMMARY:OV-Z-A: Bohumín-Kunčičky 'B'
END:VEVENT
BEGIN:VEVENT
UID:66316539-6264-4462-a461-323761643166
DTSTAMP:20260422T001314Z
DESCRIPTION:2/8 Svinov 'A' - Bohumín 2:3 (-23\,-22\,17\,22\,-12)
DTSTART;TZID=Europe/Berlin:20250924T192000
DTEND;TZID=Europe/Berlin:20250924T212000
LOCATION:MH Svinov\, Stanislavského 1270 Ostrava - Svinov
SUMMARY:OV-Z-A: Svinov 'A'-Bohumín
END:VEVENT
BEGIN:VEVENT
UID:62383233-6239-4739-b237-353633616633
DTSTAMP:20260422T001314Z
DESCRIPTION:5/18 Sokol Poruba 'A' - Bohumín 3:2 (-23\,15\,15\,-13\,12)
DTSTART;TZID=Europe/Berlin:20251013T193000
DTEND;TZID=Europe/Berlin:20251013T213000
LOCATION:TJ Sokol Poruba\, Vřesinská 121 Ostrava - Poruba
SUMMARY:OV-Z-A: Sokol Poruba 'A'-Bohumín
END:VEVENT
BEGIN:VEVENT
UID:64323662-3735-4439-b439-666532373031
DTSTAMP:20260422T001314Z
DESCRIPTION:7/27 Kunčičky 'B' - Bohumín 2:3 (-16\,21\,-15\,22\,-10)
DTSTART;TZID=Europe/Berlin:20251105T185000
DTEND;TZID=Europe/Berlin:20251105T205000
LOCATION:Tělocvična ZŚ Rychvald\, Školní 1600 Rychvald
SUMMARY:OV-Z-A: Kunčičky 'B'-Bohumín
END:VEVENT
BEGIN:VEVENT
UID:31636364-3238-4062-a136-333234396262
DTSTAMP:20260422T001314Z
DESCRIPTION:8/30 Hlučín 'B' - Bohumín 2:3 (24\,-18\,22\,-16\,-9)
DTSTART;TZID=Europe/Berlin:20251112T185000
DTEND;TZID=Europe/Berlin:20251112T205000
LOCATION:, 21. dubna 105 Vřesina
SUMMARY:OV-Z-A: Hlučín 'B'-Bohumín
END:VEVENT
BEGIN:VEVENT
UID:61316134-6235-4535-b034-393430623738
DTSTAMP:20260422T001314Z
DESCRIPTION:10/37 Polanka-JKY - Bohumín 1:3 (-20\,25\,-23\,-21)
DTSTART;TZID=Europe/Berlin:20260109T181000
DTEND;TZID=Europe/Berlin:20260109T201000
LOCATION:Sportovní hala\, Heleny Salichové 1275 Ostrava - Polanka nad Odrou
SUMMARY:OV-Z-A: Polanka-JKY-Bohumín
END:VEVENT
BEGIN:VEVENT
UID:37326437-6432-4539-a436-356232626562
DTSTAMP:20260422T001314Z
DESCRIPTION:11/44 Stará Bělá 'B' - Bohumín 0:3 (-21\,-22\,-17)
DTSTART;TZID=Europe/Berlin:20251210T200000
DTEND;TZID=Europe/Berlin:20251210T220000
LOCATION:Sokolovna TJ Sokol Stará Bělá\, Junácká 6 Ostrava - Stará Bělá
SUMMARY:OV-Z-A: Stará Bělá 'B'-Bohumín
END:VEVENT
BEGIN:VEVENT
UID:31633836-3763-4435-a236-313638643561
DTSTAMP:20260422T001314Z
DESCRIPTION:1/1 Bohumín - Vratimov 3:1 (19\,-19\,23\,23)
DTSTART;TZID=Europe/Berlin:20260303T200000
DTEND;TZID=Europe/Berlin:20260303T220000
LOCATION:Dům dětí a mládeže Bohumín\, Janáčkova 715 Bohumín - Nový Bohumín
SUMMARY:OV-Z-F: Bohumín-Vratimov
END:VEVENT
BEGIN:VEVENT
UID:65383936-3435-4039-b766-383637383636
DTSTAMP:20260422T001314Z
DESCRIPTION:3/7 Bohumín - Svinov 'B' 3:2 (-21\,-22\,16\,8\,7)
DTSTART;TZID=Europe/Berlin:20260317T200000
DTEND;TZID=Europe/Berlin:20260317T220000
LOCATION:Dům dětí a mládeže Bohumín\, Janáčkova 715 Bohumín - Nový Bohumín
SUMMARY:OV-Z-F: Bohumín-Svinov 'B'
END:VEVENT
BEGIN:VEVENT
UID:38393337-3466-4632-b934-653236326166
DTSTAMP:20260422T001314Z
DESCRIPTION:5/13 Bohumín - Polanka n.O. 'C' 3:1 (-26\,18\,13\,11)
DTSTART;TZID=Europe/Berlin:20260407T200000
DTEND;TZID=Europe/Berlin:20260407T220000
LOCATION:Dům dětí a mládeže Bohumín\, Janáčkova 715 Bohumín - Nový Bohumín
SUMMARY:OV-Z-F: Bohumín-Polanka n.O. 'C'
END:VEVENT
BEGIN:VEVENT
UID:65613061-3533-4335-b564-366161653235
DTSTAMP:20260422T001314Z
DESCRIPTION:2/4 Polanka n.O. 'C' - Bohumín 1:3 (-19\,13\,-23\,-12)
DTSTART;TZID=Europe/Berlin:20260310T185000
DTEND;TZID=Europe/Berlin:20260310T205000
LOCATION:Sportovní hala\, Heleny Salichové 1275 Ostrava - Polanka nad Odrou
SUMMARY:OV-Z-F: Polanka n.O. 'C'-Bohumín
END:VEVENT
BEGIN:VEVENT
UID:35376232-6437-4431-b266-613233333435
DTSTAMP:20260422T001314Z
DESCRIPTION:4/10 Vratimov - Bohumín 0:3 (-19\,-23\,-13)
DTSTART;TZID=Europe/Berlin:20260324T184500
DTEND;TZID=Europe/Berlin:20260324T204500
LOCATION:Sportovní hala Nová Bělá\, Krmelínská 750 Ostrava - Nová Bělá
SUMMARY:OV-Z-F: Vratimov-Bohumín
END:VEVENT
BEGIN:VEVENT
UID:36303938-3532-4262-b835-633733386435
DTSTAMP:20260422T001314Z
DESCRIPTION:6/16 Svinov 'B' - Bohumín 3:0 (22\,16\,23)
DTSTART;TZID=Europe/Berlin:20260408T192000
DTEND;TZID=Europe/Berlin:20260408T212000
LOCATION:MH Svinov\, Stanislavského 1270 Ostrava - Svinov
SUMMARY:OV-Z-F: Svinov 'B'-Bohumín
END:VEVENT
END:VCALENDAR
