BEGIN:VCALENDAR
VERSION:2.0
PRODID:-//TJ Hlučín91126//NONSGML kigkonsult.se iCalcreator 2.41.80//
CALSCALE:GREGORIAN
UID:37313063-3330-4130-a263-316461313735
BEGIN:VEVENT
UID:66613932-6135-4739-b536-373536636537
DTSTAMP:20260421T192714Z
DESCRIPTION:2/7 Hlučín 'B' - Stará Bělá 'B' 3:1 (14\,18\,-12\,23)
DTSTART;TZID=Europe/Berlin:20250924T185000
DTEND;TZID=Europe/Berlin:20250924T205000
LOCATION:, 21. dubna 105 Vřesina
SUMMARY:OV-Z-A: Hlučín 'B'-Stará Bělá 'B'
END:VEVENT
BEGIN:VEVENT
UID:63343537-6137-4932-b930-393039613863
DTSTAMP:20260421T192714Z
DESCRIPTION:7/28 Hlučín 'B' - Svinov 'A' 3:0 (14\,16\,16)
DTSTART;TZID=Europe/Berlin:20251105T185000
DTEND;TZID=Europe/Berlin:20251105T205000
LOCATION:, 21. dubna 105 Vřesina
SUMMARY:OV-Z-A: Hlučín 'B'-Svinov 'A'
END:VEVENT
BEGIN:VEVENT
UID:32613230-6534-4263-a565-306231323233
DTSTAMP:20260421T192714Z
DESCRIPTION:8/30 Hlučín 'B' - Bohumín 2:3 (24\,-18\,22\,-16\,-9)
DTSTART;TZID=Europe/Berlin:20251112T185000
DTEND;TZID=Europe/Berlin:20251112T205000
LOCATION:, 21. dubna 105 Vřesina
SUMMARY:OV-Z-A: Hlučín 'B'-Bohumín
END:VEVENT
BEGIN:VEVENT
UID:33396532-3061-4166-b936-613531336138
DTSTAMP:20260421T192714Z
DESCRIPTION:10/39 Hlučín 'B' - Sokol Poruba 'A' 3:0 (23\,16\,10)
DTSTART;TZID=Europe/Berlin:20251210T185000
DTEND;TZID=Europe/Berlin:20251210T205000
LOCATION:, 21. dubna 105 Vřesina
SUMMARY:OV-Z-A: Hlučín 'B'-Sokol Poruba 'A'
END:VEVENT
BEGIN:VEVENT
UID:37323465-6234-4935-b339-633435326261
DTSTAMP:20260421T192714Z
DESCRIPTION:12/48 Hlučín 'B' - Kunčičky 'B' 3:0 (12\,19\,8)
DTSTART;TZID=Europe/Berlin:20260128T185000
DTEND;TZID=Europe/Berlin:20260128T205000
LOCATION:, 21. dubna 105 Vřesina
SUMMARY:OV-Z-A: Hlučín 'B'-Kunčičky 'B'
END:VEVENT
BEGIN:VEVENT
UID:63343730-3664-4338-b732-316239336436
DTSTAMP:20260421T192714Z
DESCRIPTION:13/49 Hlučín 'B' - Polanka-JKY 3:0 (18\,17\,16)
DTSTART;TZID=Europe/Berlin:20260204T185000
DTEND;TZID=Europe/Berlin:20260204T205000
LOCATION:, 21. dubna 105 Vřesina
SUMMARY:OV-Z-A: Hlučín 'B'-Polanka-JKY
END:VEVENT
BEGIN:VEVENT
UID:37373435-6434-4139-a136-373765353835
DTSTAMP:20260421T192714Z
DESCRIPTION:1/2 Bohumín - Hlučín 'B' 3:1 (18\,-22\,25\,19)
DTSTART;TZID=Europe/Berlin:20251118T200000
DTEND;TZID=Europe/Berlin:20251118T220000
LOCATION:Dům dětí a mládeže Bohumín\, Janáčkova 715 Bohumín - Nový Bohumín
SUMMARY:OV-Z-A: Bohumín-Hlučín 'B'
END:VEVENT
BEGIN:VEVENT
UID:36316565-3639-4463-b635-333564363237
DTSTAMP:20260421T192714Z
DESCRIPTION:3/11 Sokol Poruba 'A' - Hlučín 'B' 0:3 (-10\,-16\,-19)
DTSTART;TZID=Europe/Berlin:20250929T193000
DTEND;TZID=Europe/Berlin:20250929T213000
LOCATION:TJ Sokol Poruba\, Vřesinská 121 Ostrava - Poruba
SUMMARY:OV-Z-A: Sokol Poruba 'A'-Hlučín 'B'
END:VEVENT
BEGIN:VEVENT
UID:38613666-3666-4637-b264-386564343363
DTSTAMP:20260421T192714Z
DESCRIPTION:5/20 Kunčičky 'B' - Hlučín 'B' 0:3 (-22\,-22\,-17)
DTSTART;TZID=Europe/Berlin:20251015T185000
DTEND;TZID=Europe/Berlin:20251015T205000
LOCATION:Tělocvična ZŚ Rychvald\, Školní 1600 Rychvald
SUMMARY:OV-Z-A: Kunčičky 'B'-Hlučín 'B'
END:VEVENT
BEGIN:VEVENT
UID:35323165-6630-4933-b534-363338396139
DTSTAMP:20260421T192714Z
DESCRIPTION:6/21 Polanka-JKY - Hlučín 'B' 2:3 (13\,-15\,-8\,20\,-13)
DTSTART;TZID=Europe/Berlin:20260123T181000
DTEND;TZID=Europe/Berlin:20260123T201000
LOCATION:Sportovní hala\, Heleny Salichové 1275 Ostrava - Polanka nad Odrou
SUMMARY:OV-Z-A: Polanka-JKY-Hlučín 'B'
END:VEVENT
BEGIN:VEVENT
UID:33656565-3762-4133-b736-623333363666
DTSTAMP:20260421T192714Z
DESCRIPTION:9/35 Stará Bělá 'B' - Hlučín 'B' 1:3 (-14\,21\,-14\,-10)
DTSTART;TZID=Europe/Berlin:20251126T200000
DTEND;TZID=Europe/Berlin:20251126T220000
LOCATION:Sokolovna TJ Sokol Stará Bělá\, Junácká 6 Ostrava - Stará Bělá
SUMMARY:OV-Z-A: Stará Bělá 'B'-Hlučín 'B'
END:VEVENT
BEGIN:VEVENT
UID:33376231-3636-4331-b864-616662656236
DTSTAMP:20260421T192714Z
DESCRIPTION:14/56 Svinov 'A' - Hlučín 'B' 3:1 (-17\,23\,19\,19)
DTSTART;TZID=Europe/Berlin:20260211T192000
DTEND;TZID=Europe/Berlin:20260211T212000
LOCATION:MH Svinov\, Stanislavského 1270 Ostrava - Svinov
SUMMARY:OV-Z-A: Svinov 'A'-Hlučín 'B'
END:VEVENT
BEGIN:VEVENT
UID:39316537-6133-4236-b434-663866636563
DTSTAMP:20260421T192714Z
DESCRIPTION:1/3 Hlučín 'B' - Polanka n.O. 'C' 3:2 (23\,10\,-20\,-13\,7)
DTSTART;TZID=Europe/Berlin:20260401T185000
DTEND;TZID=Europe/Berlin:20260401T205000
LOCATION:, 21. dubna 105 Vřesina
SUMMARY:OV-Z-F: Hlučín 'B'-Polanka n.O. 'C'
END:VEVENT
BEGIN:VEVENT
UID:37313163-6238-4535-a534-316365613862
DTSTAMP:20260421T192714Z
DESCRIPTION:2/5 Hlučín 'B' - Svinov 'B' 3:2 (-20\,23\,15\,-18\,8)
DTSTART;TZID=Europe/Berlin:20260311T185000
DTEND;TZID=Europe/Berlin:20260311T205000
LOCATION:, 21. dubna 105 Vřesina
SUMMARY:OV-Z-F: Hlučín 'B'-Svinov 'B'
END:VEVENT
BEGIN:VEVENT
UID:66336235-6239-4438-a664-323163646138
DTSTAMP:20260421T192714Z
DESCRIPTION:3/8 Hlučín 'B' - Vratimov 3:0 (26\,13\,19)
DTSTART;TZID=Europe/Berlin:20260318T185000
DTEND;TZID=Europe/Berlin:20260318T205000
LOCATION:, 21. dubna 105 Vřesina
SUMMARY:OV-Z-F: Hlučín 'B'-Vratimov
END:VEVENT
BEGIN:VEVENT
UID:63333635-3963-4338-b361-633230366231
DTSTAMP:20260421T192714Z
DESCRIPTION:4/12 Polanka n.O. 'C' - Hlučín 'B' 0:3 (-24\,-8\,-23)
DTSTART;TZID=Europe/Berlin:20260324T185000
DTEND;TZID=Europe/Berlin:20260324T205000
LOCATION:Sportovní hala\, Heleny Salichové 1275 Ostrava - Polanka nad Odrou
SUMMARY:OV-Z-F: Polanka n.O. 'C'-Hlučín 'B'
END:VEVENT
BEGIN:VEVENT
UID:63336133-6362-4534-b265-366231363834
DTSTAMP:20260421T192714Z
DESCRIPTION:5/14 Svinov 'B' - Hlučín 'B'Štefek Ivan
DTSTART;TZID=Europe/Berlin:20260513T192000
DTEND;TZID=Europe/Berlin:20260513T212000
LOCATION:MH Svinov\, Stanislavského 1270 Ostrava - Svinov
SUMMARY:OV-Z-F: Svinov 'B'-Hlučín 'B'
END:VEVENT
BEGIN:VEVENT
UID:35386563-6532-4630-b761-646561393234
DTSTAMP:20260421T192714Z
DESCRIPTION:6/17 Vratimov - Hlučín 'B' 1:3 (-12\,-23\,22\,-21)
DTSTART;TZID=Europe/Berlin:20260421T184500
DTEND;TZID=Europe/Berlin:20260421T204500
LOCATION:Sportovní hala Nová Bělá\, Krmelínská 750 Ostrava - Nová Bělá
SUMMARY:OV-Z-F: Vratimov-Hlučín 'B'
END:VEVENT
END:VCALENDAR
