BEGIN:VCALENDAR
VERSION:2.0
PRODID:-//TJ Šumperk91139//NONSGML kigkonsult.se iCalcreator 2.41.80//
CALSCALE:GREGORIAN
UID:65633166-3037-4731-a363-646536653930
BEGIN:VEVENT
UID:30343637-6430-4436-b138-376564643534
DTSTAMP:20260422T075355Z
DESCRIPTION:1/1 TJ Šumperk - TJ Sokol Troubky 2:1 (20\,-25\,13)
DTSTART;TZID=Europe/Berlin:20251109T100000
DTEND;TZID=Europe/Berlin:20251109T120000
LOCATION:3. ZŠ Šumperk\, 8. května 870 Šumperk
SUMMARY:OLK-U16M-1: TJ Šumperk-TJ Sokol Troubky
END:VEVENT
BEGIN:VEVENT
UID:62646632-6238-4533-a131-666232303666
DTSTAMP:20260422T075355Z
DESCRIPTION:2/4 TJ Šumperk - VAM Olomouc 0:2 (-23\,-15)
DTSTART;TZID=Europe/Berlin:20251109T140000
DTEND;TZID=Europe/Berlin:20251109T160000
LOCATION:3. ZŠ Šumperk\, 8. května 870 Šumperk
SUMMARY:OLK-U16M-1: TJ Šumperk-VAM Olomouc
END:VEVENT
BEGIN:VEVENT
UID:63393630-3335-4433-b536-346634366330
DTSTAMP:20260422T075355Z
DESCRIPTION:3/6 SK Kojetín 2016 - TJ Šumperk 2:0 (9\,8)
DTSTART;TZID=Europe/Berlin:20251109T160000
DTEND;TZID=Europe/Berlin:20251109T180000
LOCATION:3. ZŠ Šumperk\, 8. května 870 Šumperk
SUMMARY:OLK-U16M-1: SK Kojetín 2016-TJ Šumperk
END:VEVENT
BEGIN:VEVENT
UID:62353330-6132-4135-a331-376565373437
DTSTAMP:20260422T075355Z
DESCRIPTION:2/4 TJ Šumperk - VAM Olomouc 0:2 (-15\,-19)
DTSTART;TZID=Europe/Berlin:20260118T140000
DTEND;TZID=Europe/Berlin:20260118T160000
LOCATION:Baluo\, U Letiště 976 Olomouc - Neředín
SUMMARY:OLK-U16M-2: TJ Šumperk-VAM Olomouc
END:VEVENT
BEGIN:VEVENT
UID:35393966-6566-4830-b436-373238636439
DTSTAMP:20260422T075355Z
DESCRIPTION:3/5 TJ Šumperk - TJ Sokol Troubky 2:0 (21\,19)
DTSTART;TZID=Europe/Berlin:20260118T160000
DTEND;TZID=Europe/Berlin:20260118T180000
LOCATION:Baluo\, U Letiště 976 Olomouc - Neředín
SUMMARY:OLK-U16M-2: TJ Šumperk-TJ Sokol Troubky
END:VEVENT
BEGIN:VEVENT
UID:62376563-3432-4339-a236-376534653936
DTSTAMP:20260422T075355Z
DESCRIPTION:1/2 SK Kojetín 2016 - TJ Šumperk 2:0 (11\,9)
DTSTART;TZID=Europe/Berlin:20260118T100000
DTEND;TZID=Europe/Berlin:20260118T120000
LOCATION:Baluo\, U Letiště 976 Olomouc - Neředín
SUMMARY:OLK-U16M-2: SK Kojetín 2016-TJ Šumperk
END:VEVENT
BEGIN:VEVENT
UID:66386363-6235-4332-b565-616463393830
DTSTAMP:20260422T075355Z
DESCRIPTION:2/4 TJ Šumperk - VAM Olomouc 1:2 (27\,-20\,-8)
DTSTART;TZID=Europe/Berlin:20260215T140000
DTEND;TZID=Europe/Berlin:20260215T160000
LOCATION:Městská sportovní hala\, Hanusíkova 1476 Kojetín - Kojetín I-Město
SUMMARY:OLK-U16M-3: TJ Šumperk-VAM Olomouc
END:VEVENT
BEGIN:VEVENT
UID:62663230-3438-4831-a366-343162323062
DTSTAMP:20260422T075355Z
DESCRIPTION:3/5 TJ Šumperk - TJ Sokol Troubky 2:0 (19\,12)
DTSTART;TZID=Europe/Berlin:20260215T160000
DTEND;TZID=Europe/Berlin:20260215T180000
LOCATION:Městská sportovní hala\, Hanusíkova 1476 Kojetín - Kojetín I-Město
SUMMARY:OLK-U16M-3: TJ Šumperk-TJ Sokol Troubky
END:VEVENT
BEGIN:VEVENT
UID:36363863-3061-4638-b862-323738616335
DTSTAMP:20260422T075355Z
DESCRIPTION:1/2 SK Kojetín 2016 - TJ Šumperk 2:0 (13\,13)
DTSTART;TZID=Europe/Berlin:20260215T100000
DTEND;TZID=Europe/Berlin:20260215T120000
LOCATION:Městská sportovní hala\, Hanusíkova 1476 Kojetín - Kojetín I-Město
SUMMARY:OLK-U16M-3: SK Kojetín 2016-TJ Šumperk
END:VEVENT
BEGIN:VEVENT
UID:37636665-3962-4631-b933-343237376363
DTSTAMP:20260422T075355Z
DESCRIPTION:2/4 TJ Šumperk - VAM Olomouc 0:2 (-18\,-17)
DTSTART;TZID=Europe/Berlin:20260315T140000
DTEND;TZID=Europe/Berlin:20260315T160000
LOCATION:Sportovní hala\, Sportovní 744 Troubky
SUMMARY:OLK-U16M-4: TJ Šumperk-VAM Olomouc
END:VEVENT
BEGIN:VEVENT
UID:31616365-3930-4632-b462-633434373862
DTSTAMP:20260422T075355Z
DESCRIPTION:3/5 TJ Šumperk - TJ Sokol Troubky 2:0 (19\,23)
DTSTART;TZID=Europe/Berlin:20260315T160000
DTEND;TZID=Europe/Berlin:20260315T180000
LOCATION:Sportovní hala\, Sportovní 744 Troubky
SUMMARY:OLK-U16M-4: TJ Šumperk-TJ Sokol Troubky
END:VEVENT
BEGIN:VEVENT
UID:33333261-6131-4432-b861-346530316232
DTSTAMP:20260422T075355Z
DESCRIPTION:1/2 SK Kojetín 2016 - TJ Šumperk 2:0 (9\,18)
DTSTART;TZID=Europe/Berlin:20260315T100000
DTEND;TZID=Europe/Berlin:20260315T120000
LOCATION:Sportovní hala\, Sportovní 744 Troubky
SUMMARY:OLK-U16M-4: SK Kojetín 2016-TJ Šumperk
END:VEVENT
END:VCALENDAR
