BEGIN:VCALENDAR
VERSION:2.0
PRODID:-//Tělocvičná jednota Sokol Radomyšl91156//NONSGML kigkonsult.se iCalcreator 2.41.80//
CALSCALE:GREGORIAN
UID:62616537-3333-4634-b664-383831656432
BEGIN:VEVENT
UID:33383834-6638-4133-a165-313734623035
DTSTAMP:20260421T210130Z
DESCRIPTION:3/15 TJ Sokol Radomyšl - SK Špaček 3:0 (17\,22\,18)
DTSTART;TZID=Europe/Berlin:20251012T180000
DTEND;TZID=Europe/Berlin:20251012T200000
LOCATION:ZŠ Radomyšl\, Školní 187 Radomyšl
SUMMARY:JC-Z-2A: TJ Sokol Radomyšl-SK Špaček
END:VEVENT
BEGIN:VEVENT
UID:62633537-6336-4366-a536-633938663839
DTSTAMP:20260421T210130Z
DESCRIPTION:5/24 TJ Sokol Radomyšl - SK Otava Písek 3:0 (18\,18\,22)
DTSTART;TZID=Europe/Berlin:20250924T170000
DTEND;TZID=Europe/Berlin:20250924T190000
LOCATION:ZŠ Radomyšl\, Školní 187 Radomyšl
SUMMARY:JC-Z-2A: TJ Sokol Radomyšl-SK Otava Písek
END:VEVENT
BEGIN:VEVENT
UID:61386661-6532-4334-b961-626337313361
DTSTAMP:20260421T210130Z
DESCRIPTION:7/33 TJ Sokol Radomyšl - TJ Sokol Křemže 3:0 (23\,14\,21)
DTSTART;TZID=Europe/Berlin:20251008T170000
DTEND;TZID=Europe/Berlin:20251008T190000
LOCATION:ZŠ Radomyšl\, Školní 187 Radomyšl
SUMMARY:JC-Z-2A: TJ Sokol Radomyšl-TJ Sokol Křemže
END:VEVENT
BEGIN:VEVENT
UID:31383133-3530-4134-a434-363332393666
DTSTAMP:20260421T210130Z
DESCRIPTION:9/42 TJ Sokol Radomyšl - TJ Meteor ČB C 3:0 (14\,17\,17)
DTSTART;TZID=Europe/Berlin:20251208T180000
DTEND;TZID=Europe/Berlin:20251208T200000
LOCATION:ZŠ Radomyšl\, Školní 187 Radomyšl
SUMMARY:JC-Z-2A: TJ Sokol Radomyšl-TJ Meteor ČB C
END:VEVENT
BEGIN:VEVENT
UID:32333931-3431-4166-b337-623737373461
DTSTAMP:20260421T210130Z
DESCRIPTION:10/50 TJ Sokol Radomyšl - VSK Slavia JU ČB 3:2 (-18\,8\,16\,-27
 \,11)
DTSTART;TZID=Europe/Berlin:20251126T173000
DTEND;TZID=Europe/Berlin:20251126T193000
LOCATION:ZŠ Radomyšl\, Školní 187 Radomyšl
SUMMARY:JC-Z-2A: TJ Sokol Radomyšl-VSK Slavia JU ČB
END:VEVENT
BEGIN:VEVENT
UID:64623865-3462-4465-b739-623865316364
DTSTAMP:20260421T210130Z
DESCRIPTION:13/62 TJ Sokol Radomyšl - VSK Český KrumlovPeller Adam
DTSTART;TZID=Europe/Berlin:20260429T173000
DTEND;TZID=Europe/Berlin:20260429T193000
LOCATION:ZŠ Radomyšl\, Školní 187 Radomyšl
SUMMARY:JC-Z-2A: TJ Sokol Radomyšl-VSK Český Krumlov
END:VEVENT
BEGIN:VEVENT
UID:63353733-6335-4736-b236-616361346538
DTSTAMP:20260421T210130Z
DESCRIPTION:15/73 TJ Sokol Radomyšl - TJ Tatran PrachaticePeller Adam
DTSTART;TZID=Europe/Berlin:20260513T173000
DTEND;TZID=Europe/Berlin:20260513T193000
LOCATION:ZŠ Radomyšl\, Školní 187 Radomyšl
SUMMARY:JC-Z-2A: TJ Sokol Radomyšl-TJ Tatran Prachatice
END:VEVENT
BEGIN:VEVENT
UID:65313566-6230-4731-b261-383735363066
DTSTAMP:20260421T210130Z
DESCRIPTION:17/84 TJ Sokol Radomyšl - TJ Hluboká n. Vlt. BŠkarvada Miroslav
DTSTART;TZID=Europe/Berlin:20260527T173000
DTEND;TZID=Europe/Berlin:20260527T193000
LOCATION:ZŠ Radomyšl\, Školní 187 Radomyšl
SUMMARY:JC-Z-2A: TJ Sokol Radomyšl-TJ Hluboká n. Vlt. B
END:VEVENT
BEGIN:VEVENT
UID:66333836-3735-4065-b731-326432376565
DTSTAMP:20260421T210130Z
DESCRIPTION:1/5 VSK Slavia JU ČB - TJ Sokol Radomyšl 0:3 (-21\,-23\,-19)
DTSTART;TZID=Europe/Berlin:20251020T190000
DTEND;TZID=Europe/Berlin:20251020T210000
LOCATION:ZŠ a ZUŠ Bezdrevská 3\, Bezdrevská 1036 České Budějovice - České B
 udějovice 2
SUMMARY:JC-Z-2A: VSK Slavia JU ČB-TJ Sokol Radomyšl
END:VEVENT
BEGIN:VEVENT
UID:65356637-3636-4165-a433-636131303032
DTSTAMP:20260421T210130Z
DESCRIPTION:4/17 VSK Český Krumlov - TJ Sokol Radomyšl 3:2 (-24\,-21\,26\,1
 7\,10)
DTSTART;TZID=Europe/Berlin:20250922T193000
DTEND;TZID=Europe/Berlin:20250922T213000
LOCATION:ZŠ Za Nádražím Český Krumlov\, Za Nádražím 222 Český Krumlov - Nád
 ražní Předměstí
SUMMARY:JC-Z-2A: VSK Český Krumlov-TJ Sokol Radomyšl
END:VEVENT
BEGIN:VEVENT
UID:31353235-3836-4362-b937-303733303066
DTSTAMP:20260421T210130Z
DESCRIPTION:6/28 TJ Tatran Prachatice - TJ Sokol Radomyšl 2:3 (-19\,-17\,19
 \,18\,-13)
DTSTART;TZID=Europe/Berlin:20251119T180000
DTEND;TZID=Europe/Berlin:20251119T200000
LOCATION:, U Stadionu 764 Prachatice - Prachatice II
SUMMARY:JC-Z-2A: TJ Tatran Prachatice-TJ Sokol Radomyšl
END:VEVENT
BEGIN:VEVENT
UID:31633733-3431-4832-b935-306138346339
DTSTAMP:20260421T210130Z
DESCRIPTION:8/39 TJ Hluboká n. Vlt. B - TJ Sokol Radomyšl 1:3 (-14\,23\,-14
 \,-10)
DTSTART;TZID=Europe/Berlin:20250929T183000
DTEND;TZID=Europe/Berlin:20250929T203000
LOCATION:ZŠ Hluboká\, Karla Čapka 800 Hluboká nad Vltavou
SUMMARY:JC-Z-2A: TJ Hluboká n. Vlt. B-TJ Sokol Radomyšl
END:VEVENT
BEGIN:VEVENT
UID:32323061-3065-4362-a562-323835643333
DTSTAMP:20260421T210130Z
DESCRIPTION:12/60 SK Špaček - TJ Sokol RadomyšlVondrášek Josef
DTSTART;TZID=Europe/Berlin:20260525T173000
DTEND;TZID=Europe/Berlin:20260525T193000
LOCATION:, U Červeného dvora 73 České Budějovice - České Budějovice 6
SUMMARY:JC-Z-2A: SK Špaček-TJ Sokol Radomyšl
END:VEVENT
BEGIN:VEVENT
UID:63366665-3234-4539-a233-376466613635
DTSTAMP:20260421T210130Z
DESCRIPTION:14/69 SK Otava Písek - TJ Sokol Radomyšl
DTSTART;TZID=Europe/Berlin:20260507T173000
DTEND;TZID=Europe/Berlin:20260507T193000
LOCATION:Střední lesnická škola\, Lesnická 55 Písek - Václavské Předměstí
SUMMARY:JC-Z-2A: SK Otava Písek-TJ Sokol Radomyšl
END:VEVENT
BEGIN:VEVENT
UID:65353538-6330-4363-b062-393263333762
DTSTAMP:20260421T210130Z
DESCRIPTION:16/78 TJ Sokol Křemže - TJ Sokol Radomyšl
DTSTART;TZID=Europe/Berlin:20260520T173000
DTEND;TZID=Europe/Berlin:20260520T193000
LOCATION:Tělocvična Křemže\, Školní 182 Křemže
SUMMARY:JC-Z-2A: TJ Sokol Křemže-TJ Sokol Radomyšl
END:VEVENT
BEGIN:VEVENT
UID:36613236-3336-4137-b734-623964623839
DTSTAMP:20260421T210130Z
DESCRIPTION:18/87 TJ Meteor ČB C - TJ Sokol Radomyšl
DTSTART;TZID=Europe/Berlin:20260603T173000
DTEND;TZID=Europe/Berlin:20260603T193000
LOCATION:TJ Meteor České Budějovice z.s.\, Jana Kollára 2316 České Budějovi
 ce - České Budějovice 7
SUMMARY:JC-Z-2A: TJ Meteor ČB C-TJ Sokol Radomyšl
END:VEVENT
END:VCALENDAR
