BEGIN:VCALENDAR
VERSION:2.0
PRODID:-//SK Špaček91158//NONSGML kigkonsult.se iCalcreator 2.41.80//
CALSCALE:GREGORIAN
UID:38386232-6136-4730-b136-363564643664
BEGIN:VEVENT
UID:66623530-3131-4439-b830-613931343332
DTSTAMP:20260421T210137Z
DESCRIPTION:2/7 SK Špaček - VSK Slavia JU ČB 3:0 (23\,14\,17)
DTSTART;TZID=Europe/Berlin:20250917T170000
DTEND;TZID=Europe/Berlin:20250917T190000
LOCATION:, U Červeného dvora 73 České Budějovice - České Budějovice 6
SUMMARY:JC-Z-2A: SK Špaček-VSK Slavia JU ČB
END:VEVENT
BEGIN:VEVENT
UID:35303266-3761-4634-a563-353438353932
DTSTAMP:20260421T210137Z
DESCRIPTION:5/25 SK Špaček - VSK Český Krumlov 3:2 (-9\,11\,-16\,24\,15)
DTSTART;TZID=Europe/Berlin:20250924T203000
DTEND;TZID=Europe/Berlin:20250924T223000
LOCATION:, U Červeného dvora 73 České Budějovice - České Budějovice 6
SUMMARY:JC-Z-2A: SK Špaček-VSK Český Krumlov
END:VEVENT
BEGIN:VEVENT
UID:32663865-3036-4238-b065-333663353861
DTSTAMP:20260421T210137Z
DESCRIPTION:9/43 SK Špaček - TJ Hluboká n. Vlt. B 3:0 (9\,9\,12)
DTSTART;TZID=Europe/Berlin:20251020T203000
DTEND;TZID=Europe/Berlin:20251020T223000
LOCATION:, U Červeného dvora 73 České Budějovice - České Budějovice 6
SUMMARY:JC-Z-2A: SK Špaček-TJ Hluboká n. Vlt. B
END:VEVENT
BEGIN:VEVENT
UID:31666136-3161-4936-b062-356438633134
DTSTAMP:20260421T210137Z
DESCRIPTION:10/49 SK Špaček - TJ Meteor ČB C
DTSTART;TZID=Europe/Berlin:20260518T173000
DTEND;TZID=Europe/Berlin:20260518T193000
LOCATION:, U Červeného dvora 73 České Budějovice - České Budějovice 6
SUMMARY:JC-Z-2A: SK Špaček-TJ Meteor ČB C
END:VEVENT
BEGIN:VEVENT
UID:35356236-3938-4434-b637-353830346237
DTSTAMP:20260421T210137Z
DESCRIPTION:12/60 SK Špaček - TJ Sokol RadomyšlVondrášek Josef
DTSTART;TZID=Europe/Berlin:20260525T173000
DTEND;TZID=Europe/Berlin:20260525T193000
LOCATION:, U Červeného dvora 73 České Budějovice - České Budějovice 6
SUMMARY:JC-Z-2A: SK Špaček-TJ Sokol Radomyšl
END:VEVENT
BEGIN:VEVENT
UID:39316164-3435-4532-b266-663836383035
DTSTAMP:20260421T210137Z
DESCRIPTION:15/72 SK Špaček - SK Otava Písek
DTSTART;TZID=Europe/Berlin:20260513T173000
DTEND;TZID=Europe/Berlin:20260513T193000
LOCATION:, U Červeného dvora 73 České Budějovice - České Budějovice 6
SUMMARY:JC-Z-2A: SK Špaček-SK Otava Písek
END:VEVENT
BEGIN:VEVENT
UID:32383162-3732-4537-b937-306566646538
DTSTAMP:20260421T210137Z
DESCRIPTION:16/79 SK Špaček - TJ Tatran Prachatice
DTSTART;TZID=Europe/Berlin:20260520T173000
DTEND;TZID=Europe/Berlin:20260520T193000
LOCATION:, U Červeného dvora 73 České Budějovice - České Budějovice 6
SUMMARY:JC-Z-2A: SK Špaček-TJ Tatran Prachatice
END:VEVENT
BEGIN:VEVENT
UID:32666363-3238-4639-b935-386435623930
DTSTAMP:20260421T210137Z
DESCRIPTION:17/83 SK Špaček - TJ Sokol Křemže
DTSTART;TZID=Europe/Berlin:20260527T173000
DTEND;TZID=Europe/Berlin:20260527T193000
LOCATION:, U Červeného dvora 73 České Budějovice - České Budějovice 6
SUMMARY:JC-Z-2A: SK Špaček-TJ Sokol Křemže
END:VEVENT
BEGIN:VEVENT
UID:61393061-3934-4166-b661-303465373730
DTSTAMP:20260421T210137Z
DESCRIPTION:1/4 TJ Meteor ČB C - SK Špaček 3:0 (18\,22\,21)
DTSTART;TZID=Europe/Berlin:20250922T170000
DTEND;TZID=Europe/Berlin:20250922T190000
LOCATION:TJ Meteor České Budějovice z.s.\, Jana Kollára 2316 České Budějovi
 ce - České Budějovice 7
SUMMARY:JC-Z-2A: TJ Meteor ČB C-SK Špaček
END:VEVENT
BEGIN:VEVENT
UID:65666561-3464-4034-b561-393561383234
DTSTAMP:20260421T210137Z
DESCRIPTION:3/15 TJ Sokol Radomyšl - SK Špaček 3:0 (17\,22\,18)
DTSTART;TZID=Europe/Berlin:20251012T180000
DTEND;TZID=Europe/Berlin:20251012T200000
LOCATION:ZŠ Radomyšl\, Školní 187 Radomyšl
SUMMARY:JC-Z-2A: TJ Sokol Radomyšl-SK Špaček
END:VEVENT
BEGIN:VEVENT
UID:32383836-3039-4666-b630-653639623537
DTSTAMP:20260421T210137Z
DESCRIPTION:6/27 SK Otava Písek - SK Špaček 0:3 (-20\,-23\,-20)
DTSTART;TZID=Europe/Berlin:20251002T183000
DTEND;TZID=Europe/Berlin:20251002T203000
LOCATION:Střední lesnická škola\, Lesnická 55 Písek - Václavské Předměstí
SUMMARY:JC-Z-2A: SK Otava Písek-SK Špaček
END:VEVENT
BEGIN:VEVENT
UID:65313432-3438-4932-b931-613630383439
DTSTAMP:20260421T210137Z
DESCRIPTION:7/34 TJ Tatran Prachatice - SK Špaček 0:3 (-16\,-12\,-18)
DTSTART;TZID=Europe/Berlin:20251126T183000
DTEND;TZID=Europe/Berlin:20251126T203000
LOCATION:, U Stadionu 764 Prachatice - Prachatice II
SUMMARY:JC-Z-2A: TJ Tatran Prachatice-SK Špaček
END:VEVENT
BEGIN:VEVENT
UID:65623432-6361-4636-b666-316261376265
DTSTAMP:20260421T210137Z
DESCRIPTION:8/38 TJ Sokol Křemže - SK Špaček 0:3 (-14\,-22\,-25)
DTSTART;TZID=Europe/Berlin:20260122T183000
DTEND;TZID=Europe/Berlin:20260122T203000
LOCATION:Tělocvična Křemže\, Školní 182 Křemže
SUMMARY:JC-Z-2A: TJ Sokol Křemže-SK Špaček
END:VEVENT
BEGIN:VEVENT
UID:30346266-6138-4861-b166-363165623165
DTSTAMP:20260421T210137Z
DESCRIPTION:11/52 VSK Slavia JU ČB - SK Špaček 2:3 (-22\,-27\,22\,10\,-11)
DTSTART;TZID=Europe/Berlin:20251103T190000
DTEND;TZID=Europe/Berlin:20251103T210000
LOCATION:ZŠ a ZUŠ Bezdrevská 3\, Bezdrevská 1036 České Budějovice - České B
 udějovice 2
SUMMARY:JC-Z-2A: VSK Slavia JU ČB-SK Špaček
END:VEVENT
BEGIN:VEVENT
UID:61343432-6163-4563-a231-366639363737
DTSTAMP:20260421T210137Z
DESCRIPTION:14/70 VSK Český Krumlov - SK ŠpačekŠubrt Martin
DTSTART;TZID=Europe/Berlin:20260427T193000
DTEND;TZID=Europe/Berlin:20260427T213000
LOCATION:ZŠ Za Nádražím Český Krumlov\, Za Nádražím 222 Český Krumlov - Nád
 ražní Předměstí
SUMMARY:JC-Z-2A: VSK Český Krumlov-SK Špaček
END:VEVENT
BEGIN:VEVENT
UID:37313131-3862-4662-a338-636131373632
DTSTAMP:20260421T210137Z
DESCRIPTION:18/88 TJ Hluboká n. Vlt. B - SK Špaček
DTSTART;TZID=Europe/Berlin:20260603T173000
DTEND;TZID=Europe/Berlin:20260603T193000
LOCATION:ZŠ Hluboká\, Karla Čapka 800 Hluboká nad Vltavou
SUMMARY:JC-Z-2A: TJ Hluboká n. Vlt. B-SK Špaček
END:VEVENT
END:VCALENDAR
